BEGIN:VCALENDAR
VERSION:2.0
PRODID:-//jEvents 2.0 for Joomla//EN
CALSCALE:GREGORIAN
METHOD:PUBLISH
BEGIN:VTIMEZONE
TZID:America/Tijuana
BEGIN:STANDARD
DTSTART:20221106T010000
RDATE:20230312T030000
TZOFFSETFROM:-0700
TZOFFSETTO:-0800
TZNAME:America/Tijuana PST
END:STANDARD
BEGIN:STANDARD
DTSTART:20231105T010000
RDATE:20240310T030000
TZOFFSETFROM:-0700
TZOFFSETTO:-0800
TZNAME:America/Tijuana PST
END:STANDARD
BEGIN:STANDARD
DTSTART:20241103T010000
RDATE:20250309T030000
TZOFFSETFROM:-0700
TZOFFSETTO:-0800
TZNAME:America/Tijuana PST
END:STANDARD
BEGIN:STANDARD
DTSTART:20251102T010000
RDATE:20260308T030000
TZOFFSETFROM:-0700
TZOFFSETTO:-0800
TZNAME:America/Tijuana PST
END:STANDARD
BEGIN:STANDARD
DTSTART:20261101T010000
RDATE:20270314T030000
TZOFFSETFROM:-0700
TZOFFSETTO:-0800
TZNAME:America/Tijuana PST
END:STANDARD
BEGIN:STANDARD
DTSTART:20271107T010000
RDATE:20280312T030000
TZOFFSETFROM:-0700
TZOFFSETTO:-0800
TZNAME:America/Tijuana PST
END:STANDARD
BEGIN:DAYLIGHT
DTSTART:20220329T093000
RDATE:20221106T010000
TZOFFSETFROM:-0800
TZOFFSETTO:-0700
TZNAME:America/Tijuana PDT
END:DAYLIGHT
BEGIN:DAYLIGHT
DTSTART:20230312T030000
RDATE:20231105T010000
TZOFFSETFROM:-0800
TZOFFSETTO:-0700
TZNAME:America/Tijuana PDT
END:DAYLIGHT
BEGIN:DAYLIGHT
DTSTART:20240310T030000
RDATE:20241103T010000
TZOFFSETFROM:-0800
TZOFFSETTO:-0700
TZNAME:America/Tijuana PDT
END:DAYLIGHT
BEGIN:DAYLIGHT
DTSTART:20250309T030000
RDATE:20251102T010000
TZOFFSETFROM:-0800
TZOFFSETTO:-0700
TZNAME:America/Tijuana PDT
END:DAYLIGHT
BEGIN:DAYLIGHT
DTSTART:20260308T030000
RDATE:20261101T010000
TZOFFSETFROM:-0800
TZOFFSETTO:-0700
TZNAME:America/Tijuana PDT
END:DAYLIGHT
BEGIN:DAYLIGHT
DTSTART:20270314T030000
RDATE:20271107T010000
TZOFFSETFROM:-0800
TZOFFSETTO:-0700
TZNAME:America/Tijuana PDT
END:DAYLIGHT
END:VTIMEZONE
BEGIN:VEVENT
UID:e6fa4b6b9c529e744a053800bf4fa429
CATEGORIES:Field Trips
CREATED:20230227T132055
SUMMARY:Red Hills (Tuolumne County)
LOCATION:Red Hills (Tuolumne County)
DESCRIPTION:<div class="page" title="Page 8"><div class="layoutArea"><div class="column
 "><p>Red Hills is a foothill Sierran serpentine region in Tuolumne County, 
 about a two-hour drive from the Bay Area. Join co-leaders Janet Hoffmann an
 d Joe Cernac as we observe, heads bowed to the ground, this flora-rich area
 .</p><p>We will walk two sections, observing what we hope to be an early pe
 ak blooming, at the shoulder season between winter and spring. Rare serpent
 ine endemics Eriogonum tripodum, Chlorogalum grandiflorum and Allium tuolum
 nense are present. Hopefully bitterroot (Lewisia rediviva) will be in bloom
 .</p><p>We will meet at the main parking lot at <strong>9:30am</strong>. Th
 ere is a restroom at the parking lot.</p><p>Space is limited. No drop-ins p
 lease. For more information including directions and to <strong>reserve you
 r spot</strong>, please email the trip leaders. Janet may be reached at <sp
 an id="cloak8f8fefb1eff3d0a8251ca722bc74227f">This email address is being p
 rotected from spambots. You need JavaScript enabled to view it.</span><scri
 pt type='text/javascript'>
				document.getElementById('cloak8f8fefb1eff3d0
 a8251ca722bc74227f').innerHTML = '';
				var prefix = '&#109;a' + 'i&#108;'
  + '&#116;o';
				var path = 'hr' + 'ef' + '=';
				var addy8f8fefb1eff3d0a
 8251ca722bc74227f = 'j&#97;n&#101;t' + '&#64;';
				addy8f8fefb1eff3d0a8251
 ca722bc74227f = addy8f8fefb1eff3d0a8251ca722bc74227f + 'h&#111;ffm&#97;nn' 
 + '&#46;' + 'n&#101;t';
				var addy_text8f8fefb1eff3d0a8251ca722bc74227f =
  'j&#97;n&#101;t' + '&#64;' + 'h&#111;ffm&#97;nn' + '&#46;' + 'n&#101;t';do
 cument.getElementById('cloak8f8fefb1eff3d0a8251ca722bc74227f').innerHTML +=
  '<a ' + path + '\'' + prefix + ':' + addy8f8fefb1eff3d0a8251ca722bc74227f 
 + '\'>'+addy_text8f8fefb1eff3d0a8251ca722bc74227f+'<\/a>';
		</script> and 
 Joe may be reached at <a href="mailto:joecernac@scglobal.net."><span id="cl
 oakd2b6b955145a6bcd21d6e55401ed2029">This email address is being protected 
 from spambots. You need JavaScript enabled to view it.</span><script type='
 text/javascript'>
				document.getElementById('cloakd2b6b955145a6bcd21d6e55
 401ed2029').innerHTML = '';
				var prefix = '&#109;a' + 'i&#108;' + '&#116
 ;o';
				var path = 'hr' + 'ef' + '=';
				var addyd2b6b955145a6bcd21d6e554
 01ed2029 = 'j&#111;&#101;c&#101;rn&#97;c' + '&#64;';
				addyd2b6b955145a6b
 cd21d6e55401ed2029 = addyd2b6b955145a6bcd21d6e55401ed2029 + 'scgl&#111;b&#9
 7;l' + '&#46;' + 'n&#101;t';
				var addy_textd2b6b955145a6bcd21d6e55401ed2
 029 = 'j&#111;&#101;c&#101;rn&#97;c' + '&#64;' + 'scgl&#111;b&#97;l' + '&#4
 6;' + 'n&#101;t';document.getElementById('cloakd2b6b955145a6bcd21d6e55401ed
 2029').innerHTML += '<a ' + path + '\'' + prefix + ':' + addyd2b6b955145a6b
 cd21d6e55401ed2029 + '\'>'+addy_textd2b6b955145a6bcd21d6e55401ed2029+'<\/a>
 ';
		</script>.</a></p><p>Park website: <a href="https://www.blm.gov/visit/
 red-hills-recreation-management-area">www.blm.gov/visit/red-hills-recreatio
 n-management-area</a></p></div></div></div>
CONTACT:Janet may be reached at This email address is being protected from spambots. You need JavaScript enabled to view it.
				document.getElementById('cloak0c2b7613d53abbe020a88c01cb480c0d').innerHTML = '';
				var prefix = '&#109;a' + 'i&#108;' + '&#116;o';
				var path = 'hr' + 'ef' + '=';
				var addy0c2b7613d53abbe020a88c01cb480c0d = 'j&#97;n&#101;t' + '&#64;';
				addy0c2b7613d53abbe020a88c01cb480c0d = addy0c2b7613d53abbe020a88c01cb480c0d + 'h&#111;ffm&#97;nn' + '&#46;' + 'n&#101;t';
				var addy_text0c2b7613d53abbe020a88c01cb480c0d = 'j&#97;n&#101;t' + '&#64;' + 'h&#111;ffm&#97;nn' + '&#46;' + 'n&#101;t';document.getElementById('cloak0c2b7613d53abbe020a88c01cb480c0d').innerHTML += '<a ' + path + '\'' + prefix + ':' + addy0c2b7613d53abbe020a88c01cb480c0d + '\'>'+addy_text0c2b7613d53abbe020a88c01cb480c0d+'';
		 and Joe may be reached at This email address is being protected from spambots. You need JavaScript enabled to view it.
				document.getElementById('cloakd338191b1a08abedcbf34a770c4ae689').innerHTML = '';
				var prefix = '&#109;a' + 'i&#108;' + '&#116;o';
				var path = 'hr' + 'ef' + '=';
				var addyd338191b1a08abedcbf34a770c4ae689 = 'j&#111;&#101;c&#101;rn&#97;c' + '&#64;';
				addyd338191b1a08abedcbf34a770c4ae689 = addyd338191b1a08abedcbf34a770c4ae689 + 'scgl&#111;b&#97;l' + '&#46;' + 'n&#101;t';
				var addy_textd338191b1a08abedcbf34a770c4ae689 = 'j&#111;&#101;c&#101;rn&#97;c' + '&#64;' + 'scgl&#111;b&#97;l' + '&#46;' + 'n&#101;t';document.getElementById('cloakd338191b1a08abedcbf34a770c4ae689').innerHTML += '<a ' + path + '\'' + prefix + ':' + addyd338191b1a08abedcbf34a770c4ae689 + '\'>'+addy_textd338191b1a08abedcbf34a770c4ae689+'';
		.
DTSTAMP:20260425T232104
DTSTART;TZID=America/Tijuana:20230330T093000
SEQUENCE:0
TRANSP:OPAQUE
END:VEVENT
END:VCALENDAR