BEGIN:VCALENDAR
VERSION:2.0
PRODID:-//jEvents 2.0 for Joomla//EN
CALSCALE:GREGORIAN
METHOD:PUBLISH
BEGIN:VTIMEZONE
TZID:America/Tijuana
BEGIN:STANDARD
DTSTART:20221106T010000
RDATE:20230312T030000
TZOFFSETFROM:-0700
TZOFFSETTO:-0800
TZNAME:America/Tijuana PST
END:STANDARD
BEGIN:STANDARD
DTSTART:20231105T010000
RDATE:20240310T030000
TZOFFSETFROM:-0700
TZOFFSETTO:-0800
TZNAME:America/Tijuana PST
END:STANDARD
BEGIN:STANDARD
DTSTART:20241103T010000
RDATE:20250309T030000
TZOFFSETFROM:-0700
TZOFFSETTO:-0800
TZNAME:America/Tijuana PST
END:STANDARD
BEGIN:STANDARD
DTSTART:20251102T010000
RDATE:20260308T030000
TZOFFSETFROM:-0700
TZOFFSETTO:-0800
TZNAME:America/Tijuana PST
END:STANDARD
BEGIN:STANDARD
DTSTART:20261101T010000
RDATE:20270314T030000
TZOFFSETFROM:-0700
TZOFFSETTO:-0800
TZNAME:America/Tijuana PST
END:STANDARD
BEGIN:STANDARD
DTSTART:20271107T010000
RDATE:20280312T030000
TZOFFSETFROM:-0700
TZOFFSETTO:-0800
TZNAME:America/Tijuana PST
END:STANDARD
BEGIN:DAYLIGHT
DTSTART:20220504T190000
RDATE:20221106T010000
TZOFFSETFROM:-0800
TZOFFSETTO:-0700
TZNAME:America/Tijuana PDT
END:DAYLIGHT
BEGIN:DAYLIGHT
DTSTART:20230312T030000
RDATE:20231105T010000
TZOFFSETFROM:-0800
TZOFFSETTO:-0700
TZNAME:America/Tijuana PDT
END:DAYLIGHT
BEGIN:DAYLIGHT
DTSTART:20240310T030000
RDATE:20241103T010000
TZOFFSETFROM:-0800
TZOFFSETTO:-0700
TZNAME:America/Tijuana PDT
END:DAYLIGHT
BEGIN:DAYLIGHT
DTSTART:20250309T030000
RDATE:20251102T010000
TZOFFSETFROM:-0800
TZOFFSETTO:-0700
TZNAME:America/Tijuana PDT
END:DAYLIGHT
BEGIN:DAYLIGHT
DTSTART:20260308T030000
RDATE:20261101T010000
TZOFFSETFROM:-0800
TZOFFSETTO:-0700
TZNAME:America/Tijuana PDT
END:DAYLIGHT
BEGIN:DAYLIGHT
DTSTART:20270314T030000
RDATE:20271107T010000
TZOFFSETFROM:-0800
TZOFFSETTO:-0700
TZNAME:America/Tijuana PDT
END:DAYLIGHT
END:VTIMEZONE
BEGIN:VEVENT
UID:81bd53ccb81ebc8c7fc7b12cfa0df676
CATEGORIES:Native Plant Talks
CREATED:20230417T192012
SUMMARY:Integrated Pest Management, a talk by Frank Niccoli
LOCATION:Los Altos Library\, Orchard Room\, 13 So. San Antonio Road\, Los Altos
DESCRIPTION:<div class="page" title="Page 1"><div class="layoutArea"><div class="column
 "><p>To spray, or not to spray, that is the question:<br /> Whether ’tis no
 bler in the mind to suffer <br /> The slings and arrows of outrageous insec
 ts, <br /> Or to take arms against a sea of aphids<br /> And by spraying, e
 nd them.</p><p>The bard asks the same questions we ponder regarding pestici
 de use. Did you know that there is a method of pest control that is much sa
 fer for you and the environment? Join Frank Niccoli for two tantalizing hou
 rs to learn about Integrated Pest Management.</p><p>Frank Niccoli has been 
 a gardener for over 55 years. He has written the curriculum and teaches num
 erous classes at Foothill College. His classes include: Ground Cover and Vi
 nes, Shrubs, California Natives, Landscape Lighting, Integrated Pest Manage
 ment, Sustainable Integrated Pest Management and Veggie Gardens.</p><p>Fran
 k is the past president of the founding chapter of the California Landscape
  Contractors Association. He teaches from the perspective of a contractor w
 ho has been in the business for 32 years and with a passion for sustainabil
 ity and environmental stewardship.</p><div class="page" title="Page 2"><div
  class="layoutArea"><div class="column"><p>Directions to the Los Altos Libr
 ary, for both talks: From Foothill Expy., travel 1⁄2 mile on San Antonio Rd
 . towards the Bay, cross Hillview and turn right into the driveway; library
  is on the left. From El Camino, travel towards the hills on San Antonio Rd
 ., cross Edith and turn left into the unmarked driveway just before Hillvie
 w. The sign on San Antonio Rd. reads “Civic Center, Library and History Mus
 eum.” Enter through the lobby of the main entrance.</p></div></div></div></
 div></div></div>
DTSTAMP:20260423T092925
DTSTART;TZID=America/Tijuana:20230505T190000
DTEND;TZID=America/Tijuana:20230505T203000
SEQUENCE:0
TRANSP:OPAQUE
END:VEVENT
END:VCALENDAR