BEGIN:VCALENDAR
VERSION:2.0
PRODID:-//jEvents 2.0 for Joomla//EN
CALSCALE:GREGORIAN
METHOD:PUBLISH
BEGIN:VTIMEZONE
TZID:America/Tijuana
BEGIN:STANDARD
DTSTART:20221108T190000
RDATE:20230312T030000
TZOFFSETFROM:-0700
TZOFFSETTO:-0800
TZNAME:America/Tijuana PST
END:STANDARD
BEGIN:STANDARD
DTSTART:20231105T010000
RDATE:20240310T030000
TZOFFSETFROM:-0700
TZOFFSETTO:-0800
TZNAME:America/Tijuana PST
END:STANDARD
BEGIN:STANDARD
DTSTART:20241103T010000
RDATE:20250309T030000
TZOFFSETFROM:-0700
TZOFFSETTO:-0800
TZNAME:America/Tijuana PST
END:STANDARD
BEGIN:STANDARD
DTSTART:20251102T010000
RDATE:20260308T030000
TZOFFSETFROM:-0700
TZOFFSETTO:-0800
TZNAME:America/Tijuana PST
END:STANDARD
BEGIN:STANDARD
DTSTART:20261101T010000
RDATE:20270314T030000
TZOFFSETFROM:-0700
TZOFFSETTO:-0800
TZNAME:America/Tijuana PST
END:STANDARD
BEGIN:STANDARD
DTSTART:20271107T010000
RDATE:20280312T030000
TZOFFSETFROM:-0700
TZOFFSETTO:-0800
TZNAME:America/Tijuana PST
END:STANDARD
BEGIN:DAYLIGHT
DTSTART:20230312T030000
RDATE:20231105T010000
TZOFFSETFROM:-0800
TZOFFSETTO:-0700
TZNAME:America/Tijuana PDT
END:DAYLIGHT
BEGIN:DAYLIGHT
DTSTART:20240310T030000
RDATE:20241103T010000
TZOFFSETFROM:-0800
TZOFFSETTO:-0700
TZNAME:America/Tijuana PDT
END:DAYLIGHT
BEGIN:DAYLIGHT
DTSTART:20250309T030000
RDATE:20251102T010000
TZOFFSETFROM:-0800
TZOFFSETTO:-0700
TZNAME:America/Tijuana PDT
END:DAYLIGHT
BEGIN:DAYLIGHT
DTSTART:20260308T030000
RDATE:20261101T010000
TZOFFSETFROM:-0800
TZOFFSETTO:-0700
TZNAME:America/Tijuana PDT
END:DAYLIGHT
BEGIN:DAYLIGHT
DTSTART:20270314T030000
RDATE:20271107T010000
TZOFFSETFROM:-0800
TZOFFSETTO:-0700
TZNAME:America/Tijuana PDT
END:DAYLIGHT
END:VTIMEZONE
BEGIN:VEVENT
UID:e928f031b711f20060b2e63e3c5385c4
CATEGORIES:Native Plant Talks
CREATED:20231011T143812
SUMMARY:Native Plant Propagation, a talk by Ann Finney + Seed and Cutting Exchange
LOCATION:Cupertino Library Program Room (2nd floor)\, 10800 Torre Ave\, Cupertino\, 
 CA 95014
DESCRIPTION:<div class="page" title="Page 3"><div class="layoutArea"><div class="column
 "><p class="mb-4">Are you a gardener on a budget? Do you like growing thing
 s "from scratch"? Come to this talk to learn about easy and effective propa
 gation best practices for California native plants, both from cuttings as w
 ell as seeds. The talk will include show-and-tell demos.</p><p class="mb-4"
 >The program concludes with the popular Seed &amp; Cutting Exchange. Browse
  the diverse offerings, ranging from easy-to-grow to hard-to-find, and go h
 ome with seeds and cuttings of new native plants – for free! We will provid
 e coin envelopes for seeds, but bring containers to carry cuttings home. Br
 ing native plant material from your own garden to share. Label it to make i
 t easy to browse; some gardeners attach helpful hints about growing; others
  display photos of plants in bloom. Keep cuttings cool and moist in a bucke
 t of water. You will have a chance to show and tell what you brought. Don’t
  have native material to share? No problem; there is usually enough for all
 .</p><p class="mb-4">Speaker bio:<br />Ann Finney is a Master Gardener and 
 a long-time member of the Growing Natives Garden Tour Committee. She grows 
 a variety of native plants in her home garden in San Jose, and tends the st
 unning Master Gardener Demonstration Garden at Martial Cottle Park, San Jos
 e.</p></div></div></div>
CONTACT:This email address is being protected from spambots. You need JavaScript enabled to view it.
				document.getElementById('cloakd0eae6ad23803d191598fbb4664f843c').innerHTML = '';
				var prefix = '&#109;a' + 'i&#108;' + '&#116;o';
				var path = 'hr' + 'ef' + '=';
				var addyd0eae6ad23803d191598fbb4664f843c = '&#105;nf&#111;' + '&#64;';
				addyd0eae6ad23803d191598fbb4664f843c = addyd0eae6ad23803d191598fbb4664f843c + 'cnps-scv' + '&#46;' + '&#111;rg';
				var addy_textd0eae6ad23803d191598fbb4664f843c = '&#105;nf&#111;' + '&#64;' + 'cnps-scv' + '&#46;' + '&#111;rg';document.getElementById('cloakd0eae6ad23803d191598fbb4664f843c').innerHTML += '<a ' + path + '\'' + prefix + ':' + addyd0eae6ad23803d191598fbb4664f843c + '\'>'+addy_textd0eae6ad23803d191598fbb4664f843c+'';
		
DTSTAMP:20260421T145459
DTSTART;TZID=America/Tijuana:20231109T190000
DTEND;TZID=America/Tijuana:20231109T203000
SEQUENCE:0
TRANSP:OPAQUE
END:VEVENT
END:VCALENDAR