BEGIN:VCALENDAR
VERSION:2.0
PRODID:-//jEvents 2.0 for Joomla//EN
CALSCALE:GREGORIAN
METHOD:PUBLISH
BEGIN:VTIMEZONE
TZID:America/Tijuana
BEGIN:STANDARD
DTSTART:20230306T060000
RDATE:20230312T030000
TZOFFSETFROM:-0700
TZOFFSETTO:-0800
TZNAME:America/Tijuana PST
END:STANDARD
BEGIN:STANDARD
DTSTART:20231105T010000
RDATE:20240310T030000
TZOFFSETFROM:-0700
TZOFFSETTO:-0800
TZNAME:America/Tijuana PST
END:STANDARD
BEGIN:STANDARD
DTSTART:20241103T010000
RDATE:20250309T030000
TZOFFSETFROM:-0700
TZOFFSETTO:-0800
TZNAME:America/Tijuana PST
END:STANDARD
BEGIN:STANDARD
DTSTART:20251102T010000
RDATE:20260308T030000
TZOFFSETFROM:-0700
TZOFFSETTO:-0800
TZNAME:America/Tijuana PST
END:STANDARD
BEGIN:STANDARD
DTSTART:20261101T010000
RDATE:20270314T030000
TZOFFSETFROM:-0700
TZOFFSETTO:-0800
TZNAME:America/Tijuana PST
END:STANDARD
BEGIN:STANDARD
DTSTART:20271107T010000
RDATE:20280312T030000
TZOFFSETFROM:-0700
TZOFFSETTO:-0800
TZNAME:America/Tijuana PST
END:STANDARD
BEGIN:DAYLIGHT
DTSTART:20230312T030000
RDATE:20231105T010000
TZOFFSETFROM:-0800
TZOFFSETTO:-0700
TZNAME:America/Tijuana PDT
END:DAYLIGHT
BEGIN:DAYLIGHT
DTSTART:20240310T030000
RDATE:20241103T010000
TZOFFSETFROM:-0800
TZOFFSETTO:-0700
TZNAME:America/Tijuana PDT
END:DAYLIGHT
BEGIN:DAYLIGHT
DTSTART:20250309T030000
RDATE:20251102T010000
TZOFFSETFROM:-0800
TZOFFSETTO:-0700
TZNAME:America/Tijuana PDT
END:DAYLIGHT
BEGIN:DAYLIGHT
DTSTART:20260308T030000
RDATE:20261101T010000
TZOFFSETFROM:-0800
TZOFFSETTO:-0700
TZNAME:America/Tijuana PDT
END:DAYLIGHT
BEGIN:DAYLIGHT
DTSTART:20270314T030000
RDATE:20271107T010000
TZOFFSETFROM:-0800
TZOFFSETTO:-0700
TZNAME:America/Tijuana PDT
END:DAYLIGHT
END:VTIMEZONE
BEGIN:VEVENT
UID:e1fe9f18b1c7148868250a34067ecc5d
CATEGORIES:Native Plant Talks
CREATED:20240228T195719
SUMMARY:Create a Pollinator Paradise in Your Garden, a talk by Jennifer Dirking
LOCATION:Foster City Library\, 1000 E. Hillsdale Blvd.\, Foster City
DESCRIPTION:<div class="page" title="Page 5"><div class="layoutArea"><div class="column
 "><p>Pollinators are essential for a thriving garden ecosystem, but often c
 annot access all of the elements they need to flourish and raise the next g
 eneration. Learn how you can create a beautiful low water “paradise” for be
 es, butterflies and other pollinators in your garden, and boost your fruit 
 and vegetable yields in the process. Attendees will receive a free packet o
 f California native wildflowers for pollinators to try out in their own gar
 dens.</p><p><strong>Jennifer Dirking</strong> has been an organic gardener 
 for over 40 years, but only recently transformed her garden from a food des
 ert to a habitat oasis in her suburban San Carlos neighborhood. Inspired by
  Doug Tallamy’s book Nature’s Best Hope, she has reached beyond her garden 
 fence to develop&nbsp;partnerships and inspire hundreds of others throughou
 t the Bay Area to begin their own native gardening journey. Her simple tact
 ics involving free wildflower seeds and promotion via social media provide 
 a model for other individuals and organizations that want to reach further 
 into their communities as well. She is currently the Chair of the Wildflowe
 r Ambassador program at our CNPS Chapter.</p><p>Jennifer also manages the N
 ative Plant Resource Teams’ Pollinator Pathways Group, a program of the Bri
 nging&nbsp;Back the Natives Garden Tour. You can visit Jennifer’s garden on
  the Growing Natives Garden Tour on Saturday, April 13. Register for the to
 ur at <a href="gngt.org">gngt.org</a>.</p><div class="page" title="Page 5">
 &nbsp;</div></div></div></div>
X-ALT-DESC;FMTTYPE=text/html:<div class="page" title="Page 5"><div class="layoutArea"><div class="column
 "><p>Pollinators are essential for a thriving garden ecosystem, but often c
 annot access all of the elements they need to flourish and raise the next g
 eneration. Learn how you can create a beautiful low water “paradise” for be
 es, butterflies and other pollinators in your garden, and boost your fruit 
 and vegetable yields in the process. Attendees will receive a free packet o
 f California native wildflowers for pollinators to try out in their own gar
 dens.</p><p><strong>Jennifer Dirking</strong> has been an organic gardener 
 for over 40 years, but only recently transformed her garden from a food des
 ert to a habitat oasis in her suburban San Carlos neighborhood. Inspired by
  Doug Tallamy’s book Nature’s Best Hope, she has reached beyond her garden 
 fence to develop&nbsp;partnerships and inspire hundreds of others throughou
 t the Bay Area to begin their own native gardening journey. Her simple tact
 ics involving free wildflower seeds and promotion via social media provide 
 a model for other individuals and organizations that want to reach further 
 into their communities as well. She is currently the Chair of the Wildflowe
 r Ambassador program at our CNPS Chapter.</p><p>Jennifer also manages the N
 ative Plant Resource Teams’ Pollinator Pathways Group, a program of the Bri
 nging&nbsp;Back the Natives Garden Tour. You can visit Jennifer’s garden on
  the Growing Natives Garden Tour on Saturday, April 13. Register for the to
 ur at <a href="https://cnps-scv.org/gngt.org">gngt.org</a>.</p><div class="
 page" title="Page 5">&nbsp;</div></div></div></div>
DTSTAMP:20260420T170315
DTSTART;TZID=America/Tijuana:20240306T060000
DTEND;TZID=America/Tijuana:20240306T193000
SEQUENCE:0
TRANSP:OPAQUE
END:VEVENT
END:VCALENDAR