BEGIN:VCALENDAR
VERSION:2.0
PRODID:-//jEvents 2.0 for Joomla//EN
CALSCALE:GREGORIAN
METHOD:PUBLISH
BEGIN:VTIMEZONE
TZID:America/Tijuana
BEGIN:STANDARD
DTSTART:20231105T010000
RDATE:20240310T030000
TZOFFSETFROM:-0700
TZOFFSETTO:-0800
TZNAME:America/Tijuana PST
END:STANDARD
BEGIN:STANDARD
DTSTART:20241103T010000
RDATE:20250309T030000
TZOFFSETFROM:-0700
TZOFFSETTO:-0800
TZNAME:America/Tijuana PST
END:STANDARD
BEGIN:STANDARD
DTSTART:20251102T010000
RDATE:20260308T030000
TZOFFSETFROM:-0700
TZOFFSETTO:-0800
TZNAME:America/Tijuana PST
END:STANDARD
BEGIN:STANDARD
DTSTART:20261101T010000
RDATE:20270314T030000
TZOFFSETFROM:-0700
TZOFFSETTO:-0800
TZNAME:America/Tijuana PST
END:STANDARD
BEGIN:STANDARD
DTSTART:20271107T010000
RDATE:20280312T030000
TZOFFSETFROM:-0700
TZOFFSETTO:-0800
TZNAME:America/Tijuana PST
END:STANDARD
BEGIN:DAYLIGHT
DTSTART:20230616T100000
RDATE:20231105T010000
TZOFFSETFROM:-0800
TZOFFSETTO:-0700
TZNAME:America/Tijuana PDT
END:DAYLIGHT
BEGIN:DAYLIGHT
DTSTART:20240310T030000
RDATE:20241103T010000
TZOFFSETFROM:-0800
TZOFFSETTO:-0700
TZNAME:America/Tijuana PDT
END:DAYLIGHT
BEGIN:DAYLIGHT
DTSTART:20250309T030000
RDATE:20251102T010000
TZOFFSETFROM:-0800
TZOFFSETTO:-0700
TZNAME:America/Tijuana PDT
END:DAYLIGHT
BEGIN:DAYLIGHT
DTSTART:20260308T030000
RDATE:20261101T010000
TZOFFSETFROM:-0800
TZOFFSETTO:-0700
TZNAME:America/Tijuana PDT
END:DAYLIGHT
BEGIN:DAYLIGHT
DTSTART:20270314T030000
RDATE:20271107T010000
TZOFFSETFROM:-0800
TZOFFSETTO:-0700
TZNAME:America/Tijuana PDT
END:DAYLIGHT
END:VTIMEZONE
BEGIN:VEVENT
UID:484094b44403f844924df647f4361c1c
CATEGORIES:Field Trips
CREATED:20240418T073904
SUMMARY:Plant ID & Beach Adventure at Wilder Ranch State Park & Fern Grotto Beach (Santa Cruz County)
LOCATION:Wilder Ranch State Park &amp; Fern Grotto Beach (Santa Cruz County)
DESCRIPTION:<div class="page" title="Page 10"><div class="layoutArea"><div class="colum
 n"><p>Join California Naturalist Divya Shenoy to explore the coastal bluffs
  of Wilder Ranch and enjoy the beautiful Fern Grotto Beach. On this beginne
 r&nbsp;native plant walk, we will walk along the Old Landing Cove Trail loo
 p and stop by Fern Grotto Beach to take a lunch break and explore!</p><p>At
  the end, you can join us as we visit the Wilder Ranch Interpretive Center 
 &amp; Park Store to learn about the park’s farming history. This field trip
  is a <strong>family friendly event</strong> and no advanced hiking ability
  or plant identification experience is required.</p><p>We will see unique c
 oastal plants, including seaside daisy, golden yarrow, and various fern spe
 cies. We may also see sea lions, butterflies, whales, sea otters and birds 
 such as cormorants, pelicans, and gulls.</p><p>Our walk will be about 3 mil
 es&nbsp;long. The pace will be a stroll&nbsp;with water breaks, pauses to&n
 bsp;view plants, and a 30-minute snack break and exploration at the beach. 
 There is a short dirt trail that is moderately steep, to get to the beach, 
 so hiking poles are recommended for those who need additional stability and
  support.</p><p>Please wear comfortable walking shoes, sunscreen and a hat.
  Bring a snack or early lunch and plenty of water. Optionally, you can brin
 g plant and bird identification guides and lists, binoculars and extra sand
 als for the beach.</p><p>RSVP is required to join the hike. No drop-ins ple
 ase and space is limited. See the instructions at the beginning of this Fie
 ld Trips section to <strong>RSVP on Meetup</strong>.</p><p>Driving directio
 ns and parking tips are provided on <a href="https://www.meetup.com/Califor
 nia-Native-Plant-Society-Santa-Clara-Valley-Chapter/">our Chapter’s Meetup 
 group</a>. We will park and meet at <strong>10:00am</strong> in the “Wilder
  Ranch Day Use” parking lot, which has a restroom close by. (<a href="mailt
 o:https://www.google.com/maps/place/Wilder+Ranch+Day+Use+Parking/@36.958530
 7,-122.0887881,16z/data=!4m6!3m5!1s0x808e430cdd7ca689:0xb9159324337fc767!8m
 2!3d36.9601915!4d-122.0857124!16s%2Fg%2F11j6hdwzk8?entry=ttu">Here’s a link
  to a map to the parking lot.</a>)</p></div></div></div>
CONTACT:https://www.meetup.com/California-Native-Plant-Society-Santa-Clara-Valley-Chapter/
DTSTAMP:20260420T145941
DTSTART;TZID=America/Tijuana:20240616T100000
DTEND;TZID=America/Tijuana:20240616T123000
SEQUENCE:0
TRANSP:OPAQUE
END:VEVENT
END:VCALENDAR