BEGIN:VCALENDAR
VERSION:2.0
PRODID:-//jEvents 2.0 for Joomla//EN
CALSCALE:GREGORIAN
METHOD:PUBLISH
BEGIN:VTIMEZONE
TZID:America/Tijuana
BEGIN:STANDARD
DTSTART:20231105T010000
RDATE:20240310T030000
TZOFFSETFROM:-0700
TZOFFSETTO:-0800
TZNAME:America/Tijuana PST
END:STANDARD
BEGIN:STANDARD
DTSTART:20241103T010000
RDATE:20250309T030000
TZOFFSETFROM:-0700
TZOFFSETTO:-0800
TZNAME:America/Tijuana PST
END:STANDARD
BEGIN:STANDARD
DTSTART:20251102T010000
RDATE:20260308T030000
TZOFFSETFROM:-0700
TZOFFSETTO:-0800
TZNAME:America/Tijuana PST
END:STANDARD
BEGIN:STANDARD
DTSTART:20261101T010000
RDATE:20270314T030000
TZOFFSETFROM:-0700
TZOFFSETTO:-0800
TZNAME:America/Tijuana PST
END:STANDARD
BEGIN:STANDARD
DTSTART:20271107T010000
RDATE:20280312T030000
TZOFFSETFROM:-0700
TZOFFSETTO:-0800
TZNAME:America/Tijuana PST
END:STANDARD
BEGIN:DAYLIGHT
DTSTART:20230623T090000
RDATE:20231105T010000
TZOFFSETFROM:-0800
TZOFFSETTO:-0700
TZNAME:America/Tijuana PDT
END:DAYLIGHT
BEGIN:DAYLIGHT
DTSTART:20240310T030000
RDATE:20241103T010000
TZOFFSETFROM:-0800
TZOFFSETTO:-0700
TZNAME:America/Tijuana PDT
END:DAYLIGHT
BEGIN:DAYLIGHT
DTSTART:20250309T030000
RDATE:20251102T010000
TZOFFSETFROM:-0800
TZOFFSETTO:-0700
TZNAME:America/Tijuana PDT
END:DAYLIGHT
BEGIN:DAYLIGHT
DTSTART:20260308T030000
RDATE:20261101T010000
TZOFFSETFROM:-0800
TZOFFSETTO:-0700
TZNAME:America/Tijuana PDT
END:DAYLIGHT
BEGIN:DAYLIGHT
DTSTART:20270314T030000
RDATE:20271107T010000
TZOFFSETFROM:-0800
TZOFFSETTO:-0700
TZNAME:America/Tijuana PDT
END:DAYLIGHT
END:VTIMEZONE
BEGIN:VEVENT
UID:6588b94bda1b302b8a6ca5890fcdf5ba
CATEGORIES:Field Trips
CREATED:20240418T074318
SUMMARY:Bird and Plant ID Walk at Lake Cunningham Park (San Jose)
LOCATION:Lake Cunningham Park (San Jose)
DESCRIPTION:With the onset of summer, join us for a beginner’s bird and plant identific
 ation walk through Lake Cunningham Park. This lake is a major destination f
 or waterfowl and migratory birds and its native garden draws many birds due
  to its habitat value. On this walk, Vicki Silvas-Young will show you how t
 o identify the common birds of our area, while Arvind Kumar will identify t
 he native plants that they depend on for food and shelter.\nThe distance is
  2 miles round- trip on a level path. Bring a hat, water, your bird and pla
 nt lists, and binoculars. Wear comfortable walking shoes. The parking fee i
 s $6, to be purchased with either exact cash or credit card at a machine.\n
 RSVP is required to join the hike. No drop-ins please and space is limited.
  See the instructions at the beginning of this Field Trips section to RSVP 
 on Meetup.\nDriving directions and parking tips are provided on our Chapter
 ’s Meetup group (https://www.meetup.com/California-Native-Plant-Society-San
 ta-Clara-Valley-Chapter/). We will meet at Parking Lot A on the east side o
 f the park. The park’s main entrance is located at 2305 S. White Road, San 
 Jose. (In Google Maps, search for 37.337451, -121.804069, to be directed to
  Parking Lot A. (mailto:https://www.google.com/maps/place/37%C2%B020'14.8%2
 2N+121%C2%B048'14.7%22W/@37.3374676,-121.8143687,15z/data=!3m1!4b1!4m4!3m3!
 8m2!3d37.337451!4d-121.804069?entry=ttu))\nThis event is cosponsored by CNP
 S, Santa Clara Valley Audubon Society and Santa Clara Valley Open Space Aut
 hority.\n
X-ALT-DESC;FMTTYPE=text/html:<div class="page" title="Page 10"><div class="layoutArea"><div class="colum
 n"><p>With the onset of summer, join us for a beginner’s bird and plant ide
 ntification walk through Lake Cunningham Park. This lake is a major destina
 tion for waterfowl and&nbsp;migratory birds and its native garden draws man
 y birds due to its habitat value. On this walk, Vicki Silvas-Young will sho
 w you how to identify the common birds of our area, while Arvind Kumar will
  identify the native plants that they depend on for food and shelter.</p><p
 >The distance is 2 miles round- trip on a level path. Bring a hat, water, y
 our bird and plant lists, and binoculars. Wear comfortable walking shoes. T
 he parking fee is $6, to be purchased with either exact cash or credit card
  at a machine.</p><p>RSVP is required to join the hike. No drop-ins please 
 and space is limited. See the instructions at the beginning of this Field T
 rips section to <strong>RSVP on Meetup</strong>.</p><p>Driving directions a
 nd parking&nbsp;tips are provided on <a href="https://www.meetup.com/Califo
 rnia-Native-Plant-Society-Santa-Clara-Valley-Chapter/">our Chapter’s Meetup
  group</a>. We will meet at Parking Lot A&nbsp;on the east side of the park
 . The park’s main entrance is located at 2305 S. White Road, San Jose. (<a 
 href="mailto:https://www.google.com/maps/place/37%C2%B020'14.8%22N+121%C2%B
 048'14.7%22W/@37.3374676,-121.8143687,15z/data=!3m1!4b1!4m4!3m3!8m2!3d37.33
 7451!4d-121.804069?entry=ttu">In Google Maps, search for 37.337451, -121.80
 4069, to be directed to Parking Lot A.</a>)</p><p>This event is cosponsored
  by CNPS, Santa Clara Valley Audubon Society and Santa Clara Valley Open Sp
 ace Authority.</p></div></div></div>
CONTACT:https://www.meetup.com/California-Native-Plant-Society-Santa-Clara-Valley-Chapter/
DTSTAMP:20260420T160641
DTSTART;TZID=America/Tijuana:20240623T090000
DTEND;TZID=America/Tijuana:20240623T120000
SEQUENCE:0
TRANSP:OPAQUE
END:VEVENT
END:VCALENDAR