BEGIN:VCALENDAR
VERSION:2.0
PRODID:-//jEvents 2.0 for Joomla//EN
CALSCALE:GREGORIAN
METHOD:PUBLISH
BEGIN:VTIMEZONE
TZID:America/Tijuana
BEGIN:STANDARD
DTSTART:20150128T193000
RDATE:20150308T030000
TZOFFSETFROM:-0700
TZOFFSETTO:-0800
TZNAME:America/Tijuana PST
END:STANDARD
BEGIN:STANDARD
DTSTART:20151101T010000
RDATE:20160313T030000
TZOFFSETFROM:-0700
TZOFFSETTO:-0800
TZNAME:America/Tijuana PST
END:STANDARD
BEGIN:STANDARD
DTSTART:20161106T010000
RDATE:20170312T030000
TZOFFSETFROM:-0700
TZOFFSETTO:-0800
TZNAME:America/Tijuana PST
END:STANDARD
BEGIN:STANDARD
DTSTART:20171105T010000
RDATE:20180311T030000
TZOFFSETFROM:-0700
TZOFFSETTO:-0800
TZNAME:America/Tijuana PST
END:STANDARD
BEGIN:STANDARD
DTSTART:20181104T010000
RDATE:20190310T030000
TZOFFSETFROM:-0700
TZOFFSETTO:-0800
TZNAME:America/Tijuana PST
END:STANDARD
BEGIN:STANDARD
DTSTART:20191103T010000
RDATE:20200308T030000
TZOFFSETFROM:-0700
TZOFFSETTO:-0800
TZNAME:America/Tijuana PST
END:STANDARD
BEGIN:STANDARD
DTSTART:20201101T010000
RDATE:20210314T030000
TZOFFSETFROM:-0700
TZOFFSETTO:-0800
TZNAME:America/Tijuana PST
END:STANDARD
BEGIN:STANDARD
DTSTART:20211107T010000
RDATE:20220313T030000
TZOFFSETFROM:-0700
TZOFFSETTO:-0800
TZNAME:America/Tijuana PST
END:STANDARD
BEGIN:STANDARD
DTSTART:20221106T010000
RDATE:20230312T030000
TZOFFSETFROM:-0700
TZOFFSETTO:-0800
TZNAME:America/Tijuana PST
END:STANDARD
BEGIN:STANDARD
DTSTART:20231105T010000
RDATE:20240310T030000
TZOFFSETFROM:-0700
TZOFFSETTO:-0800
TZNAME:America/Tijuana PST
END:STANDARD
BEGIN:STANDARD
DTSTART:20241103T010000
RDATE:20250309T030000
TZOFFSETFROM:-0700
TZOFFSETTO:-0800
TZNAME:America/Tijuana PST
END:STANDARD
BEGIN:STANDARD
DTSTART:20251102T010000
RDATE:20260308T030000
TZOFFSETFROM:-0700
TZOFFSETTO:-0800
TZNAME:America/Tijuana PST
END:STANDARD
BEGIN:STANDARD
DTSTART:20261101T010000
RDATE:20270314T030000
TZOFFSETFROM:-0700
TZOFFSETTO:-0800
TZNAME:America/Tijuana PST
END:STANDARD
BEGIN:STANDARD
DTSTART:20271107T010000
RDATE:20280312T030000
TZOFFSETFROM:-0700
TZOFFSETTO:-0800
TZNAME:America/Tijuana PST
END:STANDARD
BEGIN:DAYLIGHT
DTSTART:20150308T030000
RDATE:20151101T010000
TZOFFSETFROM:-0800
TZOFFSETTO:-0700
TZNAME:America/Tijuana PDT
END:DAYLIGHT
BEGIN:DAYLIGHT
DTSTART:20160313T030000
RDATE:20161106T010000
TZOFFSETFROM:-0800
TZOFFSETTO:-0700
TZNAME:America/Tijuana PDT
END:DAYLIGHT
BEGIN:DAYLIGHT
DTSTART:20170312T030000
RDATE:20171105T010000
TZOFFSETFROM:-0800
TZOFFSETTO:-0700
TZNAME:America/Tijuana PDT
END:DAYLIGHT
BEGIN:DAYLIGHT
DTSTART:20180311T030000
RDATE:20181104T010000
TZOFFSETFROM:-0800
TZOFFSETTO:-0700
TZNAME:America/Tijuana PDT
END:DAYLIGHT
BEGIN:DAYLIGHT
DTSTART:20190310T030000
RDATE:20191103T010000
TZOFFSETFROM:-0800
TZOFFSETTO:-0700
TZNAME:America/Tijuana PDT
END:DAYLIGHT
BEGIN:DAYLIGHT
DTSTART:20200308T030000
RDATE:20201101T010000
TZOFFSETFROM:-0800
TZOFFSETTO:-0700
TZNAME:America/Tijuana PDT
END:DAYLIGHT
BEGIN:DAYLIGHT
DTSTART:20210314T030000
RDATE:20211107T010000
TZOFFSETFROM:-0800
TZOFFSETTO:-0700
TZNAME:America/Tijuana PDT
END:DAYLIGHT
BEGIN:DAYLIGHT
DTSTART:20220313T030000
RDATE:20221106T010000
TZOFFSETFROM:-0800
TZOFFSETTO:-0700
TZNAME:America/Tijuana PDT
END:DAYLIGHT
BEGIN:DAYLIGHT
DTSTART:20230312T030000
RDATE:20231105T010000
TZOFFSETFROM:-0800
TZOFFSETTO:-0700
TZNAME:America/Tijuana PDT
END:DAYLIGHT
BEGIN:DAYLIGHT
DTSTART:20240310T030000
RDATE:20241103T010000
TZOFFSETFROM:-0800
TZOFFSETTO:-0700
TZNAME:America/Tijuana PDT
END:DAYLIGHT
BEGIN:DAYLIGHT
DTSTART:20250309T030000
RDATE:20251102T010000
TZOFFSETFROM:-0800
TZOFFSETTO:-0700
TZNAME:America/Tijuana PDT
END:DAYLIGHT
BEGIN:DAYLIGHT
DTSTART:20260308T030000
RDATE:20261101T010000
TZOFFSETFROM:-0800
TZOFFSETTO:-0700
TZNAME:America/Tijuana PDT
END:DAYLIGHT
BEGIN:DAYLIGHT
DTSTART:20270314T030000
RDATE:20271107T010000
TZOFFSETFROM:-0800
TZOFFSETTO:-0700
TZNAME:America/Tijuana PDT
END:DAYLIGHT
END:VTIMEZONE
BEGIN:VEVENT
UID:5188bc6f13bcab01d215a76243618378
CATEGORIES:Meetings
CREATED:20151220T140708
SUMMARY:Members’ Night Slide Show - Native Plants and Places in 2015
LOCATION:Los Altos Library Program Room\, 13 So. San Antonio Road\, Los Altos
DESCRIPTION:<div class="page" title="Page 1"><div class="layoutArea"><div class="column
 "><p><span style="font-size: 11pt; font-family: TimesNewRoman;">Even though
  2015 was yet another very dry year, plenty of our native plant species are
  well adapted to thrive in these tough conditions, often out-competing the 
 non-native species. Did you find and photograph any examples of native plan
 ts doing well in 2015? Or perhaps you took a few nice pictures of scenery, 
 places, or interesting animals. </span></p><p><span style="font-size: 11pt;
  font-family: TimesNewRoman;">Share your favorite moments that you captured
  in 2015 with others at the always popular Members’ Night meeting. Photos (
 or other media) of anything, any place, or anyone related to native plants 
 in 2015 are welcome (please note we are looking for photos from 2015 only).
  </span></p><p><span style="font-size: 11pt; font-family: TimesNewRoman;">I
 f you’d like to share your photos or other materials, please </span><span s
 tyle="font-size: 11pt; font-family: 'TimesNewRoman,Bold';">RSVP by Sunday, 
 January 24th </span><span style="font-size: 11pt; font-family: TimesNewRoma
 n;">by emailing Kevin Bryant at <span id="cloak6bb96488508ec88e3613746580dc
 7456">This email address is being protected from spambots. You need JavaScr
 ipt enabled to view it.</span><script type='text/javascript'>
				document.
 getElementById('cloak6bb96488508ec88e3613746580dc7456').innerHTML = '';
			
 	var prefix = '&#109;a' + 'i&#108;' + '&#116;o';
				var path = 'hr' + 'ef'
  + '=';
				var addy6bb96488508ec88e3613746580dc7456 = 'mtngr&#101;&#101;n1
 7' + '&#64;';
				addy6bb96488508ec88e3613746580dc7456 = addy6bb96488508ec8
 8e3613746580dc7456 + 'gm&#97;&#105;l' + '&#46;' + 'c&#111;m';
				var addy_
 text6bb96488508ec88e3613746580dc7456 = 'mtngr&#101;&#101;n17' + '&#64;' + '
 gm&#97;&#105;l' + '&#46;' + 'c&#111;m';document.getElementById('cloak6bb964
 88508ec88e3613746580dc7456').innerHTML += '<a ' + path + '\'' + prefix + ':
 ' + addy6bb96488508ec88e3613746580dc7456 + '\'>'+addy_text6bb96488508ec88e3
 613746580dc7456+'<\/a>';
		</script> or calling (408) 348-9470, and let him
  know about the materials you’d like to share from 2015. Time allotted per 
 person will depend on how many participants RSVP. Whether you have photos t
 o share or not, join us for a fun midwinter celebration of the beauty and t
 enacity of native plants and their habitats. </span></p></div></div></div>
DTSTAMP:20260420T170227
DTSTART;TZID=America/Tijuana:20160129T193000
DTEND;TZID=America/Tijuana:20160129T210000
SEQUENCE:0
TRANSP:OPAQUE
END:VEVENT
END:VCALENDAR