BEGIN:VCALENDAR
VERSION:2.0
PRODID:-//jEvents 2.0 for Joomla//EN
CALSCALE:GREGORIAN
METHOD:PUBLISH
BEGIN:VTIMEZONE
TZID:America/Tijuana
BEGIN:STANDARD
DTSTART:20151101T010000
RDATE:20160313T030000
TZOFFSETFROM:-0700
TZOFFSETTO:-0800
TZNAME:America/Tijuana PST
END:STANDARD
BEGIN:STANDARD
DTSTART:20161106T010000
RDATE:20170312T030000
TZOFFSETFROM:-0700
TZOFFSETTO:-0800
TZNAME:America/Tijuana PST
END:STANDARD
BEGIN:STANDARD
DTSTART:20171105T010000
RDATE:20180311T030000
TZOFFSETFROM:-0700
TZOFFSETTO:-0800
TZNAME:America/Tijuana PST
END:STANDARD
BEGIN:STANDARD
DTSTART:20181104T010000
RDATE:20190310T030000
TZOFFSETFROM:-0700
TZOFFSETTO:-0800
TZNAME:America/Tijuana PST
END:STANDARD
BEGIN:STANDARD
DTSTART:20191103T010000
RDATE:20200308T030000
TZOFFSETFROM:-0700
TZOFFSETTO:-0800
TZNAME:America/Tijuana PST
END:STANDARD
BEGIN:STANDARD
DTSTART:20201101T010000
RDATE:20210314T030000
TZOFFSETFROM:-0700
TZOFFSETTO:-0800
TZNAME:America/Tijuana PST
END:STANDARD
BEGIN:STANDARD
DTSTART:20211107T010000
RDATE:20220313T030000
TZOFFSETFROM:-0700
TZOFFSETTO:-0800
TZNAME:America/Tijuana PST
END:STANDARD
BEGIN:STANDARD
DTSTART:20221106T010000
RDATE:20230312T030000
TZOFFSETFROM:-0700
TZOFFSETTO:-0800
TZNAME:America/Tijuana PST
END:STANDARD
BEGIN:STANDARD
DTSTART:20231105T010000
RDATE:20240310T030000
TZOFFSETFROM:-0700
TZOFFSETTO:-0800
TZNAME:America/Tijuana PST
END:STANDARD
BEGIN:STANDARD
DTSTART:20241103T010000
RDATE:20250309T030000
TZOFFSETFROM:-0700
TZOFFSETTO:-0800
TZNAME:America/Tijuana PST
END:STANDARD
BEGIN:STANDARD
DTSTART:20251102T010000
RDATE:20260308T030000
TZOFFSETFROM:-0700
TZOFFSETTO:-0800
TZNAME:America/Tijuana PST
END:STANDARD
BEGIN:STANDARD
DTSTART:20261101T010000
RDATE:20270314T030000
TZOFFSETFROM:-0700
TZOFFSETTO:-0800
TZNAME:America/Tijuana PST
END:STANDARD
BEGIN:STANDARD
DTSTART:20271107T010000
RDATE:20280312T030000
TZOFFSETFROM:-0700
TZOFFSETTO:-0800
TZNAME:America/Tijuana PST
END:STANDARD
BEGIN:DAYLIGHT
DTSTART:20150326T100000
RDATE:20151101T010000
TZOFFSETFROM:-0800
TZOFFSETTO:-0700
TZNAME:America/Tijuana PDT
END:DAYLIGHT
BEGIN:DAYLIGHT
DTSTART:20160313T030000
RDATE:20161106T010000
TZOFFSETFROM:-0800
TZOFFSETTO:-0700
TZNAME:America/Tijuana PDT
END:DAYLIGHT
BEGIN:DAYLIGHT
DTSTART:20170312T030000
RDATE:20171105T010000
TZOFFSETFROM:-0800
TZOFFSETTO:-0700
TZNAME:America/Tijuana PDT
END:DAYLIGHT
BEGIN:DAYLIGHT
DTSTART:20180311T030000
RDATE:20181104T010000
TZOFFSETFROM:-0800
TZOFFSETTO:-0700
TZNAME:America/Tijuana PDT
END:DAYLIGHT
BEGIN:DAYLIGHT
DTSTART:20190310T030000
RDATE:20191103T010000
TZOFFSETFROM:-0800
TZOFFSETTO:-0700
TZNAME:America/Tijuana PDT
END:DAYLIGHT
BEGIN:DAYLIGHT
DTSTART:20200308T030000
RDATE:20201101T010000
TZOFFSETFROM:-0800
TZOFFSETTO:-0700
TZNAME:America/Tijuana PDT
END:DAYLIGHT
BEGIN:DAYLIGHT
DTSTART:20210314T030000
RDATE:20211107T010000
TZOFFSETFROM:-0800
TZOFFSETTO:-0700
TZNAME:America/Tijuana PDT
END:DAYLIGHT
BEGIN:DAYLIGHT
DTSTART:20220313T030000
RDATE:20221106T010000
TZOFFSETFROM:-0800
TZOFFSETTO:-0700
TZNAME:America/Tijuana PDT
END:DAYLIGHT
BEGIN:DAYLIGHT
DTSTART:20230312T030000
RDATE:20231105T010000
TZOFFSETFROM:-0800
TZOFFSETTO:-0700
TZNAME:America/Tijuana PDT
END:DAYLIGHT
BEGIN:DAYLIGHT
DTSTART:20240310T030000
RDATE:20241103T010000
TZOFFSETFROM:-0800
TZOFFSETTO:-0700
TZNAME:America/Tijuana PDT
END:DAYLIGHT
BEGIN:DAYLIGHT
DTSTART:20250309T030000
RDATE:20251102T010000
TZOFFSETFROM:-0800
TZOFFSETTO:-0700
TZNAME:America/Tijuana PDT
END:DAYLIGHT
BEGIN:DAYLIGHT
DTSTART:20260308T030000
RDATE:20261101T010000
TZOFFSETFROM:-0800
TZOFFSETTO:-0700
TZNAME:America/Tijuana PDT
END:DAYLIGHT
BEGIN:DAYLIGHT
DTSTART:20270314T030000
RDATE:20271107T010000
TZOFFSETFROM:-0800
TZOFFSETTO:-0700
TZNAME:America/Tijuana PDT
END:DAYLIGHT
END:VTIMEZONE
BEGIN:VEVENT
UID:32d6b082a1ca12311033d915a760d6f7
CATEGORIES:Field Trips
CREATED:20160317T201904
SUMMARY:Mt. Tamalpais North Side Loop Hike
LOCATION:Mt. Tamalpais
DESCRIPTION:Join Ken Himes and Dee Wong for a fairly long and rough loop hike through D
 ouglas-fir woodland with calypso orchids, and through serpentine substrates
  with Sargent cypress and the endemic Mt. Tamalpais manzanita.\nWear sturdy
  hiking boots with ankle support for rough trails, about 4 miles in length,
  with gradual elevation gain/loss of 500 feet. Bring snacks, lunch, and wat
 er. \nDirections: Take Hwy. 101 north to the Hwy. 1/Stinson Beach turn-off 
 and follow the signs to Mt Tamalpais. 1.4 miles past Pantoll Campground, ta
 ke the right branching road on to Pantoll Rd. until you intersect Ridgecres
 t Dr. Cross Ridgecrest into the Rock Springs Parking Area. We’ll meet at 10
 am sharp at Rock Springs trailhead. \nTravel time/distance to the parking a
 rea is about 30 min./10 mi. from the Hwy. 1/Stinson Beach turn-off onto Hwy
 . 1. Allow addition travel time through San Francisco. For more information
 , email This email address is being protected from spambots. You need JavaS
 cript enabled to view it.
				document.getElementById('cloak14cc1fa2738aec8
 82e7a616768ca77e5').innerHTML = '';
				var prefix = '&amp;#109;a' + 'i&amp
 ;#108;' + '&amp;#116;o';
				var path = 'hr' + 'ef' + '=';
				var addy14cc
 1fa2738aec882e7a616768ca77e5 = 'd&amp;#101;&amp;#101;4cnps' + '&amp;#64;';

 				addy14cc1fa2738aec882e7a616768ca77e5 = addy14cc1fa2738aec882e7a616768ca
 77e5 + 'gm&amp;#97;&amp;#105;l' + '&amp;#46;' + 'c&amp;#111;m';
				var add
 y_text14cc1fa2738aec882e7a616768ca77e5 = 'd&amp;#101;&amp;#101;4cnps' + '&a
 mp;#64;' + 'gm&amp;#97;&amp;#105;l' + '&amp;#46;' + 'c&amp;#111;m';document
 .getElementById('cloak14cc1fa2738aec882e7a616768ca77e5').innerHTML += '&lt;
 a ' + path + '\'' + prefix + ':' + addy14cc1fa2738aec882e7a616768ca77e5 + '
 \'&gt;'+addy_text14cc1fa2738aec882e7a616768ca77e5+'&lt;\/a&gt;';
		. (mailt
 o:dee4cnps@gmail.com.) \n
X-ALT-DESC;FMTTYPE=text/html:<div class="page" title="Page 7"><div class="layoutArea"><div class="column
 "><p><span style="font-size: 11pt; font-family: Times-New-Roman;">Join Ken 
 Himes and Dee Wong for a fairly long and rough loop hike through Douglas-fi
 r woodland with calypso </span><span style="font-family: Times-New-Roman; f
 ont-size: 11pt; line-height: 1.5;">orchids, and through serpentine substrat
 es with Sargent cypress and the endemic Mt. Tamalpais manzanita.</span></p>
 </div></div></div><div class="page" title="Page 8"><div class="layoutArea">
 <div class="column"><p><span style="font-size: 11pt; font-family: Times-New
 -Roman;">Wear sturdy hiking boots with ankle support for rough trails, abou
 t 4 miles in length, with gradual elevation gain/loss of 500 feet. Bring sn
 acks, lunch, and water. </span></p><p><span style="font-size: 11pt; font-fa
 mily: 'Times-New-Roman,Bold';">Directions: </span><span style="font-size: 1
 1pt; font-family: Times-New-Roman;">Take Hwy. 101 north to the Hwy. 1/Stins
 on Beach turn-off and follow the signs to Mt Tamalpais. 1.4 miles past Pant
 oll Campground, take the right branching road on to Pantoll Rd. until you i
 ntersect Ridgecrest Dr. Cross Ridgecrest into the Rock Springs Parking Area
 . We&rsquo;ll </span><span style="font-size: 11pt; font-family: 'Times-New-
 Roman,Bold';">meet at 10am sharp </span><span style="font-size: 11pt; font-
 family: Times-New-Roman;">at Rock Springs trailhead. </span></p><p><span st
 yle="font-size: 11pt; font-family: Times-New-Roman;">Travel time/distance t
 o the parking area is about 30 min./10 mi. from the Hwy. 1/Stinson Beach tu
 rn-off onto Hwy. 1. Allow addition travel time through San Francisco. For m
 ore information, email <a href="mailto:dee4cnps@gmail.com."><span id="cloak
 14cc1fa2738aec882e7a616768ca77e5">This email address is being protected fro
 m spambots. You need JavaScript enabled to view it.</span><script type='tex
 t/javascript'>
				document.getElementById('cloak14cc1fa2738aec882e7a616768
 ca77e5').innerHTML = '';
				var prefix = '&#109;a' + 'i&#108;' + '&#116;o'
 ;
				var path = 'hr' + 'ef' + '=';
				var addy14cc1fa2738aec882e7a616768c
 a77e5 = 'd&#101;&#101;4cnps' + '&#64;';
				addy14cc1fa2738aec882e7a616768c
 a77e5 = addy14cc1fa2738aec882e7a616768ca77e5 + 'gm&#97;&#105;l' + '&#46;' +
  'c&#111;m';
				var addy_text14cc1fa2738aec882e7a616768ca77e5 = 'd&#101;&#
 101;4cnps' + '&#64;' + 'gm&#97;&#105;l' + '&#46;' + 'c&#111;m';document.get
 ElementById('cloak14cc1fa2738aec882e7a616768ca77e5').innerHTML += '<a ' + p
 ath + '\'' + prefix + ':' + addy14cc1fa2738aec882e7a616768ca77e5 + '\'>'+ad
 dy_text14cc1fa2738aec882e7a616768ca77e5+'<\/a>';
		</script>.</a> </span></
 p></div></div></div>
CONTACT:This email address is being protected from spambots. You need JavaScript enabled to view it.
				document.getElementById('cloakdfc5a1ac0eb714fa03c01fde772879a7').innerHTML = '';
				var prefix = '&#109;a' + 'i&#108;' + '&#116;o';
				var path = 'hr' + 'ef' + '=';
				var addydfc5a1ac0eb714fa03c01fde772879a7 = 'd&#101;&#101;4cnps' + '&#64;';
				addydfc5a1ac0eb714fa03c01fde772879a7 = addydfc5a1ac0eb714fa03c01fde772879a7 + 'gm&#97;&#105;l' + '&#46;' + 'c&#111;m';
				var addy_textdfc5a1ac0eb714fa03c01fde772879a7 = 'd&#101;&#101;4cnps' + '&#64;' + 'gm&#97;&#105;l' + '&#46;' + 'c&#111;m';document.getElementById('cloakdfc5a1ac0eb714fa03c01fde772879a7').innerHTML += '<a ' + path + '\'' + prefix + ':' + addydfc5a1ac0eb714fa03c01fde772879a7 + '\'>'+addy_textdfc5a1ac0eb714fa03c01fde772879a7+'';
		
DTSTAMP:20260420T173002
DTSTART;TZID=America/Tijuana:20160326T100000
DTEND;TZID=America/Tijuana:20160326T160000
SEQUENCE:0
TRANSP:OPAQUE
END:VEVENT
END:VCALENDAR