BEGIN:VCALENDAR
VERSION:2.0
PRODID:-//jEvents 2.0 for Joomla//EN
CALSCALE:GREGORIAN
METHOD:PUBLISH
BEGIN:VTIMEZONE
TZID:America/Tijuana
BEGIN:STANDARD
DTSTART:20151218T090000
RDATE:20160313T030000
TZOFFSETFROM:-0700
TZOFFSETTO:-0800
TZNAME:America/Tijuana PST
END:STANDARD
BEGIN:STANDARD
DTSTART:20161106T010000
RDATE:20170312T030000
TZOFFSETFROM:-0700
TZOFFSETTO:-0800
TZNAME:America/Tijuana PST
END:STANDARD
BEGIN:STANDARD
DTSTART:20171105T010000
RDATE:20180311T030000
TZOFFSETFROM:-0700
TZOFFSETTO:-0800
TZNAME:America/Tijuana PST
END:STANDARD
BEGIN:STANDARD
DTSTART:20181104T010000
RDATE:20190310T030000
TZOFFSETFROM:-0700
TZOFFSETTO:-0800
TZNAME:America/Tijuana PST
END:STANDARD
BEGIN:STANDARD
DTSTART:20191103T010000
RDATE:20200308T030000
TZOFFSETFROM:-0700
TZOFFSETTO:-0800
TZNAME:America/Tijuana PST
END:STANDARD
BEGIN:STANDARD
DTSTART:20201101T010000
RDATE:20210314T030000
TZOFFSETFROM:-0700
TZOFFSETTO:-0800
TZNAME:America/Tijuana PST
END:STANDARD
BEGIN:STANDARD
DTSTART:20211107T010000
RDATE:20220313T030000
TZOFFSETFROM:-0700
TZOFFSETTO:-0800
TZNAME:America/Tijuana PST
END:STANDARD
BEGIN:STANDARD
DTSTART:20221106T010000
RDATE:20230312T030000
TZOFFSETFROM:-0700
TZOFFSETTO:-0800
TZNAME:America/Tijuana PST
END:STANDARD
BEGIN:STANDARD
DTSTART:20231105T010000
RDATE:20240310T030000
TZOFFSETFROM:-0700
TZOFFSETTO:-0800
TZNAME:America/Tijuana PST
END:STANDARD
BEGIN:STANDARD
DTSTART:20241103T010000
RDATE:20250309T030000
TZOFFSETFROM:-0700
TZOFFSETTO:-0800
TZNAME:America/Tijuana PST
END:STANDARD
BEGIN:STANDARD
DTSTART:20251102T010000
RDATE:20260308T030000
TZOFFSETFROM:-0700
TZOFFSETTO:-0800
TZNAME:America/Tijuana PST
END:STANDARD
BEGIN:STANDARD
DTSTART:20261101T010000
RDATE:20270314T030000
TZOFFSETFROM:-0700
TZOFFSETTO:-0800
TZNAME:America/Tijuana PST
END:STANDARD
BEGIN:STANDARD
DTSTART:20271107T010000
RDATE:20280312T030000
TZOFFSETFROM:-0700
TZOFFSETTO:-0800
TZNAME:America/Tijuana PST
END:STANDARD
BEGIN:DAYLIGHT
DTSTART:20160313T030000
RDATE:20161106T010000
TZOFFSETFROM:-0800
TZOFFSETTO:-0700
TZNAME:America/Tijuana PDT
END:DAYLIGHT
BEGIN:DAYLIGHT
DTSTART:20170312T030000
RDATE:20171105T010000
TZOFFSETFROM:-0800
TZOFFSETTO:-0700
TZNAME:America/Tijuana PDT
END:DAYLIGHT
BEGIN:DAYLIGHT
DTSTART:20180311T030000
RDATE:20181104T010000
TZOFFSETFROM:-0800
TZOFFSETTO:-0700
TZNAME:America/Tijuana PDT
END:DAYLIGHT
BEGIN:DAYLIGHT
DTSTART:20190310T030000
RDATE:20191103T010000
TZOFFSETFROM:-0800
TZOFFSETTO:-0700
TZNAME:America/Tijuana PDT
END:DAYLIGHT
BEGIN:DAYLIGHT
DTSTART:20200308T030000
RDATE:20201101T010000
TZOFFSETFROM:-0800
TZOFFSETTO:-0700
TZNAME:America/Tijuana PDT
END:DAYLIGHT
BEGIN:DAYLIGHT
DTSTART:20210314T030000
RDATE:20211107T010000
TZOFFSETFROM:-0800
TZOFFSETTO:-0700
TZNAME:America/Tijuana PDT
END:DAYLIGHT
BEGIN:DAYLIGHT
DTSTART:20220313T030000
RDATE:20221106T010000
TZOFFSETFROM:-0800
TZOFFSETTO:-0700
TZNAME:America/Tijuana PDT
END:DAYLIGHT
BEGIN:DAYLIGHT
DTSTART:20230312T030000
RDATE:20231105T010000
TZOFFSETFROM:-0800
TZOFFSETTO:-0700
TZNAME:America/Tijuana PDT
END:DAYLIGHT
BEGIN:DAYLIGHT
DTSTART:20240310T030000
RDATE:20241103T010000
TZOFFSETFROM:-0800
TZOFFSETTO:-0700
TZNAME:America/Tijuana PDT
END:DAYLIGHT
BEGIN:DAYLIGHT
DTSTART:20250309T030000
RDATE:20251102T010000
TZOFFSETFROM:-0800
TZOFFSETTO:-0700
TZNAME:America/Tijuana PDT
END:DAYLIGHT
BEGIN:DAYLIGHT
DTSTART:20260308T030000
RDATE:20261101T010000
TZOFFSETFROM:-0800
TZOFFSETTO:-0700
TZNAME:America/Tijuana PDT
END:DAYLIGHT
BEGIN:DAYLIGHT
DTSTART:20270314T030000
RDATE:20271107T010000
TZOFFSETFROM:-0800
TZOFFSETTO:-0700
TZNAME:America/Tijuana PDT
END:DAYLIGHT
END:VTIMEZONE
BEGIN:VEVENT
UID:313baf6beb016149bec45cd2b50041e2
CATEGORIES:Field Trips
CREATED:20161023T040151
SUMMARY:Beginners Bird and Plant Identification Walk at Lake Cunningham Park
LOCATION:Lake Cunningham Park (San Jose)
DESCRIPTION:As winter begins, join us for a beginner’s bird and plant identification wa
 lk through Lake Cunningham Park. \nLake Cunningham is a major destination f
 or waterfowl and migratory birds and its native garden is home for many res
 ident birds due to its habitat value. On this walk, Vicki Silvas-Young will
  show you how to identify the common birds of our area, as well as the nati
 ve plants they depend on for food, shelter, and nesting places. \nThe dista
 nce is 4 miles round trip on a level path. Bring a hat, water, your bird an
 d plant lists and binoculars. Wear comfortable walking shoes. Parking fee i
 s $6. \nSpace is limited. Please RSVP to Arvind Kumar at This email address
  is being protected from spambots. You need JavaScript enabled to view it.

 				document.getElementById('cloak05f587b1ad7dca69e73089cb4800ac39').innerH
 TML = '';
				var prefix = '&#109;a' + 'i&#108;' + '&#116;o';
				var path 
 = 'hr' + 'ef' + '=';
				var addy05f587b1ad7dca69e73089cb4800ac39 = '&#97;r
 v&#105;nd.k&#117;m&#97;r' + '&#64;';
				addy05f587b1ad7dca69e73089cb4800ac
 39 = addy05f587b1ad7dca69e73089cb4800ac39 + 'cnps' + '&#46;' + '&#111;rg';

 				var addy_text05f587b1ad7dca69e73089cb4800ac39 = '&#97;rv&#105;nd.k&#117
 ;m&#97;r' + '&#64;' + 'cnps' + '&#46;' + '&#111;rg';document.getElementById
 ('cloak05f587b1ad7dca69e73089cb4800ac39').innerHTML += '<a ' + path + '\'' 
 + prefix + ':' + addy05f587b1ad7dca69e73089cb4800ac39 + '\'>'+addy_text05f5
 87b1ad7dca69e73089cb4800ac39+'';
		 to reserve your spot and to receive dir
 ections and details. Cosponsored by CNPS, the Santa Clara Valley Audubon So
 ciety, and the Santa Clara Valley Open Space Authority. \n
X-ALT-DESC;FMTTYPE=text/html:<div class="page" title="Page 7"><div class="layoutArea"><div class="column
 "><p><span style="font-size: 11pt; font-family: TimesNewRoman;">As winter b
 egins, join us for a beginner&rsquo;s bird and plant identification walk th
 rough Lake Cunningham Park. </span></p><p><span style="font-size: 11pt; fon
 t-family: TimesNewRoman;">Lake Cunningham is a major destination for waterf
 owl and migratory birds and its native garden is home for many resident bir
 ds due to its habitat value. On this walk, Vicki Silvas-Young will show you
  how to identify the common birds of our area, as well as the native plants
  they depend on for food, shelter, and nesting places. </span></p><p><span 
 style="font-size: 11pt; font-family: TimesNewRoman;">The distance is 4 mile
 s round trip on a level path. Bring a hat, water, your bird and plant lists
  and binoculars. Wear comfortable walking shoes. Parking fee is $6. </span>
 </p><p><span style="font-size: 11pt; font-family: TimesNewRoman;">Space is 
 limited. </span><span style="font-size: 11pt; font-family: 'TimesNewRoman,B
 old';">Please RSVP </span><span style="font-size: 11pt; font-family: TimesN
 ewRoman;">to Arvind Kumar at <span id="cloak05f587b1ad7dca69e73089cb4800ac3
 9">This email address is being protected from spambots. You need JavaScript
  enabled to view it.</span><script type='text/javascript'>
				document.get
 ElementById('cloak05f587b1ad7dca69e73089cb4800ac39').innerHTML = '';
				va
 r prefix = '&#109;a' + 'i&#108;' + '&#116;o';
				var path = 'hr' + 'ef' + 
 '=';
				var addy05f587b1ad7dca69e73089cb4800ac39 = '&#97;rv&#105;nd.k&#117
 ;m&#97;r' + '&#64;';
				addy05f587b1ad7dca69e73089cb4800ac39 = addy05f587b
 1ad7dca69e73089cb4800ac39 + 'cnps' + '&#46;' + '&#111;rg';
				var addy_tex
 t05f587b1ad7dca69e73089cb4800ac39 = '&#97;rv&#105;nd.k&#117;m&#97;r' + '&#6
 4;' + 'cnps' + '&#46;' + '&#111;rg';document.getElementById('cloak05f587b1a
 d7dca69e73089cb4800ac39').innerHTML += '<a ' + path + '\'' + prefix + ':' +
  addy05f587b1ad7dca69e73089cb4800ac39 + '\'>'+addy_text05f587b1ad7dca69e730
 89cb4800ac39+'<\/a>';
		</script> to reserve your spot and to receive </spa
 n><span style="font-size: 11pt; font-family: 'TimesNewRoman,Bold';">directi
 ons </span><span style="font-size: 11pt; font-family: TimesNewRoman;">and d
 etails. Cosponsored by CNPS, the Santa Clara Valley Audubon Society, and th
 e Santa Clara Valley Open Space Authority. </span></p></div></div></div>
CONTACT:Please RSVP to Arvind Kumar at This email address is being protected from spambots. You need JavaScript enabled to view it.
				document.getElementById('cloakd22d5447072b35da5f26477dca447a68').innerHTML = '';
				var prefix = '&#109;a' + 'i&#108;' + '&#116;o';
				var path = 'hr' + 'ef' + '=';
				var addyd22d5447072b35da5f26477dca447a68 = '&#97;rv&#105;nd.k&#117;m&#97;r' + '&#64;';
				addyd22d5447072b35da5f26477dca447a68 = addyd22d5447072b35da5f26477dca447a68 + 'cnps' + '&#46;' + '&#111;rg';
				var addy_textd22d5447072b35da5f26477dca447a68 = '&#97;rv&#105;nd.k&#117;m&#97;r' + '&#64;' + 'cnps' + '&#46;' + '&#111;rg';document.getElementById('cloakd22d5447072b35da5f26477dca447a68').innerHTML += '<a ' + path + '\'' + prefix + ':' + addyd22d5447072b35da5f26477dca447a68 + '\'>'+addy_textd22d5447072b35da5f26477dca447a68+'';
		 to reserve your spot and to receive directions and details. 
DTSTAMP:20260423T032733
DTSTART;TZID=America/Tijuana:20161218T090000
DTEND;TZID=America/Tijuana:20161218T120000
SEQUENCE:0
TRANSP:OPAQUE
END:VEVENT
END:VCALENDAR