BEGIN:VCALENDAR
VERSION:2.0
PRODID:-//jEvents 2.0 for Joomla//EN
CALSCALE:GREGORIAN
METHOD:PUBLISH
BEGIN:VTIMEZONE
TZID:America/Tijuana
BEGIN:STANDARD
DTSTART:20160101T100000
RDATE:20160313T030000
TZOFFSETFROM:-0700
TZOFFSETTO:-0800
TZNAME:America/Tijuana PST
END:STANDARD
BEGIN:STANDARD
DTSTART:20161106T010000
RDATE:20170312T030000
TZOFFSETFROM:-0700
TZOFFSETTO:-0800
TZNAME:America/Tijuana PST
END:STANDARD
BEGIN:STANDARD
DTSTART:20171105T010000
RDATE:20180311T030000
TZOFFSETFROM:-0700
TZOFFSETTO:-0800
TZNAME:America/Tijuana PST
END:STANDARD
BEGIN:STANDARD
DTSTART:20181104T010000
RDATE:20190310T030000
TZOFFSETFROM:-0700
TZOFFSETTO:-0800
TZNAME:America/Tijuana PST
END:STANDARD
BEGIN:STANDARD
DTSTART:20191103T010000
RDATE:20200308T030000
TZOFFSETFROM:-0700
TZOFFSETTO:-0800
TZNAME:America/Tijuana PST
END:STANDARD
BEGIN:STANDARD
DTSTART:20201101T010000
RDATE:20210314T030000
TZOFFSETFROM:-0700
TZOFFSETTO:-0800
TZNAME:America/Tijuana PST
END:STANDARD
BEGIN:STANDARD
DTSTART:20211107T010000
RDATE:20220313T030000
TZOFFSETFROM:-0700
TZOFFSETTO:-0800
TZNAME:America/Tijuana PST
END:STANDARD
BEGIN:STANDARD
DTSTART:20221106T010000
RDATE:20230312T030000
TZOFFSETFROM:-0700
TZOFFSETTO:-0800
TZNAME:America/Tijuana PST
END:STANDARD
BEGIN:STANDARD
DTSTART:20231105T010000
RDATE:20240310T030000
TZOFFSETFROM:-0700
TZOFFSETTO:-0800
TZNAME:America/Tijuana PST
END:STANDARD
BEGIN:STANDARD
DTSTART:20241103T010000
RDATE:20250309T030000
TZOFFSETFROM:-0700
TZOFFSETTO:-0800
TZNAME:America/Tijuana PST
END:STANDARD
BEGIN:STANDARD
DTSTART:20251102T010000
RDATE:20260308T030000
TZOFFSETFROM:-0700
TZOFFSETTO:-0800
TZNAME:America/Tijuana PST
END:STANDARD
BEGIN:STANDARD
DTSTART:20261101T010000
RDATE:20270314T030000
TZOFFSETFROM:-0700
TZOFFSETTO:-0800
TZNAME:America/Tijuana PST
END:STANDARD
BEGIN:STANDARD
DTSTART:20271107T010000
RDATE:20280312T030000
TZOFFSETFROM:-0700
TZOFFSETTO:-0800
TZNAME:America/Tijuana PST
END:STANDARD
BEGIN:DAYLIGHT
DTSTART:20160313T030000
RDATE:20161106T010000
TZOFFSETFROM:-0800
TZOFFSETTO:-0700
TZNAME:America/Tijuana PDT
END:DAYLIGHT
BEGIN:DAYLIGHT
DTSTART:20170312T030000
RDATE:20171105T010000
TZOFFSETFROM:-0800
TZOFFSETTO:-0700
TZNAME:America/Tijuana PDT
END:DAYLIGHT
BEGIN:DAYLIGHT
DTSTART:20180311T030000
RDATE:20181104T010000
TZOFFSETFROM:-0800
TZOFFSETTO:-0700
TZNAME:America/Tijuana PDT
END:DAYLIGHT
BEGIN:DAYLIGHT
DTSTART:20190310T030000
RDATE:20191103T010000
TZOFFSETFROM:-0800
TZOFFSETTO:-0700
TZNAME:America/Tijuana PDT
END:DAYLIGHT
BEGIN:DAYLIGHT
DTSTART:20200308T030000
RDATE:20201101T010000
TZOFFSETFROM:-0800
TZOFFSETTO:-0700
TZNAME:America/Tijuana PDT
END:DAYLIGHT
BEGIN:DAYLIGHT
DTSTART:20210314T030000
RDATE:20211107T010000
TZOFFSETFROM:-0800
TZOFFSETTO:-0700
TZNAME:America/Tijuana PDT
END:DAYLIGHT
BEGIN:DAYLIGHT
DTSTART:20220313T030000
RDATE:20221106T010000
TZOFFSETFROM:-0800
TZOFFSETTO:-0700
TZNAME:America/Tijuana PDT
END:DAYLIGHT
BEGIN:DAYLIGHT
DTSTART:20230312T030000
RDATE:20231105T010000
TZOFFSETFROM:-0800
TZOFFSETTO:-0700
TZNAME:America/Tijuana PDT
END:DAYLIGHT
BEGIN:DAYLIGHT
DTSTART:20240310T030000
RDATE:20241103T010000
TZOFFSETFROM:-0800
TZOFFSETTO:-0700
TZNAME:America/Tijuana PDT
END:DAYLIGHT
BEGIN:DAYLIGHT
DTSTART:20250309T030000
RDATE:20251102T010000
TZOFFSETFROM:-0800
TZOFFSETTO:-0700
TZNAME:America/Tijuana PDT
END:DAYLIGHT
BEGIN:DAYLIGHT
DTSTART:20260308T030000
RDATE:20261101T010000
TZOFFSETFROM:-0800
TZOFFSETTO:-0700
TZNAME:America/Tijuana PDT
END:DAYLIGHT
BEGIN:DAYLIGHT
DTSTART:20270314T030000
RDATE:20271107T010000
TZOFFSETFROM:-0800
TZOFFSETTO:-0700
TZNAME:America/Tijuana PDT
END:DAYLIGHT
END:VTIMEZONE
BEGIN:VEVENT
UID:cd0218454fcd5e917d4efac70156104e
CATEGORIES:Field Trips
CREATED:20161213T095822
SUMMARY:Año Nuevo State Preserve field trip
LOCATION:Año Nuevo State Preserve (Hwy 1 coast-southern San Mateo County)
DESCRIPTION:Join us as we celebrate a Chapter tradition of welcoming the New Year with 
 a walk and picnic at Año Nuevo State Preserve on the San Mateo County coas
 t. The preserve is located south of Pescadero on Highway 1, just north of t
 he Santa Cruz County line. \nMeet in the parking lot ($10 day use fee) at 1
 0am. Latecomers will find us on the trail in the coastal prairie. We’ll enj
 oy sea cliff vegetation, raptors, songbirds and maybe marine mammals. We wi
 ll face an outgoing tide at noon, and may or may not be able to picnic on t
 he beach (in the area in which seal tour reservations are not required), de
 pending on our pace. \nAs this is a day to have fun at the beach with fello
 w Chapter members, the ending time and depth of botanical discussion may be
  extended depending on participants. We will finish at the visitor center. 
 Bring binoculars and layers for variable conditions including wind, sun and
  fog. \nHeavy rain cancels.  \n
X-ALT-DESC;FMTTYPE=text/html:<div class="page" title="Page 6"><div class="layoutArea"><div class="column
 "><p><span style="font-size: 11pt; font-family: TimesNewRoman;">Join us as 
 we celebrate a Chapter tradition of welcoming the New Year with a walk and 
 picnic at Año Nuevo State Preserve on the San Mateo County coast. The pres
 erve is located south of Pescadero on Highway 1, just north of the Santa Cr
 uz County line. </span></p><p><span style="font-size: 11pt; font-family: Ti
 mesNewRoman;">Meet in the parking lot ($10 day use fee) at </span><span sty
 le="font-size: 11pt; font-family: 'TimesNewRoman,Bold';">10am</span><span s
 tyle="font-size: 11pt; font-family: TimesNewRoman;">. Latecomers will find 
 us on the trail in the coastal prairie. We&rsquo;ll enjoy sea cliff vegetat
 ion, raptors, songbirds and maybe marine mammals. We will face an outgoing 
 tide at noon, and may or may not be able to picnic on the beach (in the are
 a in which seal tour reservations are not required), depending on our pace.
  </span></p><p><span style="font-size: 11pt; font-family: TimesNewRoman;">A
 s this is a day to have fun at the beach with fellow Chapter members, the e
 nding time and depth of botanical discussion may be extended depending on p
 articipants. We will finish at the visitor center. Bring binoculars and lay
 ers for variable conditions including wind, sun and fog. </span></p><p><spa
 n style="font-size: 11pt; font-family: TimesNewRoman;">Heavy rain cancels. 
  </span></p></div></div></div>
CONTACT:Carolyn Dorsch at This email address is being protected from spambots. You need JavaScript enabled to view it.
				document.getElementById('cloake58803d73a135ecfb8b52fb47ac37f17').innerHTML = '';
				var prefix = '&#109;a' + 'i&#108;' + '&#116;o';
				var path = 'hr' + 'ef' + '=';
				var addye58803d73a135ecfb8b52fb47ac37f17 = 'cd&#111;rsch1' + '&#64;';
				addye58803d73a135ecfb8b52fb47ac37f17 = addye58803d73a135ecfb8b52fb47ac37f17 + '&#97;&#111;l' + '&#46;' + 'c&#111;m';
				var addy_texte58803d73a135ecfb8b52fb47ac37f17 = 'cd&#111;rsch1' + '&#64;' + '&#97;&#111;l' + '&#46;' + 'c&#111;m';document.getElementById('cloake58803d73a135ecfb8b52fb47ac37f17').innerHTML += '<a ' + path + '\'' + prefix + ':' + addye58803d73a135ecfb8b52fb47ac37f17 + '\'>'+addy_texte58803d73a135ecfb8b52fb47ac37f17+'';
		 or 650-804-6162 (eves)
DTSTAMP:20260423T181857
DTSTART;TZID=America/Tijuana:20170101T100000
DTEND;TZID=America/Tijuana:20170101T140000
SEQUENCE:0
TRANSP:OPAQUE
END:VEVENT
END:VCALENDAR