BEGIN:VCALENDAR
VERSION:2.0
PRODID:-//jEvents 2.0 for Joomla//EN
CALSCALE:GREGORIAN
METHOD:PUBLISH
BEGIN:VTIMEZONE
TZID:America/Tijuana
BEGIN:STANDARD
DTSTART:20241103T010000
RDATE:20250309T030000
TZOFFSETFROM:-0700
TZOFFSETTO:-0800
TZNAME:America/Tijuana PST
END:STANDARD
BEGIN:STANDARD
DTSTART:20251102T010000
RDATE:20260308T030000
TZOFFSETFROM:-0700
TZOFFSETTO:-0800
TZNAME:America/Tijuana PST
END:STANDARD
BEGIN:STANDARD
DTSTART:20261101T010000
RDATE:20270314T030000
TZOFFSETFROM:-0700
TZOFFSETTO:-0800
TZNAME:America/Tijuana PST
END:STANDARD
BEGIN:STANDARD
DTSTART:20271107T010000
RDATE:20280312T030000
TZOFFSETFROM:-0700
TZOFFSETTO:-0800
TZNAME:America/Tijuana PST
END:STANDARD
BEGIN:DAYLIGHT
DTSTART:20240925T090000
RDATE:20241103T010000
TZOFFSETFROM:-0800
TZOFFSETTO:-0700
TZNAME:America/Tijuana PDT
END:DAYLIGHT
BEGIN:DAYLIGHT
DTSTART:20250309T030000
RDATE:20251102T010000
TZOFFSETFROM:-0800
TZOFFSETTO:-0700
TZNAME:America/Tijuana PDT
END:DAYLIGHT
BEGIN:DAYLIGHT
DTSTART:20260308T030000
RDATE:20261101T010000
TZOFFSETFROM:-0800
TZOFFSETTO:-0700
TZNAME:America/Tijuana PDT
END:DAYLIGHT
BEGIN:DAYLIGHT
DTSTART:20270314T030000
RDATE:20271107T010000
TZOFFSETFROM:-0800
TZOFFSETTO:-0700
TZNAME:America/Tijuana PDT
END:DAYLIGHT
END:VTIMEZONE
BEGIN:VEVENT
UID:c8993c9e8d1014d77665bde203cf5665
CATEGORIES:Habitat
CREATED:20241029T094543
SUMMARY:Edgewood Restoration
LOCATION:Edgewood Park and Natural Preserve
DESCRIPTION:<div class="page" title="Page 6"><div class="layoutArea"><div class="column
 "><p>Help restore habitat at Edgewood Park and Natural Preserve, known for 
 fabulous wildflowers and amazing diversity near Redwood City. Weeders see f
 ar more than weeds: we get to be up close to the native plants, some of whi
 ch are seen <strong>only</strong> by weeders.</p><div class="page" title="P
 age 7"><div class="layoutArea"><div class="column"><p>Sturdy gloves are rec
 ommended; you might also want to bring sunscreen, water, a hat, layered clo
 thing and wear long sleeves/pants.</p><p>We weed year-round every <strong>F
 riday at 9:00am</strong>. Our <strong>5:30pm Wednesday sessions</strong> wi
 ll resume in March of 2025, after Daylight Savings Time resumes. For an ove
 rview, please visit <a href="https://www.cnps-scv.org/restoration/edgewood-
 park">www.cnps-scv.org/restoration/edgewood-park</a>.</p><p>To participate,
  join the email list and sign the electronic volunteer agreement, by sendin
 g an email to weed- <a href="mailto:warriors-coord@friendsofedgewood.org.">
 <span id="cloak6610ecb757b3b07f90a7b7aecccba5b7">This email address is bein
 g protected from spambots. You need JavaScript enabled to view it.</span><s
 cript type='text/javascript'>
				document.getElementById('cloak6610ecb757b
 3b07f90a7b7aecccba5b7').innerHTML = '';
				var prefix = '&#109;a' + 'i&#10
 8;' + '&#116;o';
				var path = 'hr' + 'ef' + '=';
				var addy6610ecb757b3
 b07f90a7b7aecccba5b7 = 'w&#97;rr&#105;&#111;rs-c&#111;&#111;rd' + '&#64;';

 				addy6610ecb757b3b07f90a7b7aecccba5b7 = addy6610ecb757b3b07f90a7b7aecccb
 a5b7 + 'fr&#105;&#101;nds&#111;f&#101;dg&#101;w&#111;&#111;d' + '&#46;' + '
 &#111;rg';
				var addy_text6610ecb757b3b07f90a7b7aecccba5b7 = 'w&#97;rr&#1
 05;&#111;rs-c&#111;&#111;rd' + '&#64;' + 'fr&#105;&#101;nds&#111;f&#101;dg&
 #101;w&#111;&#111;d' + '&#46;' + '&#111;rg';document.getElementById('cloak6
 610ecb757b3b07f90a7b7aecccba5b7').innerHTML += '<a ' + path + '\'' + prefix
  + ':' + addy6610ecb757b3b07f90a7b7aecccba5b7 + '\'>'+addy_text6610ecb757b3
 b07f90a7b7aecccba5b7+'<\/a>';
		</script>.</a></p><p>Please check the email
  list for each weeding session’s meeting place. For questions about Friday 
 sessions, contact Paul Heiple at <span id="cloakede557b39c71b4f0089a11dd763
 ff083">This email address is being protected from spambots. You need JavaSc
 ript enabled to view it.</span><script type='text/javascript'>
				document
 .getElementById('cloakede557b39c71b4f0089a11dd763ff083').innerHTML = '';
		
 		var prefix = '&#109;a' + 'i&#108;' + '&#116;o';
				var path = 'hr' + 'ef
 ' + '=';
				var addyede557b39c71b4f0089a11dd763ff083 = 'ph&#101;&#105;pl&#
 101;' + '&#64;';
				addyede557b39c71b4f0089a11dd763ff083 = addyede557b39c7
 1b4f0089a11dd763ff083 + 'gm&#97;&#105;l' + '&#46;' + 'c&#111;m';
				var ad
 dy_textede557b39c71b4f0089a11dd763ff083 = 'ph&#101;&#105;pl&#101;' + '&#64;
 ' + 'gm&#97;&#105;l' + '&#46;' + 'c&#111;m';document.getElementById('cloake
 de557b39c71b4f0089a11dd763ff083').innerHTML += '<a ' + path + '\'' + prefix
  + ':' + addyede557b39c71b4f0089a11dd763ff083 + '\'>'+addy_textede557b39c71
 b4f0089a11dd763ff083+'<\/a>';
		</script> or (650) 854-7125.</p></div></div
 ></div></div></div></div>
CONTACT:Paul Heiple at This email address is being protected from spambots. You need JavaScript enabled to view it.
				document.getElementById('cloak12b08b462af0ef5080e6da6808b76db9').innerHTML = '';
				var prefix = '&#109;a' + 'i&#108;' + '&#116;o';
				var path = 'hr' + 'ef' + '=';
				var addy12b08b462af0ef5080e6da6808b76db9 = 'ph&#101;&#105;pl&#101;' + '&#64;';
				addy12b08b462af0ef5080e6da6808b76db9 = addy12b08b462af0ef5080e6da6808b76db9 + 'gm&#97;&#105;l' + '&#46;' + 'c&#111;m';
				var addy_text12b08b462af0ef5080e6da6808b76db9 = 'ph&#101;&#105;pl&#101;' + '&#64;' + 'gm&#97;&#105;l' + '&#46;' + 'c&#111;m';document.getElementById('cloak12b08b462af0ef5080e6da6808b76db9').innerHTML += '<a ' + path + '\'' + prefix + ':' + addy12b08b462af0ef5080e6da6808b76db9 + '\'>'+addy_text12b08b462af0ef5080e6da6808b76db9+'';
		 or (650) 854-7125
DTSTAMP:20260419T143924
DTSTART;TZID=America/Tijuana:20250926T090000
SEQUENCE:0
TRANSP:OPAQUE
END:VEVENT
END:VCALENDAR