BEGIN:VCALENDAR
VERSION:2.0
PRODID:-//jEvents 2.0 for Joomla//EN
CALSCALE:GREGORIAN
METHOD:PUBLISH
BEGIN:VTIMEZONE
TZID:America/Tijuana
BEGIN:STANDARD
DTSTART:20240106T190000
RDATE:20240310T030000
TZOFFSETFROM:-0700
TZOFFSETTO:-0800
TZNAME:America/Tijuana PST
END:STANDARD
BEGIN:STANDARD
DTSTART:20241103T010000
RDATE:20250309T030000
TZOFFSETFROM:-0700
TZOFFSETTO:-0800
TZNAME:America/Tijuana PST
END:STANDARD
BEGIN:STANDARD
DTSTART:20251102T010000
RDATE:20260308T030000
TZOFFSETFROM:-0700
TZOFFSETTO:-0800
TZNAME:America/Tijuana PST
END:STANDARD
BEGIN:STANDARD
DTSTART:20261101T010000
RDATE:20270314T030000
TZOFFSETFROM:-0700
TZOFFSETTO:-0800
TZNAME:America/Tijuana PST
END:STANDARD
BEGIN:STANDARD
DTSTART:20271107T010000
RDATE:20280312T030000
TZOFFSETFROM:-0700
TZOFFSETTO:-0800
TZNAME:America/Tijuana PST
END:STANDARD
BEGIN:DAYLIGHT
DTSTART:20240310T030000
RDATE:20241103T010000
TZOFFSETFROM:-0800
TZOFFSETTO:-0700
TZNAME:America/Tijuana PDT
END:DAYLIGHT
BEGIN:DAYLIGHT
DTSTART:20250309T030000
RDATE:20251102T010000
TZOFFSETFROM:-0800
TZOFFSETTO:-0700
TZNAME:America/Tijuana PDT
END:DAYLIGHT
BEGIN:DAYLIGHT
DTSTART:20260308T030000
RDATE:20261101T010000
TZOFFSETFROM:-0800
TZOFFSETTO:-0700
TZNAME:America/Tijuana PDT
END:DAYLIGHT
BEGIN:DAYLIGHT
DTSTART:20270314T030000
RDATE:20271107T010000
TZOFFSETFROM:-0800
TZOFFSETTO:-0700
TZNAME:America/Tijuana PDT
END:DAYLIGHT
END:VTIMEZONE
BEGIN:VEVENT
UID:e5c009a2fca0341d23dd4131609c79ee
CATEGORIES:Meetings
CREATED:20240418T071553
SUMMARY:Conservation Committee
LOCATION:Zoom
DESCRIPTION:<div class="page" title="Page 6"><div class="layoutArea"><div class="column
 "><p>This committee covers many issues affecting native plants: conservatio
 n, advocacy, legislation, habitat restoration and rare plants. The committe
 e meets once a month to provide information and support for these conservat
 ion issues and efforts. Members of our committee work on projects throughou
 t the Chapter area, coordinating with our state CNPS program staff and othe
 r conservation organizations.</p><p>Please join us in our important work! F
 or questions, comments or concerns, contact Committee Chair Carolyn Dorsch 
 at <span id="cloak4fc731a76588e3559bf9a2f0ee0d8c5b">This email address is b
 eing protected from spambots. You need JavaScript enabled to view it.</span
 ><script type='text/javascript'>
				document.getElementById('cloak4fc731a7
 6588e3559bf9a2f0ee0d8c5b').innerHTML = '';
				var prefix = '&#109;a' + 'i&
 #108;' + '&#116;o';
				var path = 'hr' + 'ef' + '=';
				var addy4fc731a76
 588e3559bf9a2f0ee0d8c5b = 'cd&#111;rsch' + '&#64;';
				addy4fc731a76588e35
 59bf9a2f0ee0d8c5b = addy4fc731a76588e3559bf9a2f0ee0d8c5b + 'cnps-scv' + '&#
 46;' + '&#111;rg';
				var addy_text4fc731a76588e3559bf9a2f0ee0d8c5b = 'cd&
 #111;rsch' + '&#64;' + 'cnps-scv' + '&#46;' + '&#111;rg';document.getElemen
 tById('cloak4fc731a76588e3559bf9a2f0ee0d8c5b').innerHTML += '<a ' + path + 
 '\'' + prefix + ':' + addy4fc731a76588e3559bf9a2f0ee0d8c5b + '\'>'+addy_tex
 t4fc731a76588e3559bf9a2f0ee0d8c5b+'<\/a>';
		</script> or (650) 804-6162, o
 r Conservation Chair Judy Fenerty at <a href="mailto:judy@fenerty.com."><sp
 an id="cloak4e68193d9ed601c26a7018a94597a6e9">This email address is being p
 rotected from spambots. You need JavaScript enabled to view it.</span><scri
 pt type='text/javascript'>
				document.getElementById('cloak4e68193d9ed601
 c26a7018a94597a6e9').innerHTML = '';
				var prefix = '&#109;a' + 'i&#108;'
  + '&#116;o';
				var path = 'hr' + 'ef' + '=';
				var addy4e68193d9ed601c
 26a7018a94597a6e9 = 'j&#117;dy' + '&#64;';
				addy4e68193d9ed601c26a7018a9
 4597a6e9 = addy4e68193d9ed601c26a7018a94597a6e9 + 'f&#101;n&#101;rty' + '&#
 46;' + 'c&#111;m';
				var addy_text4e68193d9ed601c26a7018a94597a6e9 = 'j&#
 117;dy' + '&#64;' + 'f&#101;n&#101;rty' + '&#46;' + 'c&#111;m';document.get
 ElementById('cloak4e68193d9ed601c26a7018a94597a6e9').innerHTML += '<a ' + p
 ath + '\'' + prefix + ':' + addy4e68193d9ed601c26a7018a94597a6e9 + '\'>'+ad
 dy_text4e68193d9ed601c26a7018a94597a6e9+'<\/a>';
		</script>.</a> If you ar
 e interested in joining our committee meetings on Zoom, please email Caroly
 n for the link.</p></div></div></div>
CONTACT:Committee Chair Carolyn Dorsch at This email address is being protected from spambots. You need JavaScript enabled to view it.
				document.getElementById('cloak85ab9969d662c5a4001d8dac4ea0530a').innerHTML = '';
				var prefix = '&#109;a' + 'i&#108;' + '&#116;o';
				var path = 'hr' + 'ef' + '=';
				var addy85ab9969d662c5a4001d8dac4ea0530a = 'cd&#111;rsch' + '&#64;';
				addy85ab9969d662c5a4001d8dac4ea0530a = addy85ab9969d662c5a4001d8dac4ea0530a + 'cnps-scv' + '&#46;' + '&#111;rg';
				var addy_text85ab9969d662c5a4001d8dac4ea0530a = 'cd&#111;rsch' + '&#64;' + 'cnps-scv' + '&#46;' + '&#111;rg';document.getElementById('cloak85ab9969d662c5a4001d8dac4ea0530a').innerHTML += '<a ' + path + '\'' + prefix + ':' + addy85ab9969d662c5a4001d8dac4ea0530a + '\'>'+addy_text85ab9969d662c5a4001d8dac4ea0530a+'';
		 or (650) 804-6162, or Judy Fenerty at This email address is being protected from spambots. You need JavaScript enabled to view it.
				document.getElementById('cloakac746740074d31c098582f606786f7c3').innerHTML = '';
				var prefix = '&#109;a' + 'i&#108;' + '&#116;o';
				var path = 'hr' + 'ef' + '=';
				var addyac746740074d31c098582f606786f7c3 = 'j&#117;dy' + '&#64;';
				addyac746740074d31c098582f606786f7c3 = addyac746740074d31c098582f606786f7c3 + 'f&#101;n&#101;rty' + '&#46;' + 'c&#111;m';
				var addy_textac746740074d31c098582f606786f7c3 = 'j&#117;dy' + '&#64;' + 'f&#101;n&#101;rty' + '&#46;' + 'c&#111;m';document.getElementById('cloakac746740074d31c098582f606786f7c3').innerHTML += '<a ' + path + '\'' + prefix + ':' + addyac746740074d31c098582f606786f7c3 + '\'>'+addy_textac746740074d31c098582f606786f7c3+'';
		
DTSTAMP:20260424T011330
DTSTART;TZID=America/Tijuana:20250106T190000
DTEND;TZID=America/Tijuana:20250106T203000
SEQUENCE:0
TRANSP:OPAQUE
END:VEVENT
END:VCALENDAR