BEGIN:VCALENDAR
VERSION:2.0
PRODID:-//jEvents 2.0 for Joomla//EN
CALSCALE:GREGORIAN
METHOD:PUBLISH
BEGIN:VTIMEZONE
TZID:America/Tijuana
BEGIN:STANDARD
DTSTART:20240203T190000
RDATE:20240310T030000
TZOFFSETFROM:-0700
TZOFFSETTO:-0800
TZNAME:America/Tijuana PST
END:STANDARD
BEGIN:STANDARD
DTSTART:20241103T010000
RDATE:20250309T030000
TZOFFSETFROM:-0700
TZOFFSETTO:-0800
TZNAME:America/Tijuana PST
END:STANDARD
BEGIN:STANDARD
DTSTART:20251102T010000
RDATE:20260308T030000
TZOFFSETFROM:-0700
TZOFFSETTO:-0800
TZNAME:America/Tijuana PST
END:STANDARD
BEGIN:STANDARD
DTSTART:20261101T010000
RDATE:20270314T030000
TZOFFSETFROM:-0700
TZOFFSETTO:-0800
TZNAME:America/Tijuana PST
END:STANDARD
BEGIN:STANDARD
DTSTART:20271107T010000
RDATE:20280312T030000
TZOFFSETFROM:-0700
TZOFFSETTO:-0800
TZNAME:America/Tijuana PST
END:STANDARD
BEGIN:DAYLIGHT
DTSTART:20240310T030000
RDATE:20241103T010000
TZOFFSETFROM:-0800
TZOFFSETTO:-0700
TZNAME:America/Tijuana PDT
END:DAYLIGHT
BEGIN:DAYLIGHT
DTSTART:20250309T030000
RDATE:20251102T010000
TZOFFSETFROM:-0800
TZOFFSETTO:-0700
TZNAME:America/Tijuana PDT
END:DAYLIGHT
BEGIN:DAYLIGHT
DTSTART:20260308T030000
RDATE:20261101T010000
TZOFFSETFROM:-0800
TZOFFSETTO:-0700
TZNAME:America/Tijuana PDT
END:DAYLIGHT
BEGIN:DAYLIGHT
DTSTART:20270314T030000
RDATE:20271107T010000
TZOFFSETFROM:-0800
TZOFFSETTO:-0700
TZNAME:America/Tijuana PDT
END:DAYLIGHT
END:VTIMEZONE
BEGIN:VEVENT
UID:e5c009a2fca0341d23dd4131609c79ee
CATEGORIES:Meetings
CREATED:20240418T071553
SUMMARY:Conservation Committee
LOCATION:Zoom
DESCRIPTION:<div class="page" title="Page 6"><div class="layoutArea"><div class="column
 "><p>This committee covers many issues affecting native plants: conservatio
 n, advocacy, legislation, habitat restoration and rare plants. The committe
 e meets once a month to provide information and support for these conservat
 ion issues and efforts. Members of our committee work on projects throughou
 t the Chapter area, coordinating with our state CNPS program staff and othe
 r conservation organizations.</p><p>Please join us in our important work! F
 or questions, comments or concerns, contact Committee Chair Carolyn Dorsch 
 at <span id="cloak2b14437e9699c702bd6362e09394494b">This email address is b
 eing protected from spambots. You need JavaScript enabled to view it.</span
 ><script type='text/javascript'>
				document.getElementById('cloak2b14437e
 9699c702bd6362e09394494b').innerHTML = '';
				var prefix = '&#109;a' + 'i&
 #108;' + '&#116;o';
				var path = 'hr' + 'ef' + '=';
				var addy2b14437e9
 699c702bd6362e09394494b = 'cd&#111;rsch' + '&#64;';
				addy2b14437e9699c70
 2bd6362e09394494b = addy2b14437e9699c702bd6362e09394494b + 'cnps-scv' + '&#
 46;' + '&#111;rg';
				var addy_text2b14437e9699c702bd6362e09394494b = 'cd&
 #111;rsch' + '&#64;' + 'cnps-scv' + '&#46;' + '&#111;rg';document.getElemen
 tById('cloak2b14437e9699c702bd6362e09394494b').innerHTML += '<a ' + path + 
 '\'' + prefix + ':' + addy2b14437e9699c702bd6362e09394494b + '\'>'+addy_tex
 t2b14437e9699c702bd6362e09394494b+'<\/a>';
		</script> or (650) 804-6162, o
 r Conservation Chair Judy Fenerty at <a href="mailto:judy@fenerty.com."><sp
 an id="cloak5e36e1369d1880d056ef09dc3696144a">This email address is being p
 rotected from spambots. You need JavaScript enabled to view it.</span><scri
 pt type='text/javascript'>
				document.getElementById('cloak5e36e1369d1880
 d056ef09dc3696144a').innerHTML = '';
				var prefix = '&#109;a' + 'i&#108;'
  + '&#116;o';
				var path = 'hr' + 'ef' + '=';
				var addy5e36e1369d1880d
 056ef09dc3696144a = 'j&#117;dy' + '&#64;';
				addy5e36e1369d1880d056ef09dc
 3696144a = addy5e36e1369d1880d056ef09dc3696144a + 'f&#101;n&#101;rty' + '&#
 46;' + 'c&#111;m';
				var addy_text5e36e1369d1880d056ef09dc3696144a = 'j&#
 117;dy' + '&#64;' + 'f&#101;n&#101;rty' + '&#46;' + 'c&#111;m';document.get
 ElementById('cloak5e36e1369d1880d056ef09dc3696144a').innerHTML += '<a ' + p
 ath + '\'' + prefix + ':' + addy5e36e1369d1880d056ef09dc3696144a + '\'>'+ad
 dy_text5e36e1369d1880d056ef09dc3696144a+'<\/a>';
		</script>.</a> If you ar
 e interested in joining our committee meetings on Zoom, please email Caroly
 n for the link.</p></div></div></div>
CONTACT:Committee Chair Carolyn Dorsch at This email address is being protected from spambots. You need JavaScript enabled to view it.
				document.getElementById('cloak81c216826426f1a275d04b374a01b473').innerHTML = '';
				var prefix = '&#109;a' + 'i&#108;' + '&#116;o';
				var path = 'hr' + 'ef' + '=';
				var addy81c216826426f1a275d04b374a01b473 = 'cd&#111;rsch' + '&#64;';
				addy81c216826426f1a275d04b374a01b473 = addy81c216826426f1a275d04b374a01b473 + 'cnps-scv' + '&#46;' + '&#111;rg';
				var addy_text81c216826426f1a275d04b374a01b473 = 'cd&#111;rsch' + '&#64;' + 'cnps-scv' + '&#46;' + '&#111;rg';document.getElementById('cloak81c216826426f1a275d04b374a01b473').innerHTML += '<a ' + path + '\'' + prefix + ':' + addy81c216826426f1a275d04b374a01b473 + '\'>'+addy_text81c216826426f1a275d04b374a01b473+'';
		 or (650) 804-6162, or Judy Fenerty at This email address is being protected from spambots. You need JavaScript enabled to view it.
				document.getElementById('cloak093b84ab79e93f009236008cc3844a51').innerHTML = '';
				var prefix = '&#109;a' + 'i&#108;' + '&#116;o';
				var path = 'hr' + 'ef' + '=';
				var addy093b84ab79e93f009236008cc3844a51 = 'j&#117;dy' + '&#64;';
				addy093b84ab79e93f009236008cc3844a51 = addy093b84ab79e93f009236008cc3844a51 + 'f&#101;n&#101;rty' + '&#46;' + 'c&#111;m';
				var addy_text093b84ab79e93f009236008cc3844a51 = 'j&#117;dy' + '&#64;' + 'f&#101;n&#101;rty' + '&#46;' + 'c&#111;m';document.getElementById('cloak093b84ab79e93f009236008cc3844a51').innerHTML += '<a ' + path + '\'' + prefix + ':' + addy093b84ab79e93f009236008cc3844a51 + '\'>'+addy_text093b84ab79e93f009236008cc3844a51+'';
		
DTSTAMP:20260423T215834
DTSTART;TZID=America/Tijuana:20250203T190000
DTEND;TZID=America/Tijuana:20250203T203000
SEQUENCE:0
TRANSP:OPAQUE
END:VEVENT
END:VCALENDAR