BEGIN:VCALENDAR
VERSION:2.0
PRODID:-//jEvents 2.0 for Joomla//EN
CALSCALE:GREGORIAN
METHOD:PUBLISH
BEGIN:VTIMEZONE
TZID:America/Tijuana
BEGIN:STANDARD
DTSTART:20241103T010000
RDATE:20250309T030000
TZOFFSETFROM:-0700
TZOFFSETTO:-0800
TZNAME:America/Tijuana PST
END:STANDARD
BEGIN:STANDARD
DTSTART:20251102T010000
RDATE:20260308T030000
TZOFFSETFROM:-0700
TZOFFSETTO:-0800
TZNAME:America/Tijuana PST
END:STANDARD
BEGIN:STANDARD
DTSTART:20261101T010000
RDATE:20270314T030000
TZOFFSETFROM:-0700
TZOFFSETTO:-0800
TZNAME:America/Tijuana PST
END:STANDARD
BEGIN:STANDARD
DTSTART:20271107T010000
RDATE:20280312T030000
TZOFFSETFROM:-0700
TZOFFSETTO:-0800
TZNAME:America/Tijuana PST
END:STANDARD
BEGIN:DAYLIGHT
DTSTART:20240406T190000
RDATE:20241103T010000
TZOFFSETFROM:-0800
TZOFFSETTO:-0700
TZNAME:America/Tijuana PDT
END:DAYLIGHT
BEGIN:DAYLIGHT
DTSTART:20250309T030000
RDATE:20251102T010000
TZOFFSETFROM:-0800
TZOFFSETTO:-0700
TZNAME:America/Tijuana PDT
END:DAYLIGHT
BEGIN:DAYLIGHT
DTSTART:20260308T030000
RDATE:20261101T010000
TZOFFSETFROM:-0800
TZOFFSETTO:-0700
TZNAME:America/Tijuana PDT
END:DAYLIGHT
BEGIN:DAYLIGHT
DTSTART:20270314T030000
RDATE:20271107T010000
TZOFFSETFROM:-0800
TZOFFSETTO:-0700
TZNAME:America/Tijuana PDT
END:DAYLIGHT
END:VTIMEZONE
BEGIN:VEVENT
UID:e5c009a2fca0341d23dd4131609c79ee
CATEGORIES:Meetings
CREATED:20240418T071553
SUMMARY:Conservation Committee
LOCATION:Zoom
DESCRIPTION:This committee covers many issues affecting native plants: conservation, ad
 vocacy, legislation, habitat restoration and rare plants. The committee mee
 ts once a month to provide information and support for these conservation i
 ssues and efforts. Members of our committee work on projects throughout the
  Chapter area, coordinating with our state CNPS program staff and other con
 servation organizations.\nPlease join us in our important work! For questio
 ns, comments or concerns, contact Committee Chair Carolyn Dorsch at This em
 ail address is being protected from spambots. You need JavaScript enabled t
 o view it.
				document.getElementById('cloakf61b28daabb7647619ee6359ae1fd5
 a0').innerHTML = '';
				var prefix = '&#109;a' + 'i&#108;' + '&#116;o';
		
 		var path = 'hr' + 'ef' + '=';
				var addyf61b28daabb7647619ee6359ae1fd5a
 0 = 'cd&#111;rsch' + '&#64;';
				addyf61b28daabb7647619ee6359ae1fd5a0 = ad
 dyf61b28daabb7647619ee6359ae1fd5a0 + 'cnps-scv' + '&#46;' + '&#111;rg';
			
 	var addy_textf61b28daabb7647619ee6359ae1fd5a0 = 'cd&#111;rsch' + '&#64;' +
  'cnps-scv' + '&#46;' + '&#111;rg';document.getElementById('cloakf61b28daab
 b7647619ee6359ae1fd5a0').innerHTML += '<a ' + path + '\'' + prefix + ':' + 
 addyf61b28daabb7647619ee6359ae1fd5a0 + '\'>'+addy_textf61b28daabb7647619ee6
 359ae1fd5a0+'';
		 or (650) 804-6162, or Conservation Chair Judy Fenerty at
  This email address is being protected from spambots. You need JavaScript e
 nabled to view it.
				document.getElementById('cloak71d623f3e40a80474b73f0
 2cf737de95').innerHTML = '';
				var prefix = '&amp;#109;a' + 'i&amp;#108;'
  + '&amp;#116;o';
				var path = 'hr' + 'ef' + '=';
				var addy71d623f3e40
 a80474b73f02cf737de95 = 'j&amp;#117;dy' + '&amp;#64;';
				addy71d623f3e40a
 80474b73f02cf737de95 = addy71d623f3e40a80474b73f02cf737de95 + 'f&amp;#101;n
 &amp;#101;rty' + '&amp;#46;' + 'c&amp;#111;m';
				var addy_text71d623f3e40
 a80474b73f02cf737de95 = 'j&amp;#117;dy' + '&amp;#64;' + 'f&amp;#101;n&amp;#
 101;rty' + '&amp;#46;' + 'c&amp;#111;m';document.getElementById('cloak71d62
 3f3e40a80474b73f02cf737de95').innerHTML += '&lt;a ' + path + '\'' + prefix 
 + ':' + addy71d623f3e40a80474b73f02cf737de95 + '\'&gt;'+addy_text71d623f3e4
 0a80474b73f02cf737de95+'&lt;\/a&gt;';
		. (mailto:judy@fenerty.com.) If you
  are interested in joining our committee meetings on Zoom, please email Car
 olyn for the link.\n
X-ALT-DESC;FMTTYPE=text/html:<div class="page" title="Page 6"><div class="layoutArea"><div class="column
 "><p>This committee covers many issues affecting native plants: conservatio
 n, advocacy, legislation, habitat restoration and rare plants. The committe
 e meets once a month to provide information and support for these conservat
 ion issues and efforts. Members of our committee work on projects throughou
 t the Chapter area, coordinating with our state CNPS program staff and othe
 r conservation organizations.</p><p>Please join us in our important work! F
 or questions, comments or concerns, contact Committee Chair Carolyn Dorsch 
 at <span id="cloakf61b28daabb7647619ee6359ae1fd5a0">This email address is b
 eing protected from spambots. You need JavaScript enabled to view it.</span
 ><script type='text/javascript'>
				document.getElementById('cloakf61b28da
 abb7647619ee6359ae1fd5a0').innerHTML = '';
				var prefix = '&#109;a' + 'i&
 #108;' + '&#116;o';
				var path = 'hr' + 'ef' + '=';
				var addyf61b28daa
 bb7647619ee6359ae1fd5a0 = 'cd&#111;rsch' + '&#64;';
				addyf61b28daabb7647
 619ee6359ae1fd5a0 = addyf61b28daabb7647619ee6359ae1fd5a0 + 'cnps-scv' + '&#
 46;' + '&#111;rg';
				var addy_textf61b28daabb7647619ee6359ae1fd5a0 = 'cd&
 #111;rsch' + '&#64;' + 'cnps-scv' + '&#46;' + '&#111;rg';document.getElemen
 tById('cloakf61b28daabb7647619ee6359ae1fd5a0').innerHTML += '<a ' + path + 
 '\'' + prefix + ':' + addyf61b28daabb7647619ee6359ae1fd5a0 + '\'>'+addy_tex
 tf61b28daabb7647619ee6359ae1fd5a0+'<\/a>';
		</script> or (650) 804-6162, o
 r Conservation Chair Judy Fenerty at <a href="mailto:judy@fenerty.com."><sp
 an id="cloak71d623f3e40a80474b73f02cf737de95">This email address is being p
 rotected from spambots. You need JavaScript enabled to view it.</span><scri
 pt type='text/javascript'>
				document.getElementById('cloak71d623f3e40a80
 474b73f02cf737de95').innerHTML = '';
				var prefix = '&#109;a' + 'i&#108;'
  + '&#116;o';
				var path = 'hr' + 'ef' + '=';
				var addy71d623f3e40a804
 74b73f02cf737de95 = 'j&#117;dy' + '&#64;';
				addy71d623f3e40a80474b73f02c
 f737de95 = addy71d623f3e40a80474b73f02cf737de95 + 'f&#101;n&#101;rty' + '&#
 46;' + 'c&#111;m';
				var addy_text71d623f3e40a80474b73f02cf737de95 = 'j&#
 117;dy' + '&#64;' + 'f&#101;n&#101;rty' + '&#46;' + 'c&#111;m';document.get
 ElementById('cloak71d623f3e40a80474b73f02cf737de95').innerHTML += '<a ' + p
 ath + '\'' + prefix + ':' + addy71d623f3e40a80474b73f02cf737de95 + '\'>'+ad
 dy_text71d623f3e40a80474b73f02cf737de95+'<\/a>';
		</script>.</a> If you ar
 e interested in joining our committee meetings on Zoom, please email Caroly
 n for the link.</p></div></div></div>
CONTACT:Committee Chair Carolyn Dorsch at This email address is being protected from spambots. You need JavaScript enabled to view it.
				document.getElementById('cloak9c2fcceea3803654100b155bf60de412').innerHTML = '';
				var prefix = '&#109;a' + 'i&#108;' + '&#116;o';
				var path = 'hr' + 'ef' + '=';
				var addy9c2fcceea3803654100b155bf60de412 = 'cd&#111;rsch' + '&#64;';
				addy9c2fcceea3803654100b155bf60de412 = addy9c2fcceea3803654100b155bf60de412 + 'cnps-scv' + '&#46;' + '&#111;rg';
				var addy_text9c2fcceea3803654100b155bf60de412 = 'cd&#111;rsch' + '&#64;' + 'cnps-scv' + '&#46;' + '&#111;rg';document.getElementById('cloak9c2fcceea3803654100b155bf60de412').innerHTML += '<a ' + path + '\'' + prefix + ':' + addy9c2fcceea3803654100b155bf60de412 + '\'>'+addy_text9c2fcceea3803654100b155bf60de412+'';
		 or (650) 804-6162, or Judy Fenerty at This email address is being protected from spambots. You need JavaScript enabled to view it.
				document.getElementById('cloak08aaa93de0cc26b45a50cea01a098e1c').innerHTML = '';
				var prefix = '&#109;a' + 'i&#108;' + '&#116;o';
				var path = 'hr' + 'ef' + '=';
				var addy08aaa93de0cc26b45a50cea01a098e1c = 'j&#117;dy' + '&#64;';
				addy08aaa93de0cc26b45a50cea01a098e1c = addy08aaa93de0cc26b45a50cea01a098e1c + 'f&#101;n&#101;rty' + '&#46;' + 'c&#111;m';
				var addy_text08aaa93de0cc26b45a50cea01a098e1c = 'j&#117;dy' + '&#64;' + 'f&#101;n&#101;rty' + '&#46;' + 'c&#111;m';document.getElementById('cloak08aaa93de0cc26b45a50cea01a098e1c').innerHTML += '<a ' + path + '\'' + prefix + ':' + addy08aaa93de0cc26b45a50cea01a098e1c + '\'>'+addy_text08aaa93de0cc26b45a50cea01a098e1c+'';
		
DTSTAMP:20260421T175847
DTSTART;TZID=America/Tijuana:20250407T190000
DTEND;TZID=America/Tijuana:20250407T203000
SEQUENCE:0
TRANSP:OPAQUE
END:VEVENT
END:VCALENDAR