BEGIN:VCALENDAR
VERSION:2.0
PRODID:-//jEvents 2.0 for Joomla//EN
CALSCALE:GREGORIAN
METHOD:PUBLISH
BEGIN:VTIMEZONE
TZID:America/Tijuana
BEGIN:STANDARD
DTSTART:20251215T173000
RDATE:20260308T030000
TZOFFSETFROM:-0700
TZOFFSETTO:-0800
TZNAME:America/Tijuana PST
END:STANDARD
BEGIN:STANDARD
DTSTART:20261101T010000
RDATE:20270314T030000
TZOFFSETFROM:-0700
TZOFFSETTO:-0800
TZNAME:America/Tijuana PST
END:STANDARD
BEGIN:STANDARD
DTSTART:20271107T010000
RDATE:20280312T030000
TZOFFSETFROM:-0700
TZOFFSETTO:-0800
TZNAME:America/Tijuana PST
END:STANDARD
BEGIN:DAYLIGHT
DTSTART:20260308T030000
RDATE:20261101T010000
TZOFFSETFROM:-0800
TZOFFSETTO:-0700
TZNAME:America/Tijuana PDT
END:DAYLIGHT
BEGIN:DAYLIGHT
DTSTART:20270314T030000
RDATE:20271107T010000
TZOFFSETFROM:-0800
TZOFFSETTO:-0700
TZNAME:America/Tijuana PDT
END:DAYLIGHT
END:VTIMEZONE
BEGIN:VEVENT
UID:9b20a9a5175d99a131b75bd6c6304a39
CATEGORIES:Habitat
CREATED:20251217T062706
SUMMARY:Edgewood Restoration
LOCATION:Edgewood Park and Natural Preserve
DESCRIPTION:<div class="page" title="Page 6"><div class="layoutArea"><div class="column
 "><p>Help restore habitat at Edgewood Park and Natural Preserve, known for 
 fabulous wildflowers and amazing diversity near Redwood City. Weeders see f
 ar more than weeds: we get to be up close to the native plants, some of whi
 ch are seen <strong>only</strong> by weeders.</p><div class="page" title="P
 age 7"><div class="layoutArea"><div class="column"><p>Sturdy gloves are rec
 ommended; you might also want to bring sunscreen, water, a hat, layered clo
 thing and wear long sleeves/pants.</p><p>We weed year-round every <strong>F
 riday at 9:00am</strong>. Our <strong>5:30pm Wednesday sessions</strong> wi
 ll resume in March of 2025, after Daylight Savings Time resumes. For an ove
 rview, please visit <a href="https://www.cnps-scv.org/restoration/edgewood-
 park">www.cnps-scv.org/restoration/edgewood-park</a>.</p><p>To participate,
  join the email list and sign the electronic volunteer agreement, by sendin
 g an email to weed- <a href="mailto:warriors-coord@friendsofedgewood.org.">
 <span id="cloak24ccabbfc5db115954d0834f71c27de8">This email address is bein
 g protected from spambots. You need JavaScript enabled to view it.</span><s
 cript type='text/javascript'>
				document.getElementById('cloak24ccabbfc5d
 b115954d0834f71c27de8').innerHTML = '';
				var prefix = '&#109;a' + 'i&#10
 8;' + '&#116;o';
				var path = 'hr' + 'ef' + '=';
				var addy24ccabbfc5db
 115954d0834f71c27de8 = 'w&#97;rr&#105;&#111;rs-c&#111;&#111;rd' + '&#64;';

 				addy24ccabbfc5db115954d0834f71c27de8 = addy24ccabbfc5db115954d0834f71c2
 7de8 + 'fr&#105;&#101;nds&#111;f&#101;dg&#101;w&#111;&#111;d' + '&#46;' + '
 &#111;rg';
				var addy_text24ccabbfc5db115954d0834f71c27de8 = 'w&#97;rr&#1
 05;&#111;rs-c&#111;&#111;rd' + '&#64;' + 'fr&#105;&#101;nds&#111;f&#101;dg&
 #101;w&#111;&#111;d' + '&#46;' + '&#111;rg';document.getElementById('cloak2
 4ccabbfc5db115954d0834f71c27de8').innerHTML += '<a ' + path + '\'' + prefix
  + ':' + addy24ccabbfc5db115954d0834f71c27de8 + '\'>'+addy_text24ccabbfc5db
 115954d0834f71c27de8+'<\/a>';
		</script>.</a></p><p>Please check the email
  list for each weeding session’s meeting place. For questions about Friday 
 sessions, contact Paul Heiple at <span id="cloak9015a82891e8f2ed1be9e5ffe8e
 943cb">This email address is being protected from spambots. You need JavaSc
 ript enabled to view it.</span><script type='text/javascript'>
				document
 .getElementById('cloak9015a82891e8f2ed1be9e5ffe8e943cb').innerHTML = '';
		
 		var prefix = '&#109;a' + 'i&#108;' + '&#116;o';
				var path = 'hr' + 'ef
 ' + '=';
				var addy9015a82891e8f2ed1be9e5ffe8e943cb = 'ph&#101;&#105;pl&#
 101;' + '&#64;';
				addy9015a82891e8f2ed1be9e5ffe8e943cb = addy9015a82891e
 8f2ed1be9e5ffe8e943cb + 'gm&#97;&#105;l' + '&#46;' + 'c&#111;m';
				var ad
 dy_text9015a82891e8f2ed1be9e5ffe8e943cb = 'ph&#101;&#105;pl&#101;' + '&#64;
 ' + 'gm&#97;&#105;l' + '&#46;' + 'c&#111;m';document.getElementById('cloak9
 015a82891e8f2ed1be9e5ffe8e943cb').innerHTML += '<a ' + path + '\'' + prefix
  + ':' + addy9015a82891e8f2ed1be9e5ffe8e943cb + '\'>'+addy_text9015a82891e8
 f2ed1be9e5ffe8e943cb+'<\/a>';
		</script> or (650) 854-7125.</p></div></div
 ></div></div></div></div>
CONTACT:Paul Heiple at This email address is being protected from spambots. You need JavaScript enabled to view it.
				document.getElementById('cloakb8b161bba2b2f7a8ded698b35dbedcc7').innerHTML = '';
				var prefix = '&#109;a' + 'i&#108;' + '&#116;o';
				var path = 'hr' + 'ef' + '=';
				var addyb8b161bba2b2f7a8ded698b35dbedcc7 = 'ph&#101;&#105;pl&#101;' + '&#64;';
				addyb8b161bba2b2f7a8ded698b35dbedcc7 = addyb8b161bba2b2f7a8ded698b35dbedcc7 + 'gm&#97;&#105;l' + '&#46;' + 'c&#111;m';
				var addy_textb8b161bba2b2f7a8ded698b35dbedcc7 = 'ph&#101;&#105;pl&#101;' + '&#64;' + 'gm&#97;&#105;l' + '&#46;' + 'c&#111;m';document.getElementById('cloakb8b161bba2b2f7a8ded698b35dbedcc7').innerHTML += '<a ' + path + '\'' + prefix + ':' + addyb8b161bba2b2f7a8ded698b35dbedcc7 + '\'>'+addy_textb8b161bba2b2f7a8ded698b35dbedcc7+'';
		 or (650) 854-7125
DTSTAMP:20260425T181104
DTSTART;TZID=America/Tijuana:20261216T173000
SEQUENCE:0
TRANSP:OPAQUE
END:VEVENT
END:VCALENDAR