BEGIN:VCALENDAR
VERSION:2.0
PRODID:-//jEvents 2.0 for Joomla//EN
CALSCALE:GREGORIAN
METHOD:PUBLISH
BEGIN:VTIMEZONE
TZID:America/Tijuana
BEGIN:STANDARD
DTSTART:20241103T010000
RDATE:20250309T030000
TZOFFSETFROM:-0700
TZOFFSETTO:-0800
TZNAME:America/Tijuana PST
END:STANDARD
BEGIN:STANDARD
DTSTART:20251102T010000
RDATE:20260308T030000
TZOFFSETFROM:-0700
TZOFFSETTO:-0800
TZNAME:America/Tijuana PST
END:STANDARD
BEGIN:STANDARD
DTSTART:20261101T010000
RDATE:20270314T030000
TZOFFSETFROM:-0700
TZOFFSETTO:-0800
TZNAME:America/Tijuana PST
END:STANDARD
BEGIN:STANDARD
DTSTART:20271107T010000
RDATE:20280312T030000
TZOFFSETFROM:-0700
TZOFFSETTO:-0800
TZNAME:America/Tijuana PST
END:STANDARD
BEGIN:DAYLIGHT
DTSTART:20240831T190000
RDATE:20241103T010000
TZOFFSETFROM:-0800
TZOFFSETTO:-0700
TZNAME:America/Tijuana PDT
END:DAYLIGHT
BEGIN:DAYLIGHT
DTSTART:20250309T030000
RDATE:20251102T010000
TZOFFSETFROM:-0800
TZOFFSETTO:-0700
TZNAME:America/Tijuana PDT
END:DAYLIGHT
BEGIN:DAYLIGHT
DTSTART:20260308T030000
RDATE:20261101T010000
TZOFFSETFROM:-0800
TZOFFSETTO:-0700
TZNAME:America/Tijuana PDT
END:DAYLIGHT
BEGIN:DAYLIGHT
DTSTART:20270314T030000
RDATE:20271107T010000
TZOFFSETFROM:-0800
TZOFFSETTO:-0700
TZNAME:America/Tijuana PDT
END:DAYLIGHT
END:VTIMEZONE
BEGIN:VEVENT
UID:36f30637e2ee09c8a6eef2c1d2c3dcbc
CATEGORIES:Meetings
CREATED:20260216T191941
SUMMARY:Conservation Committee
LOCATION:Zoom
DESCRIPTION:<div class="page" title="Page 6"><div class="layoutArea"><div class="column
 "><p>This committee covers many issues affecting native plants: conservatio
 n, advocacy, legislation, habitat restoration and rare plants. The committe
 e meets once a month to provide information and support for these conservat
 ion issues and efforts. Members of our committee work on projects throughou
 t the Chapter area, coordinating with our state CNPS program staff and othe
 r conservation organizations.</p><p>Please join us in our important work! F
 or questions, comments or concerns, contact Committee Chair Carolyn Dorsch 
 at <span id="cloak205ac0c839b4b9b070df0f368bb2d8db">This email address is b
 eing protected from spambots. You need JavaScript enabled to view it.</span
 ><script type='text/javascript'>
				document.getElementById('cloak205ac0c8
 39b4b9b070df0f368bb2d8db').innerHTML = '';
				var prefix = '&#109;a' + 'i&
 #108;' + '&#116;o';
				var path = 'hr' + 'ef' + '=';
				var addy205ac0c83
 9b4b9b070df0f368bb2d8db = 'cd&#111;rsch' + '&#64;';
				addy205ac0c839b4b9b
 070df0f368bb2d8db = addy205ac0c839b4b9b070df0f368bb2d8db + 'cnps-scv' + '&#
 46;' + '&#111;rg';
				var addy_text205ac0c839b4b9b070df0f368bb2d8db = 'cd&
 #111;rsch' + '&#64;' + 'cnps-scv' + '&#46;' + '&#111;rg';document.getElemen
 tById('cloak205ac0c839b4b9b070df0f368bb2d8db').innerHTML += '<a ' + path + 
 '\'' + prefix + ':' + addy205ac0c839b4b9b070df0f368bb2d8db + '\'>'+addy_tex
 t205ac0c839b4b9b070df0f368bb2d8db+'<\/a>';
		</script> or (650) 804-6162, o
 r Conservation Chair Judy Fenerty at <a href="mailto:judy@fenerty.com."><sp
 an id="cloak413572e725ccd11258dee1861db0369f">This email address is being p
 rotected from spambots. You need JavaScript enabled to view it.</span><scri
 pt type='text/javascript'>
				document.getElementById('cloak413572e725ccd1
 1258dee1861db0369f').innerHTML = '';
				var prefix = '&#109;a' + 'i&#108;'
  + '&#116;o';
				var path = 'hr' + 'ef' + '=';
				var addy413572e725ccd11
 258dee1861db0369f = 'j&#117;dy' + '&#64;';
				addy413572e725ccd11258dee186
 1db0369f = addy413572e725ccd11258dee1861db0369f + 'f&#101;n&#101;rty' + '&#
 46;' + 'c&#111;m';
				var addy_text413572e725ccd11258dee1861db0369f = 'j&#
 117;dy' + '&#64;' + 'f&#101;n&#101;rty' + '&#46;' + 'c&#111;m';document.get
 ElementById('cloak413572e725ccd11258dee1861db0369f').innerHTML += '<a ' + p
 ath + '\'' + prefix + ':' + addy413572e725ccd11258dee1861db0369f + '\'>'+ad
 dy_text413572e725ccd11258dee1861db0369f+'<\/a>';
		</script>.</a> If you ar
 e interested in joining our committee meetings on Zoom, please email Caroly
 n for the link.</p></div></div></div>
CONTACT:Committee Chair Carolyn Dorsch at This email address is being protected from spambots. You need JavaScript enabled to view it.
				document.getElementById('cloak2b4a0eda7ad4ae6773b77607ef453726').innerHTML = '';
				var prefix = '&#109;a' + 'i&#108;' + '&#116;o';
				var path = 'hr' + 'ef' + '=';
				var addy2b4a0eda7ad4ae6773b77607ef453726 = 'cd&#111;rsch' + '&#64;';
				addy2b4a0eda7ad4ae6773b77607ef453726 = addy2b4a0eda7ad4ae6773b77607ef453726 + 'cnps-scv' + '&#46;' + '&#111;rg';
				var addy_text2b4a0eda7ad4ae6773b77607ef453726 = 'cd&#111;rsch' + '&#64;' + 'cnps-scv' + '&#46;' + '&#111;rg';document.getElementById('cloak2b4a0eda7ad4ae6773b77607ef453726').innerHTML += '<a ' + path + '\'' + prefix + ':' + addy2b4a0eda7ad4ae6773b77607ef453726 + '\'>'+addy_text2b4a0eda7ad4ae6773b77607ef453726+'';
		 or (650) 804-6162, or Judy Fenerty at This email address is being protected from spambots. You need JavaScript enabled to view it.
				document.getElementById('cloak6d1fe61f72e09f39f8322569c5e132ac').innerHTML = '';
				var prefix = '&#109;a' + 'i&#108;' + '&#116;o';
				var path = 'hr' + 'ef' + '=';
				var addy6d1fe61f72e09f39f8322569c5e132ac = 'j&#117;dy' + '&#64;';
				addy6d1fe61f72e09f39f8322569c5e132ac = addy6d1fe61f72e09f39f8322569c5e132ac + 'f&#101;n&#101;rty' + '&#46;' + 'c&#111;m';
				var addy_text6d1fe61f72e09f39f8322569c5e132ac = 'j&#117;dy' + '&#64;' + 'f&#101;n&#101;rty' + '&#46;' + 'c&#111;m';document.getElementById('cloak6d1fe61f72e09f39f8322569c5e132ac').innerHTML += '<a ' + path + '\'' + prefix + ':' + addy6d1fe61f72e09f39f8322569c5e132ac + '\'>'+addy_text6d1fe61f72e09f39f8322569c5e132ac+'';
		
DTSTAMP:20260424T172332
DTSTART;TZID=America/Tijuana:20250901T190000
DTEND;TZID=America/Tijuana:20250901T203000
SEQUENCE:0
TRANSP:OPAQUE
END:VEVENT
END:VCALENDAR