BEGIN:VCALENDAR
VERSION:2.0
PRODID:-//jEvents 2.0 for Joomla//EN
CALSCALE:GREGORIAN
METHOD:PUBLISH
BEGIN:VTIMEZONE
TZID:America/Tijuana
BEGIN:STANDARD
DTSTART:20241103T010000
RDATE:20250309T030000
TZOFFSETFROM:-0700
TZOFFSETTO:-0800
TZNAME:America/Tijuana PST
END:STANDARD
BEGIN:STANDARD
DTSTART:20251102T010000
RDATE:20260308T030000
TZOFFSETFROM:-0700
TZOFFSETTO:-0800
TZNAME:America/Tijuana PST
END:STANDARD
BEGIN:STANDARD
DTSTART:20261101T010000
RDATE:20270314T030000
TZOFFSETFROM:-0700
TZOFFSETTO:-0800
TZNAME:America/Tijuana PST
END:STANDARD
BEGIN:STANDARD
DTSTART:20271107T010000
RDATE:20280312T030000
TZOFFSETFROM:-0700
TZOFFSETTO:-0800
TZNAME:America/Tijuana PST
END:STANDARD
BEGIN:DAYLIGHT
DTSTART:20241005T190000
RDATE:20241103T010000
TZOFFSETFROM:-0800
TZOFFSETTO:-0700
TZNAME:America/Tijuana PDT
END:DAYLIGHT
BEGIN:DAYLIGHT
DTSTART:20250309T030000
RDATE:20251102T010000
TZOFFSETFROM:-0800
TZOFFSETTO:-0700
TZNAME:America/Tijuana PDT
END:DAYLIGHT
BEGIN:DAYLIGHT
DTSTART:20260308T030000
RDATE:20261101T010000
TZOFFSETFROM:-0800
TZOFFSETTO:-0700
TZNAME:America/Tijuana PDT
END:DAYLIGHT
BEGIN:DAYLIGHT
DTSTART:20270314T030000
RDATE:20271107T010000
TZOFFSETFROM:-0800
TZOFFSETTO:-0700
TZNAME:America/Tijuana PDT
END:DAYLIGHT
END:VTIMEZONE
BEGIN:VEVENT
UID:36f30637e2ee09c8a6eef2c1d2c3dcbc
CATEGORIES:Meetings
CREATED:20260216T191941
SUMMARY:Conservation Committee
LOCATION:Zoom
DESCRIPTION:This committee covers many issues affecting native plants: conservation, ad
 vocacy, legislation, habitat restoration and rare plants. The committee mee
 ts once a month to provide information and support for these conservation i
 ssues and efforts. Members of our committee work on projects throughout the
  Chapter area, coordinating with our state CNPS program staff and other con
 servation organizations.\nPlease join us in our important work! For questio
 ns, comments or concerns, contact Committee Chair Carolyn Dorsch at This em
 ail address is being protected from spambots. You need JavaScript enabled t
 o view it.
				document.getElementById('cloak28242876a3eae32f22b49cbad3f08a
 11').innerHTML = '';
				var prefix = '&#109;a' + 'i&#108;' + '&#116;o';
		
 		var path = 'hr' + 'ef' + '=';
				var addy28242876a3eae32f22b49cbad3f08a1
 1 = 'cd&#111;rsch' + '&#64;';
				addy28242876a3eae32f22b49cbad3f08a11 = ad
 dy28242876a3eae32f22b49cbad3f08a11 + 'cnps-scv' + '&#46;' + '&#111;rg';
			
 	var addy_text28242876a3eae32f22b49cbad3f08a11 = 'cd&#111;rsch' + '&#64;' +
  'cnps-scv' + '&#46;' + '&#111;rg';document.getElementById('cloak28242876a3
 eae32f22b49cbad3f08a11').innerHTML += '<a ' + path + '\'' + prefix + ':' + 
 addy28242876a3eae32f22b49cbad3f08a11 + '\'>'+addy_text28242876a3eae32f22b49
 cbad3f08a11+'';
		 or (650) 804-6162, or Conservation Chair Judy Fenerty at
  This email address is being protected from spambots. You need JavaScript e
 nabled to view it.
				document.getElementById('cloak9852b6a289bb9158452f4a
 79c48c53f3').innerHTML = '';
				var prefix = '&amp;#109;a' + 'i&amp;#108;'
  + '&amp;#116;o';
				var path = 'hr' + 'ef' + '=';
				var addy9852b6a289b
 b9158452f4a79c48c53f3 = 'j&amp;#117;dy' + '&amp;#64;';
				addy9852b6a289bb
 9158452f4a79c48c53f3 = addy9852b6a289bb9158452f4a79c48c53f3 + 'f&amp;#101;n
 &amp;#101;rty' + '&amp;#46;' + 'c&amp;#111;m';
				var addy_text9852b6a289b
 b9158452f4a79c48c53f3 = 'j&amp;#117;dy' + '&amp;#64;' + 'f&amp;#101;n&amp;#
 101;rty' + '&amp;#46;' + 'c&amp;#111;m';document.getElementById('cloak9852b
 6a289bb9158452f4a79c48c53f3').innerHTML += '&lt;a ' + path + '\'' + prefix 
 + ':' + addy9852b6a289bb9158452f4a79c48c53f3 + '\'&gt;'+addy_text9852b6a289
 bb9158452f4a79c48c53f3+'&lt;\/a&gt;';
		. (mailto:judy@fenerty.com.) If you
  are interested in joining our committee meetings on Zoom, please email Car
 olyn for the link.\n
X-ALT-DESC;FMTTYPE=text/html:<div class="page" title="Page 6"><div class="layoutArea"><div class="column
 "><p>This committee covers many issues affecting native plants: conservatio
 n, advocacy, legislation, habitat restoration and rare plants. The committe
 e meets once a month to provide information and support for these conservat
 ion issues and efforts. Members of our committee work on projects throughou
 t the Chapter area, coordinating with our state CNPS program staff and othe
 r conservation organizations.</p><p>Please join us in our important work! F
 or questions, comments or concerns, contact Committee Chair Carolyn Dorsch 
 at <span id="cloak28242876a3eae32f22b49cbad3f08a11">This email address is b
 eing protected from spambots. You need JavaScript enabled to view it.</span
 ><script type='text/javascript'>
				document.getElementById('cloak28242876
 a3eae32f22b49cbad3f08a11').innerHTML = '';
				var prefix = '&#109;a' + 'i&
 #108;' + '&#116;o';
				var path = 'hr' + 'ef' + '=';
				var addy28242876a
 3eae32f22b49cbad3f08a11 = 'cd&#111;rsch' + '&#64;';
				addy28242876a3eae32
 f22b49cbad3f08a11 = addy28242876a3eae32f22b49cbad3f08a11 + 'cnps-scv' + '&#
 46;' + '&#111;rg';
				var addy_text28242876a3eae32f22b49cbad3f08a11 = 'cd&
 #111;rsch' + '&#64;' + 'cnps-scv' + '&#46;' + '&#111;rg';document.getElemen
 tById('cloak28242876a3eae32f22b49cbad3f08a11').innerHTML += '<a ' + path + 
 '\'' + prefix + ':' + addy28242876a3eae32f22b49cbad3f08a11 + '\'>'+addy_tex
 t28242876a3eae32f22b49cbad3f08a11+'<\/a>';
		</script> or (650) 804-6162, o
 r Conservation Chair Judy Fenerty at <a href="mailto:judy@fenerty.com."><sp
 an id="cloak9852b6a289bb9158452f4a79c48c53f3">This email address is being p
 rotected from spambots. You need JavaScript enabled to view it.</span><scri
 pt type='text/javascript'>
				document.getElementById('cloak9852b6a289bb91
 58452f4a79c48c53f3').innerHTML = '';
				var prefix = '&#109;a' + 'i&#108;'
  + '&#116;o';
				var path = 'hr' + 'ef' + '=';
				var addy9852b6a289bb915
 8452f4a79c48c53f3 = 'j&#117;dy' + '&#64;';
				addy9852b6a289bb9158452f4a79
 c48c53f3 = addy9852b6a289bb9158452f4a79c48c53f3 + 'f&#101;n&#101;rty' + '&#
 46;' + 'c&#111;m';
				var addy_text9852b6a289bb9158452f4a79c48c53f3 = 'j&#
 117;dy' + '&#64;' + 'f&#101;n&#101;rty' + '&#46;' + 'c&#111;m';document.get
 ElementById('cloak9852b6a289bb9158452f4a79c48c53f3').innerHTML += '<a ' + p
 ath + '\'' + prefix + ':' + addy9852b6a289bb9158452f4a79c48c53f3 + '\'>'+ad
 dy_text9852b6a289bb9158452f4a79c48c53f3+'<\/a>';
		</script>.</a> If you ar
 e interested in joining our committee meetings on Zoom, please email Caroly
 n for the link.</p></div></div></div>
CONTACT:Committee Chair Carolyn Dorsch at This email address is being protected from spambots. You need JavaScript enabled to view it.
				document.getElementById('cloakcc3c7a6874e54757c2e194e3f5c96200').innerHTML = '';
				var prefix = '&#109;a' + 'i&#108;' + '&#116;o';
				var path = 'hr' + 'ef' + '=';
				var addycc3c7a6874e54757c2e194e3f5c96200 = 'cd&#111;rsch' + '&#64;';
				addycc3c7a6874e54757c2e194e3f5c96200 = addycc3c7a6874e54757c2e194e3f5c96200 + 'cnps-scv' + '&#46;' + '&#111;rg';
				var addy_textcc3c7a6874e54757c2e194e3f5c96200 = 'cd&#111;rsch' + '&#64;' + 'cnps-scv' + '&#46;' + '&#111;rg';document.getElementById('cloakcc3c7a6874e54757c2e194e3f5c96200').innerHTML += '<a ' + path + '\'' + prefix + ':' + addycc3c7a6874e54757c2e194e3f5c96200 + '\'>'+addy_textcc3c7a6874e54757c2e194e3f5c96200+'';
		 or (650) 804-6162, or Judy Fenerty at This email address is being protected from spambots. You need JavaScript enabled to view it.
				document.getElementById('cloak19e15e9935514e3fffd84bec8c4538b8').innerHTML = '';
				var prefix = '&#109;a' + 'i&#108;' + '&#116;o';
				var path = 'hr' + 'ef' + '=';
				var addy19e15e9935514e3fffd84bec8c4538b8 = 'j&#117;dy' + '&#64;';
				addy19e15e9935514e3fffd84bec8c4538b8 = addy19e15e9935514e3fffd84bec8c4538b8 + 'f&#101;n&#101;rty' + '&#46;' + 'c&#111;m';
				var addy_text19e15e9935514e3fffd84bec8c4538b8 = 'j&#117;dy' + '&#64;' + 'f&#101;n&#101;rty' + '&#46;' + 'c&#111;m';document.getElementById('cloak19e15e9935514e3fffd84bec8c4538b8').innerHTML += '<a ' + path + '\'' + prefix + ':' + addy19e15e9935514e3fffd84bec8c4538b8 + '\'>'+addy_text19e15e9935514e3fffd84bec8c4538b8+'';
		
DTSTAMP:20260419T151248
DTSTART;TZID=America/Tijuana:20251006T190000
DTEND;TZID=America/Tijuana:20251006T203000
SEQUENCE:0
TRANSP:OPAQUE
END:VEVENT
END:VCALENDAR