BEGIN:VCALENDAR
VERSION:2.0
PRODID:-//jEvents 2.0 for Joomla//EN
CALSCALE:GREGORIAN
METHOD:PUBLISH
BEGIN:VTIMEZONE
TZID:America/Tijuana
BEGIN:STANDARD
DTSTART:20241103T010000
RDATE:20250309T030000
TZOFFSETFROM:-0700
TZOFFSETTO:-0800
TZNAME:America/Tijuana PST
END:STANDARD
BEGIN:STANDARD
DTSTART:20251102T010000
RDATE:20260308T030000
TZOFFSETFROM:-0700
TZOFFSETTO:-0800
TZNAME:America/Tijuana PST
END:STANDARD
BEGIN:STANDARD
DTSTART:20261101T010000
RDATE:20270314T030000
TZOFFSETFROM:-0700
TZOFFSETTO:-0800
TZNAME:America/Tijuana PST
END:STANDARD
BEGIN:STANDARD
DTSTART:20271107T010000
RDATE:20280312T030000
TZOFFSETFROM:-0700
TZOFFSETTO:-0800
TZNAME:America/Tijuana PST
END:STANDARD
BEGIN:DAYLIGHT
DTSTART:20241102T200000
RDATE:20241103T010000
TZOFFSETFROM:-0800
TZOFFSETTO:-0700
TZNAME:America/Tijuana PDT
END:DAYLIGHT
BEGIN:DAYLIGHT
DTSTART:20250309T030000
RDATE:20251102T010000
TZOFFSETFROM:-0800
TZOFFSETTO:-0700
TZNAME:America/Tijuana PDT
END:DAYLIGHT
BEGIN:DAYLIGHT
DTSTART:20260308T030000
RDATE:20261101T010000
TZOFFSETFROM:-0800
TZOFFSETTO:-0700
TZNAME:America/Tijuana PDT
END:DAYLIGHT
BEGIN:DAYLIGHT
DTSTART:20270314T030000
RDATE:20271107T010000
TZOFFSETFROM:-0800
TZOFFSETTO:-0700
TZNAME:America/Tijuana PDT
END:DAYLIGHT
END:VTIMEZONE
BEGIN:VEVENT
UID:36f30637e2ee09c8a6eef2c1d2c3dcbc
CATEGORIES:Meetings
CREATED:20260216T191941
SUMMARY:Conservation Committee
LOCATION:Zoom
DESCRIPTION:This committee covers many issues affecting native plants: conservation, ad
 vocacy, legislation, habitat restoration and rare plants. The committee mee
 ts once a month to provide information and support for these conservation i
 ssues and efforts. Members of our committee work on projects throughout the
  Chapter area, coordinating with our state CNPS program staff and other con
 servation organizations.\nPlease join us in our important work! For questio
 ns, comments or concerns, contact Committee Chair Carolyn Dorsch at This em
 ail address is being protected from spambots. You need JavaScript enabled t
 o view it.
				document.getElementById('cloak51d3e4027ff2696a282ef11df5bc60
 ef').innerHTML = '';
				var prefix = '&#109;a' + 'i&#108;' + '&#116;o';
		
 		var path = 'hr' + 'ef' + '=';
				var addy51d3e4027ff2696a282ef11df5bc60e
 f = 'cd&#111;rsch' + '&#64;';
				addy51d3e4027ff2696a282ef11df5bc60ef = ad
 dy51d3e4027ff2696a282ef11df5bc60ef + 'cnps-scv' + '&#46;' + '&#111;rg';
			
 	var addy_text51d3e4027ff2696a282ef11df5bc60ef = 'cd&#111;rsch' + '&#64;' +
  'cnps-scv' + '&#46;' + '&#111;rg';document.getElementById('cloak51d3e4027f
 f2696a282ef11df5bc60ef').innerHTML += '<a ' + path + '\'' + prefix + ':' + 
 addy51d3e4027ff2696a282ef11df5bc60ef + '\'>'+addy_text51d3e4027ff2696a282ef
 11df5bc60ef+'';
		 or (650) 804-6162, or Conservation Chair Judy Fenerty at
  This email address is being protected from spambots. You need JavaScript e
 nabled to view it.
				document.getElementById('cloak4cc3e5cc37a9041165f9cf
 eee7e1d1ae').innerHTML = '';
				var prefix = '&amp;#109;a' + 'i&amp;#108;'
  + '&amp;#116;o';
				var path = 'hr' + 'ef' + '=';
				var addy4cc3e5cc37a
 9041165f9cfeee7e1d1ae = 'j&amp;#117;dy' + '&amp;#64;';
				addy4cc3e5cc37a9
 041165f9cfeee7e1d1ae = addy4cc3e5cc37a9041165f9cfeee7e1d1ae + 'f&amp;#101;n
 &amp;#101;rty' + '&amp;#46;' + 'c&amp;#111;m';
				var addy_text4cc3e5cc37a
 9041165f9cfeee7e1d1ae = 'j&amp;#117;dy' + '&amp;#64;' + 'f&amp;#101;n&amp;#
 101;rty' + '&amp;#46;' + 'c&amp;#111;m';document.getElementById('cloak4cc3e
 5cc37a9041165f9cfeee7e1d1ae').innerHTML += '&lt;a ' + path + '\'' + prefix 
 + ':' + addy4cc3e5cc37a9041165f9cfeee7e1d1ae + '\'&gt;'+addy_text4cc3e5cc37
 a9041165f9cfeee7e1d1ae+'&lt;\/a&gt;';
		. (mailto:judy@fenerty.com.) If you
  are interested in joining our committee meetings on Zoom, please email Car
 olyn for the link.\n
X-ALT-DESC;FMTTYPE=text/html:<div class="page" title="Page 6"><div class="layoutArea"><div class="column
 "><p>This committee covers many issues affecting native plants: conservatio
 n, advocacy, legislation, habitat restoration and rare plants. The committe
 e meets once a month to provide information and support for these conservat
 ion issues and efforts. Members of our committee work on projects throughou
 t the Chapter area, coordinating with our state CNPS program staff and othe
 r conservation organizations.</p><p>Please join us in our important work! F
 or questions, comments or concerns, contact Committee Chair Carolyn Dorsch 
 at <span id="cloak51d3e4027ff2696a282ef11df5bc60ef">This email address is b
 eing protected from spambots. You need JavaScript enabled to view it.</span
 ><script type='text/javascript'>
				document.getElementById('cloak51d3e402
 7ff2696a282ef11df5bc60ef').innerHTML = '';
				var prefix = '&#109;a' + 'i&
 #108;' + '&#116;o';
				var path = 'hr' + 'ef' + '=';
				var addy51d3e4027
 ff2696a282ef11df5bc60ef = 'cd&#111;rsch' + '&#64;';
				addy51d3e4027ff2696
 a282ef11df5bc60ef = addy51d3e4027ff2696a282ef11df5bc60ef + 'cnps-scv' + '&#
 46;' + '&#111;rg';
				var addy_text51d3e4027ff2696a282ef11df5bc60ef = 'cd&
 #111;rsch' + '&#64;' + 'cnps-scv' + '&#46;' + '&#111;rg';document.getElemen
 tById('cloak51d3e4027ff2696a282ef11df5bc60ef').innerHTML += '<a ' + path + 
 '\'' + prefix + ':' + addy51d3e4027ff2696a282ef11df5bc60ef + '\'>'+addy_tex
 t51d3e4027ff2696a282ef11df5bc60ef+'<\/a>';
		</script> or (650) 804-6162, o
 r Conservation Chair Judy Fenerty at <a href="mailto:judy@fenerty.com."><sp
 an id="cloak4cc3e5cc37a9041165f9cfeee7e1d1ae">This email address is being p
 rotected from spambots. You need JavaScript enabled to view it.</span><scri
 pt type='text/javascript'>
				document.getElementById('cloak4cc3e5cc37a904
 1165f9cfeee7e1d1ae').innerHTML = '';
				var prefix = '&#109;a' + 'i&#108;'
  + '&#116;o';
				var path = 'hr' + 'ef' + '=';
				var addy4cc3e5cc37a9041
 165f9cfeee7e1d1ae = 'j&#117;dy' + '&#64;';
				addy4cc3e5cc37a9041165f9cfee
 e7e1d1ae = addy4cc3e5cc37a9041165f9cfeee7e1d1ae + 'f&#101;n&#101;rty' + '&#
 46;' + 'c&#111;m';
				var addy_text4cc3e5cc37a9041165f9cfeee7e1d1ae = 'j&#
 117;dy' + '&#64;' + 'f&#101;n&#101;rty' + '&#46;' + 'c&#111;m';document.get
 ElementById('cloak4cc3e5cc37a9041165f9cfeee7e1d1ae').innerHTML += '<a ' + p
 ath + '\'' + prefix + ':' + addy4cc3e5cc37a9041165f9cfeee7e1d1ae + '\'>'+ad
 dy_text4cc3e5cc37a9041165f9cfeee7e1d1ae+'<\/a>';
		</script>.</a> If you ar
 e interested in joining our committee meetings on Zoom, please email Caroly
 n for the link.</p></div></div></div>
CONTACT:Committee Chair Carolyn Dorsch at This email address is being protected from spambots. You need JavaScript enabled to view it.
				document.getElementById('cloakd4276cd6044f7ef205968aff56d6793f').innerHTML = '';
				var prefix = '&#109;a' + 'i&#108;' + '&#116;o';
				var path = 'hr' + 'ef' + '=';
				var addyd4276cd6044f7ef205968aff56d6793f = 'cd&#111;rsch' + '&#64;';
				addyd4276cd6044f7ef205968aff56d6793f = addyd4276cd6044f7ef205968aff56d6793f + 'cnps-scv' + '&#46;' + '&#111;rg';
				var addy_textd4276cd6044f7ef205968aff56d6793f = 'cd&#111;rsch' + '&#64;' + 'cnps-scv' + '&#46;' + '&#111;rg';document.getElementById('cloakd4276cd6044f7ef205968aff56d6793f').innerHTML += '<a ' + path + '\'' + prefix + ':' + addyd4276cd6044f7ef205968aff56d6793f + '\'>'+addy_textd4276cd6044f7ef205968aff56d6793f+'';
		 or (650) 804-6162, or Judy Fenerty at This email address is being protected from spambots. You need JavaScript enabled to view it.
				document.getElementById('cloak57caf9d9aeee32787a2a035115a8c25f').innerHTML = '';
				var prefix = '&#109;a' + 'i&#108;' + '&#116;o';
				var path = 'hr' + 'ef' + '=';
				var addy57caf9d9aeee32787a2a035115a8c25f = 'j&#117;dy' + '&#64;';
				addy57caf9d9aeee32787a2a035115a8c25f = addy57caf9d9aeee32787a2a035115a8c25f + 'f&#101;n&#101;rty' + '&#46;' + 'c&#111;m';
				var addy_text57caf9d9aeee32787a2a035115a8c25f = 'j&#117;dy' + '&#64;' + 'f&#101;n&#101;rty' + '&#46;' + 'c&#111;m';document.getElementById('cloak57caf9d9aeee32787a2a035115a8c25f').innerHTML += '<a ' + path + '\'' + prefix + ':' + addy57caf9d9aeee32787a2a035115a8c25f + '\'>'+addy_text57caf9d9aeee32787a2a035115a8c25f+'';
		
DTSTAMP:20260423T114821
DTSTART;TZID=America/Tijuana:20251103T190000
DTEND;TZID=America/Tijuana:20251103T203000
SEQUENCE:0
TRANSP:OPAQUE
END:VEVENT
END:VCALENDAR