BEGIN:VCALENDAR
VERSION:2.0
PRODID:-//jEvents 2.0 for Joomla//EN
CALSCALE:GREGORIAN
METHOD:PUBLISH
BEGIN:VTIMEZONE
TZID:America/Tijuana
BEGIN:STANDARD
DTSTART:20241130T190000
RDATE:20250309T030000
TZOFFSETFROM:-0700
TZOFFSETTO:-0800
TZNAME:America/Tijuana PST
END:STANDARD
BEGIN:STANDARD
DTSTART:20251102T010000
RDATE:20260308T030000
TZOFFSETFROM:-0700
TZOFFSETTO:-0800
TZNAME:America/Tijuana PST
END:STANDARD
BEGIN:STANDARD
DTSTART:20261101T010000
RDATE:20270314T030000
TZOFFSETFROM:-0700
TZOFFSETTO:-0800
TZNAME:America/Tijuana PST
END:STANDARD
BEGIN:STANDARD
DTSTART:20271107T010000
RDATE:20280312T030000
TZOFFSETFROM:-0700
TZOFFSETTO:-0800
TZNAME:America/Tijuana PST
END:STANDARD
BEGIN:DAYLIGHT
DTSTART:20250309T030000
RDATE:20251102T010000
TZOFFSETFROM:-0800
TZOFFSETTO:-0700
TZNAME:America/Tijuana PDT
END:DAYLIGHT
BEGIN:DAYLIGHT
DTSTART:20260308T030000
RDATE:20261101T010000
TZOFFSETFROM:-0800
TZOFFSETTO:-0700
TZNAME:America/Tijuana PDT
END:DAYLIGHT
BEGIN:DAYLIGHT
DTSTART:20270314T030000
RDATE:20271107T010000
TZOFFSETFROM:-0800
TZOFFSETTO:-0700
TZNAME:America/Tijuana PDT
END:DAYLIGHT
END:VTIMEZONE
BEGIN:VEVENT
UID:36f30637e2ee09c8a6eef2c1d2c3dcbc
CATEGORIES:Meetings
CREATED:20260216T191941
SUMMARY:Conservation Committee
LOCATION:Zoom
DESCRIPTION:<div class="page" title="Page 6"><div class="layoutArea"><div class="column
 "><p>This committee covers many issues affecting native plants: conservatio
 n, advocacy, legislation, habitat restoration and rare plants. The committe
 e meets once a month to provide information and support for these conservat
 ion issues and efforts. Members of our committee work on projects throughou
 t the Chapter area, coordinating with our state CNPS program staff and othe
 r conservation organizations.</p><p>Please join us in our important work! F
 or questions, comments or concerns, contact Committee Chair Carolyn Dorsch 
 at <span id="cloakce63a092d7b7a46ef58b2425a5938ea4">This email address is b
 eing protected from spambots. You need JavaScript enabled to view it.</span
 ><script type='text/javascript'>
				document.getElementById('cloakce63a092
 d7b7a46ef58b2425a5938ea4').innerHTML = '';
				var prefix = '&#109;a' + 'i&
 #108;' + '&#116;o';
				var path = 'hr' + 'ef' + '=';
				var addyce63a092d
 7b7a46ef58b2425a5938ea4 = 'cd&#111;rsch' + '&#64;';
				addyce63a092d7b7a46
 ef58b2425a5938ea4 = addyce63a092d7b7a46ef58b2425a5938ea4 + 'cnps-scv' + '&#
 46;' + '&#111;rg';
				var addy_textce63a092d7b7a46ef58b2425a5938ea4 = 'cd&
 #111;rsch' + '&#64;' + 'cnps-scv' + '&#46;' + '&#111;rg';document.getElemen
 tById('cloakce63a092d7b7a46ef58b2425a5938ea4').innerHTML += '<a ' + path + 
 '\'' + prefix + ':' + addyce63a092d7b7a46ef58b2425a5938ea4 + '\'>'+addy_tex
 tce63a092d7b7a46ef58b2425a5938ea4+'<\/a>';
		</script> or (650) 804-6162, o
 r Conservation Chair Judy Fenerty at <a href="mailto:judy@fenerty.com."><sp
 an id="cloak2de9e139952aad4a78c8b1557d7d25e7">This email address is being p
 rotected from spambots. You need JavaScript enabled to view it.</span><scri
 pt type='text/javascript'>
				document.getElementById('cloak2de9e139952aad
 4a78c8b1557d7d25e7').innerHTML = '';
				var prefix = '&#109;a' + 'i&#108;'
  + '&#116;o';
				var path = 'hr' + 'ef' + '=';
				var addy2de9e139952aad4
 a78c8b1557d7d25e7 = 'j&#117;dy' + '&#64;';
				addy2de9e139952aad4a78c8b155
 7d7d25e7 = addy2de9e139952aad4a78c8b1557d7d25e7 + 'f&#101;n&#101;rty' + '&#
 46;' + 'c&#111;m';
				var addy_text2de9e139952aad4a78c8b1557d7d25e7 = 'j&#
 117;dy' + '&#64;' + 'f&#101;n&#101;rty' + '&#46;' + 'c&#111;m';document.get
 ElementById('cloak2de9e139952aad4a78c8b1557d7d25e7').innerHTML += '<a ' + p
 ath + '\'' + prefix + ':' + addy2de9e139952aad4a78c8b1557d7d25e7 + '\'>'+ad
 dy_text2de9e139952aad4a78c8b1557d7d25e7+'<\/a>';
		</script>.</a> If you ar
 e interested in joining our committee meetings on Zoom, please email Caroly
 n for the link.</p></div></div></div>
CONTACT:Committee Chair Carolyn Dorsch at This email address is being protected from spambots. You need JavaScript enabled to view it.
				document.getElementById('cloak997b4ab68c1b75aa60eadf9216b524fd').innerHTML = '';
				var prefix = '&#109;a' + 'i&#108;' + '&#116;o';
				var path = 'hr' + 'ef' + '=';
				var addy997b4ab68c1b75aa60eadf9216b524fd = 'cd&#111;rsch' + '&#64;';
				addy997b4ab68c1b75aa60eadf9216b524fd = addy997b4ab68c1b75aa60eadf9216b524fd + 'cnps-scv' + '&#46;' + '&#111;rg';
				var addy_text997b4ab68c1b75aa60eadf9216b524fd = 'cd&#111;rsch' + '&#64;' + 'cnps-scv' + '&#46;' + '&#111;rg';document.getElementById('cloak997b4ab68c1b75aa60eadf9216b524fd').innerHTML += '<a ' + path + '\'' + prefix + ':' + addy997b4ab68c1b75aa60eadf9216b524fd + '\'>'+addy_text997b4ab68c1b75aa60eadf9216b524fd+'';
		 or (650) 804-6162, or Judy Fenerty at This email address is being protected from spambots. You need JavaScript enabled to view it.
				document.getElementById('cloakbc59fcc41af210296bafb511adbd0d3c').innerHTML = '';
				var prefix = '&#109;a' + 'i&#108;' + '&#116;o';
				var path = 'hr' + 'ef' + '=';
				var addybc59fcc41af210296bafb511adbd0d3c = 'j&#117;dy' + '&#64;';
				addybc59fcc41af210296bafb511adbd0d3c = addybc59fcc41af210296bafb511adbd0d3c + 'f&#101;n&#101;rty' + '&#46;' + 'c&#111;m';
				var addy_textbc59fcc41af210296bafb511adbd0d3c = 'j&#117;dy' + '&#64;' + 'f&#101;n&#101;rty' + '&#46;' + 'c&#111;m';document.getElementById('cloakbc59fcc41af210296bafb511adbd0d3c').innerHTML += '<a ' + path + '\'' + prefix + ':' + addybc59fcc41af210296bafb511adbd0d3c + '\'>'+addy_textbc59fcc41af210296bafb511adbd0d3c+'';
		
DTSTAMP:20260425T181056
DTSTART;TZID=America/Tijuana:20251201T190000
DTEND;TZID=America/Tijuana:20251201T203000
SEQUENCE:0
TRANSP:OPAQUE
END:VEVENT
END:VCALENDAR