BEGIN:VCALENDAR
VERSION:2.0
PRODID:-//jEvents 2.0 for Joomla//EN
CALSCALE:GREGORIAN
METHOD:PUBLISH
BEGIN:VTIMEZONE
TZID:America/Tijuana
BEGIN:STANDARD
DTSTART:20250104T190000
RDATE:20250309T030000
TZOFFSETFROM:-0700
TZOFFSETTO:-0800
TZNAME:America/Tijuana PST
END:STANDARD
BEGIN:STANDARD
DTSTART:20251102T010000
RDATE:20260308T030000
TZOFFSETFROM:-0700
TZOFFSETTO:-0800
TZNAME:America/Tijuana PST
END:STANDARD
BEGIN:STANDARD
DTSTART:20261101T010000
RDATE:20270314T030000
TZOFFSETFROM:-0700
TZOFFSETTO:-0800
TZNAME:America/Tijuana PST
END:STANDARD
BEGIN:STANDARD
DTSTART:20271107T010000
RDATE:20280312T030000
TZOFFSETFROM:-0700
TZOFFSETTO:-0800
TZNAME:America/Tijuana PST
END:STANDARD
BEGIN:DAYLIGHT
DTSTART:20250309T030000
RDATE:20251102T010000
TZOFFSETFROM:-0800
TZOFFSETTO:-0700
TZNAME:America/Tijuana PDT
END:DAYLIGHT
BEGIN:DAYLIGHT
DTSTART:20260308T030000
RDATE:20261101T010000
TZOFFSETFROM:-0800
TZOFFSETTO:-0700
TZNAME:America/Tijuana PDT
END:DAYLIGHT
BEGIN:DAYLIGHT
DTSTART:20270314T030000
RDATE:20271107T010000
TZOFFSETFROM:-0800
TZOFFSETTO:-0700
TZNAME:America/Tijuana PDT
END:DAYLIGHT
END:VTIMEZONE
BEGIN:VEVENT
UID:36f30637e2ee09c8a6eef2c1d2c3dcbc
CATEGORIES:Meetings
CREATED:20260216T191941
SUMMARY:Conservation Committee
LOCATION:Zoom
DESCRIPTION:This committee covers many issues affecting native plants: conservation, ad
 vocacy, legislation, habitat restoration and rare plants. The committee mee
 ts once a month to provide information and support for these conservation i
 ssues and efforts. Members of our committee work on projects throughout the
  Chapter area, coordinating with our state CNPS program staff and other con
 servation organizations.\nPlease join us in our important work! For questio
 ns, comments or concerns, contact Committee Chair Carolyn Dorsch at This em
 ail address is being protected from spambots. You need JavaScript enabled t
 o view it.
				document.getElementById('cloakbe789e3eca2d2c0806f00d7ac3994f
 66').innerHTML = '';
				var prefix = '&#109;a' + 'i&#108;' + '&#116;o';
		
 		var path = 'hr' + 'ef' + '=';
				var addybe789e3eca2d2c0806f00d7ac3994f6
 6 = 'cd&#111;rsch' + '&#64;';
				addybe789e3eca2d2c0806f00d7ac3994f66 = ad
 dybe789e3eca2d2c0806f00d7ac3994f66 + 'cnps-scv' + '&#46;' + '&#111;rg';
			
 	var addy_textbe789e3eca2d2c0806f00d7ac3994f66 = 'cd&#111;rsch' + '&#64;' +
  'cnps-scv' + '&#46;' + '&#111;rg';document.getElementById('cloakbe789e3eca
 2d2c0806f00d7ac3994f66').innerHTML += '<a ' + path + '\'' + prefix + ':' + 
 addybe789e3eca2d2c0806f00d7ac3994f66 + '\'>'+addy_textbe789e3eca2d2c0806f00
 d7ac3994f66+'';
		 or (650) 804-6162, or Conservation Chair Judy Fenerty at
  This email address is being protected from spambots. You need JavaScript e
 nabled to view it.
				document.getElementById('cloakeadb6ef87b31d352d51d33
 ec70487704').innerHTML = '';
				var prefix = '&amp;#109;a' + 'i&amp;#108;'
  + '&amp;#116;o';
				var path = 'hr' + 'ef' + '=';
				var addyeadb6ef87b3
 1d352d51d33ec70487704 = 'j&amp;#117;dy' + '&amp;#64;';
				addyeadb6ef87b31
 d352d51d33ec70487704 = addyeadb6ef87b31d352d51d33ec70487704 + 'f&amp;#101;n
 &amp;#101;rty' + '&amp;#46;' + 'c&amp;#111;m';
				var addy_texteadb6ef87b3
 1d352d51d33ec70487704 = 'j&amp;#117;dy' + '&amp;#64;' + 'f&amp;#101;n&amp;#
 101;rty' + '&amp;#46;' + 'c&amp;#111;m';document.getElementById('cloakeadb6
 ef87b31d352d51d33ec70487704').innerHTML += '&lt;a ' + path + '\'' + prefix 
 + ':' + addyeadb6ef87b31d352d51d33ec70487704 + '\'&gt;'+addy_texteadb6ef87b
 31d352d51d33ec70487704+'&lt;\/a&gt;';
		. (mailto:judy@fenerty.com.) If you
  are interested in joining our committee meetings on Zoom, please email Car
 olyn for the link.\n
X-ALT-DESC;FMTTYPE=text/html:<div class="page" title="Page 6"><div class="layoutArea"><div class="column
 "><p>This committee covers many issues affecting native plants: conservatio
 n, advocacy, legislation, habitat restoration and rare plants. The committe
 e meets once a month to provide information and support for these conservat
 ion issues and efforts. Members of our committee work on projects throughou
 t the Chapter area, coordinating with our state CNPS program staff and othe
 r conservation organizations.</p><p>Please join us in our important work! F
 or questions, comments or concerns, contact Committee Chair Carolyn Dorsch 
 at <span id="cloakbe789e3eca2d2c0806f00d7ac3994f66">This email address is b
 eing protected from spambots. You need JavaScript enabled to view it.</span
 ><script type='text/javascript'>
				document.getElementById('cloakbe789e3e
 ca2d2c0806f00d7ac3994f66').innerHTML = '';
				var prefix = '&#109;a' + 'i&
 #108;' + '&#116;o';
				var path = 'hr' + 'ef' + '=';
				var addybe789e3ec
 a2d2c0806f00d7ac3994f66 = 'cd&#111;rsch' + '&#64;';
				addybe789e3eca2d2c0
 806f00d7ac3994f66 = addybe789e3eca2d2c0806f00d7ac3994f66 + 'cnps-scv' + '&#
 46;' + '&#111;rg';
				var addy_textbe789e3eca2d2c0806f00d7ac3994f66 = 'cd&
 #111;rsch' + '&#64;' + 'cnps-scv' + '&#46;' + '&#111;rg';document.getElemen
 tById('cloakbe789e3eca2d2c0806f00d7ac3994f66').innerHTML += '<a ' + path + 
 '\'' + prefix + ':' + addybe789e3eca2d2c0806f00d7ac3994f66 + '\'>'+addy_tex
 tbe789e3eca2d2c0806f00d7ac3994f66+'<\/a>';
		</script> or (650) 804-6162, o
 r Conservation Chair Judy Fenerty at <a href="mailto:judy@fenerty.com."><sp
 an id="cloakeadb6ef87b31d352d51d33ec70487704">This email address is being p
 rotected from spambots. You need JavaScript enabled to view it.</span><scri
 pt type='text/javascript'>
				document.getElementById('cloakeadb6ef87b31d3
 52d51d33ec70487704').innerHTML = '';
				var prefix = '&#109;a' + 'i&#108;'
  + '&#116;o';
				var path = 'hr' + 'ef' + '=';
				var addyeadb6ef87b31d35
 2d51d33ec70487704 = 'j&#117;dy' + '&#64;';
				addyeadb6ef87b31d352d51d33ec
 70487704 = addyeadb6ef87b31d352d51d33ec70487704 + 'f&#101;n&#101;rty' + '&#
 46;' + 'c&#111;m';
				var addy_texteadb6ef87b31d352d51d33ec70487704 = 'j&#
 117;dy' + '&#64;' + 'f&#101;n&#101;rty' + '&#46;' + 'c&#111;m';document.get
 ElementById('cloakeadb6ef87b31d352d51d33ec70487704').innerHTML += '<a ' + p
 ath + '\'' + prefix + ':' + addyeadb6ef87b31d352d51d33ec70487704 + '\'>'+ad
 dy_texteadb6ef87b31d352d51d33ec70487704+'<\/a>';
		</script>.</a> If you ar
 e interested in joining our committee meetings on Zoom, please email Caroly
 n for the link.</p></div></div></div>
CONTACT:Committee Chair Carolyn Dorsch at This email address is being protected from spambots. You need JavaScript enabled to view it.
				document.getElementById('cloak61556e40f323b6151fb12df3f1eb401a').innerHTML = '';
				var prefix = '&#109;a' + 'i&#108;' + '&#116;o';
				var path = 'hr' + 'ef' + '=';
				var addy61556e40f323b6151fb12df3f1eb401a = 'cd&#111;rsch' + '&#64;';
				addy61556e40f323b6151fb12df3f1eb401a = addy61556e40f323b6151fb12df3f1eb401a + 'cnps-scv' + '&#46;' + '&#111;rg';
				var addy_text61556e40f323b6151fb12df3f1eb401a = 'cd&#111;rsch' + '&#64;' + 'cnps-scv' + '&#46;' + '&#111;rg';document.getElementById('cloak61556e40f323b6151fb12df3f1eb401a').innerHTML += '<a ' + path + '\'' + prefix + ':' + addy61556e40f323b6151fb12df3f1eb401a + '\'>'+addy_text61556e40f323b6151fb12df3f1eb401a+'';
		 or (650) 804-6162, or Judy Fenerty at This email address is being protected from spambots. You need JavaScript enabled to view it.
				document.getElementById('cloakface8c2e7fe13b0d6633aef39e9c7a69').innerHTML = '';
				var prefix = '&#109;a' + 'i&#108;' + '&#116;o';
				var path = 'hr' + 'ef' + '=';
				var addyface8c2e7fe13b0d6633aef39e9c7a69 = 'j&#117;dy' + '&#64;';
				addyface8c2e7fe13b0d6633aef39e9c7a69 = addyface8c2e7fe13b0d6633aef39e9c7a69 + 'f&#101;n&#101;rty' + '&#46;' + 'c&#111;m';
				var addy_textface8c2e7fe13b0d6633aef39e9c7a69 = 'j&#117;dy' + '&#64;' + 'f&#101;n&#101;rty' + '&#46;' + 'c&#111;m';document.getElementById('cloakface8c2e7fe13b0d6633aef39e9c7a69').innerHTML += '<a ' + path + '\'' + prefix + ':' + addyface8c2e7fe13b0d6633aef39e9c7a69 + '\'>'+addy_textface8c2e7fe13b0d6633aef39e9c7a69+'';
		
DTSTAMP:20260421T211423
DTSTART;TZID=America/Tijuana:20260105T190000
DTEND;TZID=America/Tijuana:20260105T203000
SEQUENCE:0
TRANSP:OPAQUE
END:VEVENT
END:VCALENDAR