BEGIN:VCALENDAR
VERSION:2.0
PRODID:-//jEvents 2.0 for Joomla//EN
CALSCALE:GREGORIAN
METHOD:PUBLISH
BEGIN:VTIMEZONE
TZID:America/Tijuana
BEGIN:STANDARD
DTSTART:20251102T010000
RDATE:20260308T030000
TZOFFSETFROM:-0700
TZOFFSETTO:-0800
TZNAME:America/Tijuana PST
END:STANDARD
BEGIN:STANDARD
DTSTART:20261101T010000
RDATE:20270314T030000
TZOFFSETFROM:-0700
TZOFFSETTO:-0800
TZNAME:America/Tijuana PST
END:STANDARD
BEGIN:STANDARD
DTSTART:20271107T010000
RDATE:20280312T030000
TZOFFSETFROM:-0700
TZOFFSETTO:-0800
TZNAME:America/Tijuana PST
END:STANDARD
BEGIN:DAYLIGHT
DTSTART:20250315T190000
RDATE:20251102T010000
TZOFFSETFROM:-0800
TZOFFSETTO:-0700
TZNAME:America/Tijuana PDT
END:DAYLIGHT
BEGIN:DAYLIGHT
DTSTART:20260308T030000
RDATE:20261101T010000
TZOFFSETFROM:-0800
TZOFFSETTO:-0700
TZNAME:America/Tijuana PDT
END:DAYLIGHT
BEGIN:DAYLIGHT
DTSTART:20270314T030000
RDATE:20271107T010000
TZOFFSETFROM:-0800
TZOFFSETTO:-0700
TZNAME:America/Tijuana PDT
END:DAYLIGHT
END:VTIMEZONE
BEGIN:VEVENT
UID:86dbdbce865ec469d666763ca1aa871e
CATEGORIES:Meetings
CREATED:20260216T192226
SUMMARY:Conservation Committee
LOCATION:Zoom
DESCRIPTION:This committee covers many issues affecting native plants: conservation, ad
 vocacy, legislation, habitat restoration and rare plants. The committee mee
 ts once a month to provide information and support for these conservation i
 ssues and efforts. Members of our committee work on projects throughout the
  Chapter area, coordinating with our state CNPS program staff and other con
 servation organizations.\nPlease join us in our important work! For questio
 ns, comments or concerns, contact Committee Chair Carolyn Dorsch at This em
 ail address is being protected from spambots. You need JavaScript enabled t
 o view it.
				document.getElementById('cloakbedbccb12688ea74ea473c1c9a5d40
 79').innerHTML = '';
				var prefix = '&#109;a' + 'i&#108;' + '&#116;o';
		
 		var path = 'hr' + 'ef' + '=';
				var addybedbccb12688ea74ea473c1c9a5d407
 9 = 'cd&#111;rsch' + '&#64;';
				addybedbccb12688ea74ea473c1c9a5d4079 = ad
 dybedbccb12688ea74ea473c1c9a5d4079 + 'cnps-scv' + '&#46;' + '&#111;rg';
			
 	var addy_textbedbccb12688ea74ea473c1c9a5d4079 = 'cd&#111;rsch' + '&#64;' +
  'cnps-scv' + '&#46;' + '&#111;rg';document.getElementById('cloakbedbccb126
 88ea74ea473c1c9a5d4079').innerHTML += '<a ' + path + '\'' + prefix + ':' + 
 addybedbccb12688ea74ea473c1c9a5d4079 + '\'>'+addy_textbedbccb12688ea74ea473
 c1c9a5d4079+'';
		 or (650) 804-6162, or Conservation Chair Judy Fenerty at
  This email address is being protected from spambots. You need JavaScript e
 nabled to view it.
				document.getElementById('cloake60d9103cc42f6b931d0da
 9e79f3b0fe').innerHTML = '';
				var prefix = '&amp;#109;a' + 'i&amp;#108;'
  + '&amp;#116;o';
				var path = 'hr' + 'ef' + '=';
				var addye60d9103cc4
 2f6b931d0da9e79f3b0fe = 'j&amp;#117;dy' + '&amp;#64;';
				addye60d9103cc42
 f6b931d0da9e79f3b0fe = addye60d9103cc42f6b931d0da9e79f3b0fe + 'f&amp;#101;n
 &amp;#101;rty' + '&amp;#46;' + 'c&amp;#111;m';
				var addy_texte60d9103cc4
 2f6b931d0da9e79f3b0fe = 'j&amp;#117;dy' + '&amp;#64;' + 'f&amp;#101;n&amp;#
 101;rty' + '&amp;#46;' + 'c&amp;#111;m';document.getElementById('cloake60d9
 103cc42f6b931d0da9e79f3b0fe').innerHTML += '&lt;a ' + path + '\'' + prefix 
 + ':' + addye60d9103cc42f6b931d0da9e79f3b0fe + '\'&gt;'+addy_texte60d9103cc
 42f6b931d0da9e79f3b0fe+'&lt;\/a&gt;';
		. (mailto:judy@fenerty.com.) If you
  are interested in joining our committee meetings on Zoom, please email Car
 olyn for the link.\n
X-ALT-DESC;FMTTYPE=text/html:<div class="page" title="Page 6"><div class="layoutArea"><div class="column
 "><p>This committee covers many issues affecting native plants: conservatio
 n, advocacy, legislation, habitat restoration and rare plants. The committe
 e meets once a month to provide information and support for these conservat
 ion issues and efforts. Members of our committee work on projects throughou
 t the Chapter area, coordinating with our state CNPS program staff and othe
 r conservation organizations.</p><p>Please join us in our important work! F
 or questions, comments or concerns, contact Committee Chair Carolyn Dorsch 
 at <span id="cloakbedbccb12688ea74ea473c1c9a5d4079">This email address is b
 eing protected from spambots. You need JavaScript enabled to view it.</span
 ><script type='text/javascript'>
				document.getElementById('cloakbedbccb1
 2688ea74ea473c1c9a5d4079').innerHTML = '';
				var prefix = '&#109;a' + 'i&
 #108;' + '&#116;o';
				var path = 'hr' + 'ef' + '=';
				var addybedbccb12
 688ea74ea473c1c9a5d4079 = 'cd&#111;rsch' + '&#64;';
				addybedbccb12688ea7
 4ea473c1c9a5d4079 = addybedbccb12688ea74ea473c1c9a5d4079 + 'cnps-scv' + '&#
 46;' + '&#111;rg';
				var addy_textbedbccb12688ea74ea473c1c9a5d4079 = 'cd&
 #111;rsch' + '&#64;' + 'cnps-scv' + '&#46;' + '&#111;rg';document.getElemen
 tById('cloakbedbccb12688ea74ea473c1c9a5d4079').innerHTML += '<a ' + path + 
 '\'' + prefix + ':' + addybedbccb12688ea74ea473c1c9a5d4079 + '\'>'+addy_tex
 tbedbccb12688ea74ea473c1c9a5d4079+'<\/a>';
		</script> or (650) 804-6162, o
 r Conservation Chair Judy Fenerty at <a href="mailto:judy@fenerty.com."><sp
 an id="cloake60d9103cc42f6b931d0da9e79f3b0fe">This email address is being p
 rotected from spambots. You need JavaScript enabled to view it.</span><scri
 pt type='text/javascript'>
				document.getElementById('cloake60d9103cc42f6
 b931d0da9e79f3b0fe').innerHTML = '';
				var prefix = '&#109;a' + 'i&#108;'
  + '&#116;o';
				var path = 'hr' + 'ef' + '=';
				var addye60d9103cc42f6b
 931d0da9e79f3b0fe = 'j&#117;dy' + '&#64;';
				addye60d9103cc42f6b931d0da9e
 79f3b0fe = addye60d9103cc42f6b931d0da9e79f3b0fe + 'f&#101;n&#101;rty' + '&#
 46;' + 'c&#111;m';
				var addy_texte60d9103cc42f6b931d0da9e79f3b0fe = 'j&#
 117;dy' + '&#64;' + 'f&#101;n&#101;rty' + '&#46;' + 'c&#111;m';document.get
 ElementById('cloake60d9103cc42f6b931d0da9e79f3b0fe').innerHTML += '<a ' + p
 ath + '\'' + prefix + ':' + addye60d9103cc42f6b931d0da9e79f3b0fe + '\'>'+ad
 dy_texte60d9103cc42f6b931d0da9e79f3b0fe+'<\/a>';
		</script>.</a> If you ar
 e interested in joining our committee meetings on Zoom, please email Caroly
 n for the link.</p></div></div></div>
CONTACT:Committee Chair Carolyn Dorsch at This email address is being protected from spambots. You need JavaScript enabled to view it.
				document.getElementById('cloak1d4c25674199fa8dbe156374894bcc57').innerHTML = '';
				var prefix = '&#109;a' + 'i&#108;' + '&#116;o';
				var path = 'hr' + 'ef' + '=';
				var addy1d4c25674199fa8dbe156374894bcc57 = 'cd&#111;rsch' + '&#64;';
				addy1d4c25674199fa8dbe156374894bcc57 = addy1d4c25674199fa8dbe156374894bcc57 + 'cnps-scv' + '&#46;' + '&#111;rg';
				var addy_text1d4c25674199fa8dbe156374894bcc57 = 'cd&#111;rsch' + '&#64;' + 'cnps-scv' + '&#46;' + '&#111;rg';document.getElementById('cloak1d4c25674199fa8dbe156374894bcc57').innerHTML += '<a ' + path + '\'' + prefix + ':' + addy1d4c25674199fa8dbe156374894bcc57 + '\'>'+addy_text1d4c25674199fa8dbe156374894bcc57+'';
		 or (650) 804-6162, or Judy Fenerty at This email address is being protected from spambots. You need JavaScript enabled to view it.
				document.getElementById('cloak9c63c75690d8fa3d19f319d7c90a8860').innerHTML = '';
				var prefix = '&#109;a' + 'i&#108;' + '&#116;o';
				var path = 'hr' + 'ef' + '=';
				var addy9c63c75690d8fa3d19f319d7c90a8860 = 'j&#117;dy' + '&#64;';
				addy9c63c75690d8fa3d19f319d7c90a8860 = addy9c63c75690d8fa3d19f319d7c90a8860 + 'f&#101;n&#101;rty' + '&#46;' + 'c&#111;m';
				var addy_text9c63c75690d8fa3d19f319d7c90a8860 = 'j&#117;dy' + '&#64;' + 'f&#101;n&#101;rty' + '&#46;' + 'c&#111;m';document.getElementById('cloak9c63c75690d8fa3d19f319d7c90a8860').innerHTML += '<a ' + path + '\'' + prefix + ':' + addy9c63c75690d8fa3d19f319d7c90a8860 + '\'>'+addy_text9c63c75690d8fa3d19f319d7c90a8860+'';
		
DTSTAMP:20260424T052418
DTSTART;TZID=America/Tijuana:20260316T190000
DTEND;TZID=America/Tijuana:20260316T203000
SEQUENCE:0
TRANSP:OPAQUE
END:VEVENT
END:VCALENDAR