BEGIN:VCALENDAR
VERSION:2.0
PRODID:-//jEvents 2.0 for Joomla//EN
CALSCALE:GREGORIAN
METHOD:PUBLISH
BEGIN:VTIMEZONE
TZID:America/Tijuana
BEGIN:STANDARD
DTSTART:20251102T010000
RDATE:20260308T030000
TZOFFSETFROM:-0700
TZOFFSETTO:-0800
TZNAME:America/Tijuana PST
END:STANDARD
BEGIN:STANDARD
DTSTART:20261101T010000
RDATE:20270314T030000
TZOFFSETFROM:-0700
TZOFFSETTO:-0800
TZNAME:America/Tijuana PST
END:STANDARD
BEGIN:STANDARD
DTSTART:20271107T010000
RDATE:20280312T030000
TZOFFSETFROM:-0700
TZOFFSETTO:-0800
TZNAME:America/Tijuana PST
END:STANDARD
BEGIN:DAYLIGHT
DTSTART:20250419T190000
RDATE:20251102T010000
TZOFFSETFROM:-0800
TZOFFSETTO:-0700
TZNAME:America/Tijuana PDT
END:DAYLIGHT
BEGIN:DAYLIGHT
DTSTART:20260308T030000
RDATE:20261101T010000
TZOFFSETFROM:-0800
TZOFFSETTO:-0700
TZNAME:America/Tijuana PDT
END:DAYLIGHT
BEGIN:DAYLIGHT
DTSTART:20270314T030000
RDATE:20271107T010000
TZOFFSETFROM:-0800
TZOFFSETTO:-0700
TZNAME:America/Tijuana PDT
END:DAYLIGHT
END:VTIMEZONE
BEGIN:VEVENT
UID:86dbdbce865ec469d666763ca1aa871e
CATEGORIES:Meetings
CREATED:20260216T192226
SUMMARY:Conservation Committee
LOCATION:Zoom
DESCRIPTION:<div class="page" title="Page 6"><div class="layoutArea"><div class="column
 "><p>This committee covers many issues affecting native plants: conservatio
 n, advocacy, legislation, habitat restoration and rare plants. The committe
 e meets once a month to provide information and support for these conservat
 ion issues and efforts. Members of our committee work on projects throughou
 t the Chapter area, coordinating with our state CNPS program staff and othe
 r conservation organizations.</p><p>Please join us in our important work! F
 or questions, comments or concerns, contact Committee Chair Carolyn Dorsch 
 at <span id="cloakc7fdefc2d83d3fac43da28152d5d3718">This email address is b
 eing protected from spambots. You need JavaScript enabled to view it.</span
 ><script type='text/javascript'>
				document.getElementById('cloakc7fdefc2
 d83d3fac43da28152d5d3718').innerHTML = '';
				var prefix = '&#109;a' + 'i&
 #108;' + '&#116;o';
				var path = 'hr' + 'ef' + '=';
				var addyc7fdefc2d
 83d3fac43da28152d5d3718 = 'cd&#111;rsch' + '&#64;';
				addyc7fdefc2d83d3fa
 c43da28152d5d3718 = addyc7fdefc2d83d3fac43da28152d5d3718 + 'cnps-scv' + '&#
 46;' + '&#111;rg';
				var addy_textc7fdefc2d83d3fac43da28152d5d3718 = 'cd&
 #111;rsch' + '&#64;' + 'cnps-scv' + '&#46;' + '&#111;rg';document.getElemen
 tById('cloakc7fdefc2d83d3fac43da28152d5d3718').innerHTML += '<a ' + path + 
 '\'' + prefix + ':' + addyc7fdefc2d83d3fac43da28152d5d3718 + '\'>'+addy_tex
 tc7fdefc2d83d3fac43da28152d5d3718+'<\/a>';
		</script> or (650) 804-6162, o
 r Conservation Chair Judy Fenerty at <a href="mailto:judy@fenerty.com."><sp
 an id="cloakb307bc572bb93b44c0cfba4f9fca6684">This email address is being p
 rotected from spambots. You need JavaScript enabled to view it.</span><scri
 pt type='text/javascript'>
				document.getElementById('cloakb307bc572bb93b
 44c0cfba4f9fca6684').innerHTML = '';
				var prefix = '&#109;a' + 'i&#108;'
  + '&#116;o';
				var path = 'hr' + 'ef' + '=';
				var addyb307bc572bb93b4
 4c0cfba4f9fca6684 = 'j&#117;dy' + '&#64;';
				addyb307bc572bb93b44c0cfba4f
 9fca6684 = addyb307bc572bb93b44c0cfba4f9fca6684 + 'f&#101;n&#101;rty' + '&#
 46;' + 'c&#111;m';
				var addy_textb307bc572bb93b44c0cfba4f9fca6684 = 'j&#
 117;dy' + '&#64;' + 'f&#101;n&#101;rty' + '&#46;' + 'c&#111;m';document.get
 ElementById('cloakb307bc572bb93b44c0cfba4f9fca6684').innerHTML += '<a ' + p
 ath + '\'' + prefix + ':' + addyb307bc572bb93b44c0cfba4f9fca6684 + '\'>'+ad
 dy_textb307bc572bb93b44c0cfba4f9fca6684+'<\/a>';
		</script>.</a> If you ar
 e interested in joining our committee meetings on Zoom, please email Caroly
 n for the link.</p></div></div></div>
CONTACT:Committee Chair Carolyn Dorsch at This email address is being protected from spambots. You need JavaScript enabled to view it.
				document.getElementById('cloak8ab6fa900779675f9c2f57ac22454162').innerHTML = '';
				var prefix = '&#109;a' + 'i&#108;' + '&#116;o';
				var path = 'hr' + 'ef' + '=';
				var addy8ab6fa900779675f9c2f57ac22454162 = 'cd&#111;rsch' + '&#64;';
				addy8ab6fa900779675f9c2f57ac22454162 = addy8ab6fa900779675f9c2f57ac22454162 + 'cnps-scv' + '&#46;' + '&#111;rg';
				var addy_text8ab6fa900779675f9c2f57ac22454162 = 'cd&#111;rsch' + '&#64;' + 'cnps-scv' + '&#46;' + '&#111;rg';document.getElementById('cloak8ab6fa900779675f9c2f57ac22454162').innerHTML += '<a ' + path + '\'' + prefix + ':' + addy8ab6fa900779675f9c2f57ac22454162 + '\'>'+addy_text8ab6fa900779675f9c2f57ac22454162+'';
		 or (650) 804-6162, or Judy Fenerty at This email address is being protected from spambots. You need JavaScript enabled to view it.
				document.getElementById('cloak38d4483273fc07e1b8496bc9830fac81').innerHTML = '';
				var prefix = '&#109;a' + 'i&#108;' + '&#116;o';
				var path = 'hr' + 'ef' + '=';
				var addy38d4483273fc07e1b8496bc9830fac81 = 'j&#117;dy' + '&#64;';
				addy38d4483273fc07e1b8496bc9830fac81 = addy38d4483273fc07e1b8496bc9830fac81 + 'f&#101;n&#101;rty' + '&#46;' + 'c&#111;m';
				var addy_text38d4483273fc07e1b8496bc9830fac81 = 'j&#117;dy' + '&#64;' + 'f&#101;n&#101;rty' + '&#46;' + 'c&#111;m';document.getElementById('cloak38d4483273fc07e1b8496bc9830fac81').innerHTML += '<a ' + path + '\'' + prefix + ':' + addy38d4483273fc07e1b8496bc9830fac81 + '\'>'+addy_text38d4483273fc07e1b8496bc9830fac81+'';
		
DTSTAMP:20260420T144659
DTSTART;TZID=America/Tijuana:20260420T190000
DTEND;TZID=America/Tijuana:20260420T203000
SEQUENCE:0
TRANSP:OPAQUE
END:VEVENT
END:VCALENDAR