BEGIN:VCALENDAR
VERSION:2.0
PRODID:-//jEvents 2.0 for Joomla//EN
CALSCALE:GREGORIAN
METHOD:PUBLISH
BEGIN:VTIMEZONE
TZID:America/Tijuana
BEGIN:STANDARD
DTSTART:20251102T010000
RDATE:20260308T030000
TZOFFSETFROM:-0700
TZOFFSETTO:-0800
TZNAME:America/Tijuana PST
END:STANDARD
BEGIN:STANDARD
DTSTART:20261101T010000
RDATE:20270314T030000
TZOFFSETFROM:-0700
TZOFFSETTO:-0800
TZNAME:America/Tijuana PST
END:STANDARD
BEGIN:STANDARD
DTSTART:20271107T010000
RDATE:20280312T030000
TZOFFSETFROM:-0700
TZOFFSETTO:-0800
TZNAME:America/Tijuana PST
END:STANDARD
BEGIN:DAYLIGHT
DTSTART:20250614T190000
RDATE:20251102T010000
TZOFFSETFROM:-0800
TZOFFSETTO:-0700
TZNAME:America/Tijuana PDT
END:DAYLIGHT
BEGIN:DAYLIGHT
DTSTART:20260308T030000
RDATE:20261101T010000
TZOFFSETFROM:-0800
TZOFFSETTO:-0700
TZNAME:America/Tijuana PDT
END:DAYLIGHT
BEGIN:DAYLIGHT
DTSTART:20270314T030000
RDATE:20271107T010000
TZOFFSETFROM:-0800
TZOFFSETTO:-0700
TZNAME:America/Tijuana PDT
END:DAYLIGHT
END:VTIMEZONE
BEGIN:VEVENT
UID:86dbdbce865ec469d666763ca1aa871e
CATEGORIES:Meetings
CREATED:20260216T192226
SUMMARY:Conservation Committee
LOCATION:Zoom
DESCRIPTION:This committee covers many issues affecting native plants: conservation, ad
 vocacy, legislation, habitat restoration and rare plants. The committee mee
 ts once a month to provide information and support for these conservation i
 ssues and efforts. Members of our committee work on projects throughout the
  Chapter area, coordinating with our state CNPS program staff and other con
 servation organizations.\nPlease join us in our important work! For questio
 ns, comments or concerns, contact Committee Chair Carolyn Dorsch at This em
 ail address is being protected from spambots. You need JavaScript enabled t
 o view it.
				document.getElementById('cloak8e57701ec2d281862d4a14a3cdbbb9
 65').innerHTML = '';
				var prefix = '&#109;a' + 'i&#108;' + '&#116;o';
		
 		var path = 'hr' + 'ef' + '=';
				var addy8e57701ec2d281862d4a14a3cdbbb96
 5 = 'cd&#111;rsch' + '&#64;';
				addy8e57701ec2d281862d4a14a3cdbbb965 = ad
 dy8e57701ec2d281862d4a14a3cdbbb965 + 'cnps-scv' + '&#46;' + '&#111;rg';
			
 	var addy_text8e57701ec2d281862d4a14a3cdbbb965 = 'cd&#111;rsch' + '&#64;' +
  'cnps-scv' + '&#46;' + '&#111;rg';document.getElementById('cloak8e57701ec2
 d281862d4a14a3cdbbb965').innerHTML += '<a ' + path + '\'' + prefix + ':' + 
 addy8e57701ec2d281862d4a14a3cdbbb965 + '\'>'+addy_text8e57701ec2d281862d4a1
 4a3cdbbb965+'';
		 or (650) 804-6162, or Conservation Chair Judy Fenerty at
  This email address is being protected from spambots. You need JavaScript e
 nabled to view it.
				document.getElementById('cloakf92ae19212d74e7e16cd35
 69fc3508c4').innerHTML = '';
				var prefix = '&amp;#109;a' + 'i&amp;#108;'
  + '&amp;#116;o';
				var path = 'hr' + 'ef' + '=';
				var addyf92ae19212d
 74e7e16cd3569fc3508c4 = 'j&amp;#117;dy' + '&amp;#64;';
				addyf92ae19212d7
 4e7e16cd3569fc3508c4 = addyf92ae19212d74e7e16cd3569fc3508c4 + 'f&amp;#101;n
 &amp;#101;rty' + '&amp;#46;' + 'c&amp;#111;m';
				var addy_textf92ae19212d
 74e7e16cd3569fc3508c4 = 'j&amp;#117;dy' + '&amp;#64;' + 'f&amp;#101;n&amp;#
 101;rty' + '&amp;#46;' + 'c&amp;#111;m';document.getElementById('cloakf92ae
 19212d74e7e16cd3569fc3508c4').innerHTML += '&lt;a ' + path + '\'' + prefix 
 + ':' + addyf92ae19212d74e7e16cd3569fc3508c4 + '\'&gt;'+addy_textf92ae19212
 d74e7e16cd3569fc3508c4+'&lt;\/a&gt;';
		. (mailto:judy@fenerty.com.) If you
  are interested in joining our committee meetings on Zoom, please email Car
 olyn for the link.\n
X-ALT-DESC;FMTTYPE=text/html:<div class="page" title="Page 6"><div class="layoutArea"><div class="column
 "><p>This committee covers many issues affecting native plants: conservatio
 n, advocacy, legislation, habitat restoration and rare plants. The committe
 e meets once a month to provide information and support for these conservat
 ion issues and efforts. Members of our committee work on projects throughou
 t the Chapter area, coordinating with our state CNPS program staff and othe
 r conservation organizations.</p><p>Please join us in our important work! F
 or questions, comments or concerns, contact Committee Chair Carolyn Dorsch 
 at <span id="cloak8e57701ec2d281862d4a14a3cdbbb965">This email address is b
 eing protected from spambots. You need JavaScript enabled to view it.</span
 ><script type='text/javascript'>
				document.getElementById('cloak8e57701e
 c2d281862d4a14a3cdbbb965').innerHTML = '';
				var prefix = '&#109;a' + 'i&
 #108;' + '&#116;o';
				var path = 'hr' + 'ef' + '=';
				var addy8e57701ec
 2d281862d4a14a3cdbbb965 = 'cd&#111;rsch' + '&#64;';
				addy8e57701ec2d2818
 62d4a14a3cdbbb965 = addy8e57701ec2d281862d4a14a3cdbbb965 + 'cnps-scv' + '&#
 46;' + '&#111;rg';
				var addy_text8e57701ec2d281862d4a14a3cdbbb965 = 'cd&
 #111;rsch' + '&#64;' + 'cnps-scv' + '&#46;' + '&#111;rg';document.getElemen
 tById('cloak8e57701ec2d281862d4a14a3cdbbb965').innerHTML += '<a ' + path + 
 '\'' + prefix + ':' + addy8e57701ec2d281862d4a14a3cdbbb965 + '\'>'+addy_tex
 t8e57701ec2d281862d4a14a3cdbbb965+'<\/a>';
		</script> or (650) 804-6162, o
 r Conservation Chair Judy Fenerty at <a href="mailto:judy@fenerty.com."><sp
 an id="cloakf92ae19212d74e7e16cd3569fc3508c4">This email address is being p
 rotected from spambots. You need JavaScript enabled to view it.</span><scri
 pt type='text/javascript'>
				document.getElementById('cloakf92ae19212d74e
 7e16cd3569fc3508c4').innerHTML = '';
				var prefix = '&#109;a' + 'i&#108;'
  + '&#116;o';
				var path = 'hr' + 'ef' + '=';
				var addyf92ae19212d74e7
 e16cd3569fc3508c4 = 'j&#117;dy' + '&#64;';
				addyf92ae19212d74e7e16cd3569
 fc3508c4 = addyf92ae19212d74e7e16cd3569fc3508c4 + 'f&#101;n&#101;rty' + '&#
 46;' + 'c&#111;m';
				var addy_textf92ae19212d74e7e16cd3569fc3508c4 = 'j&#
 117;dy' + '&#64;' + 'f&#101;n&#101;rty' + '&#46;' + 'c&#111;m';document.get
 ElementById('cloakf92ae19212d74e7e16cd3569fc3508c4').innerHTML += '<a ' + p
 ath + '\'' + prefix + ':' + addyf92ae19212d74e7e16cd3569fc3508c4 + '\'>'+ad
 dy_textf92ae19212d74e7e16cd3569fc3508c4+'<\/a>';
		</script>.</a> If you ar
 e interested in joining our committee meetings on Zoom, please email Caroly
 n for the link.</p></div></div></div>
CONTACT:Committee Chair Carolyn Dorsch at This email address is being protected from spambots. You need JavaScript enabled to view it.
				document.getElementById('cloak52b7bda394b95f6c51a297f0b6d58bb8').innerHTML = '';
				var prefix = '&#109;a' + 'i&#108;' + '&#116;o';
				var path = 'hr' + 'ef' + '=';
				var addy52b7bda394b95f6c51a297f0b6d58bb8 = 'cd&#111;rsch' + '&#64;';
				addy52b7bda394b95f6c51a297f0b6d58bb8 = addy52b7bda394b95f6c51a297f0b6d58bb8 + 'cnps-scv' + '&#46;' + '&#111;rg';
				var addy_text52b7bda394b95f6c51a297f0b6d58bb8 = 'cd&#111;rsch' + '&#64;' + 'cnps-scv' + '&#46;' + '&#111;rg';document.getElementById('cloak52b7bda394b95f6c51a297f0b6d58bb8').innerHTML += '<a ' + path + '\'' + prefix + ':' + addy52b7bda394b95f6c51a297f0b6d58bb8 + '\'>'+addy_text52b7bda394b95f6c51a297f0b6d58bb8+'';
		 or (650) 804-6162, or Judy Fenerty at This email address is being protected from spambots. You need JavaScript enabled to view it.
				document.getElementById('cloak891d7c29d431b2c74064567105af0f9d').innerHTML = '';
				var prefix = '&#109;a' + 'i&#108;' + '&#116;o';
				var path = 'hr' + 'ef' + '=';
				var addy891d7c29d431b2c74064567105af0f9d = 'j&#117;dy' + '&#64;';
				addy891d7c29d431b2c74064567105af0f9d = addy891d7c29d431b2c74064567105af0f9d + 'f&#101;n&#101;rty' + '&#46;' + 'c&#111;m';
				var addy_text891d7c29d431b2c74064567105af0f9d = 'j&#117;dy' + '&#64;' + 'f&#101;n&#101;rty' + '&#46;' + 'c&#111;m';document.getElementById('cloak891d7c29d431b2c74064567105af0f9d').innerHTML += '<a ' + path + '\'' + prefix + ':' + addy891d7c29d431b2c74064567105af0f9d + '\'>'+addy_text891d7c29d431b2c74064567105af0f9d+'';
		
DTSTAMP:20260423T144416
DTSTART;TZID=America/Tijuana:20260615T190000
DTEND;TZID=America/Tijuana:20260615T203000
SEQUENCE:0
TRANSP:OPAQUE
END:VEVENT
END:VCALENDAR