BEGIN:VCALENDAR
VERSION:2.0
PRODID:-//jEvents 2.0 for Joomla//EN
CALSCALE:GREGORIAN
METHOD:PUBLISH
BEGIN:VTIMEZONE
TZID:America/Tijuana
BEGIN:STANDARD
DTSTART:20251102T010000
RDATE:20260308T030000
TZOFFSETFROM:-0700
TZOFFSETTO:-0800
TZNAME:America/Tijuana PST
END:STANDARD
BEGIN:STANDARD
DTSTART:20261101T010000
RDATE:20270314T030000
TZOFFSETFROM:-0700
TZOFFSETTO:-0800
TZNAME:America/Tijuana PST
END:STANDARD
BEGIN:STANDARD
DTSTART:20271107T010000
RDATE:20280312T030000
TZOFFSETFROM:-0700
TZOFFSETTO:-0800
TZNAME:America/Tijuana PST
END:STANDARD
BEGIN:DAYLIGHT
DTSTART:20250520T190000
RDATE:20251102T010000
TZOFFSETFROM:-0800
TZOFFSETTO:-0700
TZNAME:America/Tijuana PDT
END:DAYLIGHT
BEGIN:DAYLIGHT
DTSTART:20260308T030000
RDATE:20261101T010000
TZOFFSETFROM:-0800
TZOFFSETTO:-0700
TZNAME:America/Tijuana PDT
END:DAYLIGHT
BEGIN:DAYLIGHT
DTSTART:20270314T030000
RDATE:20271107T010000
TZOFFSETFROM:-0800
TZOFFSETTO:-0700
TZNAME:America/Tijuana PDT
END:DAYLIGHT
END:VTIMEZONE
BEGIN:VEVENT
UID:ab91bc567163b2aa4d85a069cabc7a11
CATEGORIES:Meetings
CREATED:20260218T132223
SUMMARY:CNPS SCV Board Meeting
LOCATION:Zoom
DESCRIPTION:CNPS SCV Board meetings are open to all members. The meetings start at 7pm,
  and are generally held on the third or fourth Thursday of the month on Zoo
 m. \nIf you would like to attend the meeting, please contact one of our co-
 presidents at This email address is being protected from spambots. You need
  JavaScript enabled to view it.
				document.getElementById('cloak8d1464cc1
 fe7cda32a7978ea15961467').innerHTML = '';
				var prefix = '&#109;a' + 'i&#
 108;' + '&#116;o';
				var path = 'hr' + 'ef' + '=';
				var addy8d1464cc1f
 e7cda32a7978ea15961467 = 'pr&#101;s&#105;d&#101;nt' + '&#64;';
				addy8d14
 64cc1fe7cda32a7978ea15961467 = addy8d1464cc1fe7cda32a7978ea15961467 + 'cnps
 -scv' + '&#46;' + '&#111;rg';
				var addy_text8d1464cc1fe7cda32a7978ea1596
 1467 = 'pr&#101;s&#105;d&#101;nt' + '&#64;' + 'cnps-scv' + '&#46;' + '&#111
 ;rg';document.getElementById('cloak8d1464cc1fe7cda32a7978ea15961467').inner
 HTML += '<a ' + path + '\'' + prefix + ':' + addy8d1464cc1fe7cda32a7978ea15
 961467 + '\'>'+addy_text8d1464cc1fe7cda32a7978ea15961467+'';
		.\n
X-ALT-DESC;FMTTYPE=text/html:<div class="jev_evdt_desc" style="margin: 0px; padding: 0px 0px 10px; borde
 r: none; vertical-align: top; line-height: 18px; color: #336633; font-famil
 y: 'Segoe UI', Arial, Helvetica, sans-serif; font-size: 12px;"><p style="ma
 rgin: 15px 0px; padding: 0px; border: none; line-height: 1.5em;">CNPS SCV B
 oard meetings are open to all members. The meetings start at 7pm, and are g
 enerally held on the third or fourth Thursday of the month on Zoom.&nbsp;</
 p><p>If you would like to attend the meeting, please contact one of our co-
 presidents at&nbsp;<span id="cloak8d1464cc1fe7cda32a7978ea15961467">This em
 ail address is being protected from spambots. You need JavaScript enabled t
 o view it.</span><script type='text/javascript'>
				document.getElementByI
 d('cloak8d1464cc1fe7cda32a7978ea15961467').innerHTML = '';
				var prefix =
  '&#109;a' + 'i&#108;' + '&#116;o';
				var path = 'hr' + 'ef' + '=';
				v
 ar addy8d1464cc1fe7cda32a7978ea15961467 = 'pr&#101;s&#105;d&#101;nt' + '&#6
 4;';
				addy8d1464cc1fe7cda32a7978ea15961467 = addy8d1464cc1fe7cda32a7978e
 a15961467 + 'cnps-scv' + '&#46;' + '&#111;rg';
				var addy_text8d1464cc1fe
 7cda32a7978ea15961467 = 'pr&#101;s&#105;d&#101;nt' + '&#64;' + 'cnps-scv' +
  '&#46;' + '&#111;rg';document.getElementById('cloak8d1464cc1fe7cda32a7978e
 a15961467').innerHTML += '<a ' + path + '\'' + prefix + ':' + addy8d1464cc1
 fe7cda32a7978ea15961467 + '\'>'+addy_text8d1464cc1fe7cda32a7978ea15961467+'
 <\/a>';
		</script>.</p></div>
DTSTAMP:20260425T033153
DTSTART;TZID=America/Tijuana:20260521T190000
DTEND;TZID=America/Tijuana:20260521T210000
SEQUENCE:0
TRANSP:OPAQUE
END:VEVENT
END:VCALENDAR