BEGIN:VCALENDAR
VERSION:2.0
PRODID:-//jEvents 2.0 for Joomla//EN
CALSCALE:GREGORIAN
METHOD:PUBLISH
BEGIN:VTIMEZONE
TZID:America/Tijuana
BEGIN:STANDARD
DTSTART:20160306T110000
RDATE:20160313T030000
TZOFFSETFROM:-0700
TZOFFSETTO:-0800
TZNAME:America/Tijuana PST
END:STANDARD
BEGIN:STANDARD
DTSTART:20161106T010000
RDATE:20170312T030000
TZOFFSETFROM:-0700
TZOFFSETTO:-0800
TZNAME:America/Tijuana PST
END:STANDARD
BEGIN:STANDARD
DTSTART:20171105T010000
RDATE:20180311T030000
TZOFFSETFROM:-0700
TZOFFSETTO:-0800
TZNAME:America/Tijuana PST
END:STANDARD
BEGIN:STANDARD
DTSTART:20181104T010000
RDATE:20190310T030000
TZOFFSETFROM:-0700
TZOFFSETTO:-0800
TZNAME:America/Tijuana PST
END:STANDARD
BEGIN:STANDARD
DTSTART:20191103T010000
RDATE:20200308T030000
TZOFFSETFROM:-0700
TZOFFSETTO:-0800
TZNAME:America/Tijuana PST
END:STANDARD
BEGIN:STANDARD
DTSTART:20201101T010000
RDATE:20210314T030000
TZOFFSETFROM:-0700
TZOFFSETTO:-0800
TZNAME:America/Tijuana PST
END:STANDARD
BEGIN:STANDARD
DTSTART:20211107T010000
RDATE:20220313T030000
TZOFFSETFROM:-0700
TZOFFSETTO:-0800
TZNAME:America/Tijuana PST
END:STANDARD
BEGIN:STANDARD
DTSTART:20221106T010000
RDATE:20230312T030000
TZOFFSETFROM:-0700
TZOFFSETTO:-0800
TZNAME:America/Tijuana PST
END:STANDARD
BEGIN:STANDARD
DTSTART:20231105T010000
RDATE:20240310T030000
TZOFFSETFROM:-0700
TZOFFSETTO:-0800
TZNAME:America/Tijuana PST
END:STANDARD
BEGIN:STANDARD
DTSTART:20241103T010000
RDATE:20250309T030000
TZOFFSETFROM:-0700
TZOFFSETTO:-0800
TZNAME:America/Tijuana PST
END:STANDARD
BEGIN:STANDARD
DTSTART:20251102T010000
RDATE:20260308T030000
TZOFFSETFROM:-0700
TZOFFSETTO:-0800
TZNAME:America/Tijuana PST
END:STANDARD
BEGIN:STANDARD
DTSTART:20261101T010000
RDATE:20270314T030000
TZOFFSETFROM:-0700
TZOFFSETTO:-0800
TZNAME:America/Tijuana PST
END:STANDARD
BEGIN:STANDARD
DTSTART:20271107T010000
RDATE:20280312T030000
TZOFFSETFROM:-0700
TZOFFSETTO:-0800
TZNAME:America/Tijuana PST
END:STANDARD
BEGIN:DAYLIGHT
DTSTART:20160313T030000
RDATE:20161106T010000
TZOFFSETFROM:-0800
TZOFFSETTO:-0700
TZNAME:America/Tijuana PDT
END:DAYLIGHT
BEGIN:DAYLIGHT
DTSTART:20170312T030000
RDATE:20171105T010000
TZOFFSETFROM:-0800
TZOFFSETTO:-0700
TZNAME:America/Tijuana PDT
END:DAYLIGHT
BEGIN:DAYLIGHT
DTSTART:20180311T030000
RDATE:20181104T010000
TZOFFSETFROM:-0800
TZOFFSETTO:-0700
TZNAME:America/Tijuana PDT
END:DAYLIGHT
BEGIN:DAYLIGHT
DTSTART:20190310T030000
RDATE:20191103T010000
TZOFFSETFROM:-0800
TZOFFSETTO:-0700
TZNAME:America/Tijuana PDT
END:DAYLIGHT
BEGIN:DAYLIGHT
DTSTART:20200308T030000
RDATE:20201101T010000
TZOFFSETFROM:-0800
TZOFFSETTO:-0700
TZNAME:America/Tijuana PDT
END:DAYLIGHT
BEGIN:DAYLIGHT
DTSTART:20210314T030000
RDATE:20211107T010000
TZOFFSETFROM:-0800
TZOFFSETTO:-0700
TZNAME:America/Tijuana PDT
END:DAYLIGHT
BEGIN:DAYLIGHT
DTSTART:20220313T030000
RDATE:20221106T010000
TZOFFSETFROM:-0800
TZOFFSETTO:-0700
TZNAME:America/Tijuana PDT
END:DAYLIGHT
BEGIN:DAYLIGHT
DTSTART:20230312T030000
RDATE:20231105T010000
TZOFFSETFROM:-0800
TZOFFSETTO:-0700
TZNAME:America/Tijuana PDT
END:DAYLIGHT
BEGIN:DAYLIGHT
DTSTART:20240310T030000
RDATE:20241103T010000
TZOFFSETFROM:-0800
TZOFFSETTO:-0700
TZNAME:America/Tijuana PDT
END:DAYLIGHT
BEGIN:DAYLIGHT
DTSTART:20250309T030000
RDATE:20251102T010000
TZOFFSETFROM:-0800
TZOFFSETTO:-0700
TZNAME:America/Tijuana PDT
END:DAYLIGHT
BEGIN:DAYLIGHT
DTSTART:20260308T030000
RDATE:20261101T010000
TZOFFSETFROM:-0800
TZOFFSETTO:-0700
TZNAME:America/Tijuana PDT
END:DAYLIGHT
BEGIN:DAYLIGHT
DTSTART:20270314T030000
RDATE:20271107T010000
TZOFFSETFROM:-0800
TZOFFSETTO:-0700
TZNAME:America/Tijuana PDT
END:DAYLIGHT
END:VTIMEZONE
BEGIN:VEVENT
UID:d3852de82b22f3748d996ceb800cff28
CATEGORIES:Nursery
CREATED:20180105T131312
SUMMARY:Nursery Workday
LOCATION:Hidden Villa on Moody Road west of Foothill College.  26870 Moody Road in L
 os Altos\, CA\, or follow the directions below
DESCRIPTION:Native Plant Nursery Propagation WorkdaysCome help propagate plants for our
  next plant sale by volunteering at one of our nursery work sessions, every
  Wednesday .  Bring garden gloves, sunhat, clippers, and liquids and your l
 unch if you like.  Other tools will be provided at the nursery.  Knowledge 
 of plants is not necessary; your willingness to help is all that's required
 .\nFor more information, contact Vivian Neou at This email address is being
  protected from spambots. You need JavaScript enabled to view it.
				docum
 ent.getElementById('cloakebf05c799a620c363c475e8a34837f02').innerHTML = '';
 
				var prefix = '&#109;a' + 'i&#108;' + '&#116;o';
				var path = 'hr' + 
 'ef' + '=';
				var addyebf05c799a620c363c475e8a34837f02 = 't&#101;chch&#97
 ;&#105;r' + '&#64;';
				addyebf05c799a620c363c475e8a34837f02 = addyebf05c7
 99a620c363c475e8a34837f02 + 'cnps-scv' + '&#46;' + '&#111;rg';
				var addy
 _textebf05c799a620c363c475e8a34837f02 = 't&#101;chch&#97;&#105;r' + '&#64;'
  + 'cnps-scv' + '&#46;' + '&#111;rg';document.getElementById('cloakebf05c79
 9a620c363c475e8a34837f02').innerHTML += '<a ' + path + '\'' + prefix + ':' 
 + addyebf05c799a620c363c475e8a34837f02 + '\'>'+addy_textebf05c799a620c363c4
 75e8a34837f02+'';
		.\n
X-ALT-DESC;FMTTYPE=text/html:<h3>Native Plant Nursery Propagation Workdays</h3><p>Come help propagate pl
 ants for our next plant sale by volunteering at one of our nursery work ses
 sions, every <strong>Wednesday </strong>.  Bring garden gloves, sunhat, cli
 ppers, and liquids and your lunch if you like.  Other tools will be provide
 d at the nursery.  Knowledge of plants is not necessary; your willingness t
 o help is all that's required.</p><p>For more information, contact Vivian N
 eou at <span id="cloakebf05c799a620c363c475e8a34837f02">This email address 
 is being protected from spambots. You need JavaScript enabled to view it.</
 span><script type='text/javascript'>
				document.getElementById('cloakebf0
 5c799a620c363c475e8a34837f02').innerHTML = '';
				var prefix = '&#109;a' +
  'i&#108;' + '&#116;o';
				var path = 'hr' + 'ef' + '=';
				var addyebf05
 c799a620c363c475e8a34837f02 = 't&#101;chch&#97;&#105;r' + '&#64;';
				addy
 ebf05c799a620c363c475e8a34837f02 = addyebf05c799a620c363c475e8a34837f02 + '
 cnps-scv' + '&#46;' + '&#111;rg';
				var addy_textebf05c799a620c363c475e8a
 34837f02 = 't&#101;chch&#97;&#105;r' + '&#64;' + 'cnps-scv' + '&#46;' + '&#
 111;rg';document.getElementById('cloakebf05c799a620c363c475e8a34837f02').in
 nerHTML += '<a ' + path + '\'' + prefix + ':' + addyebf05c799a620c363c475e8
 a34837f02 + '\'>'+addy_textebf05c799a620c363c475e8a34837f02+'<\/a>';
		</sc
 ript>.</p>
CONTACT:Vivian Neou at This email address is being protected from spambots. You need JavaScript enabled to view it.
				document.getElementById('cloak1168289d8b099b74a3480d376daa58d4').innerHTML = '';
				var prefix = '&#109;a' + 'i&#108;' + '&#116;o';
				var path = 'hr' + 'ef' + '=';
				var addy1168289d8b099b74a3480d376daa58d4 = 't&#101;chch&#97;&#105;r' + '&#64;';
				addy1168289d8b099b74a3480d376daa58d4 = addy1168289d8b099b74a3480d376daa58d4 + 'cnps-scv' + '&#46;' + '&#111;rg';
				var addy_text1168289d8b099b74a3480d376daa58d4 = 't&#101;chch&#97;&#105;r' + '&#64;' + 'cnps-scv' + '&#46;' + '&#111;rg';document.getElementById('cloak1168289d8b099b74a3480d376daa58d4').innerHTML += '<a ' + path + '\'' + prefix + ':' + addy1168289d8b099b74a3480d376daa58d4 + '\'>'+addy_text1168289d8b099b74a3480d376daa58d4+'';
		 or (650) 260-3450
X-EXTRAINFO:Hidden Villa is located on Moody Road west of Foothill College.  From Hwy. 
 280 in Los Altos Hills, take the Moody Road exit and head west.  Two miles 
 west of Foothill College, look for the Hidden Villa sign and driveway on th
 e left.  Proceed over the bridge and park in the visitor center parking lot
  to your right.  The Nursery is at the greenhouse just beyond the visitor c
 enter.
DTSTAMP:20260426T003131
DTSTART;TZID=America/Tijuana:20170307T110000
DTEND;TZID=America/Tijuana:20170307T140000
SEQUENCE:0
TRANSP:OPAQUE
END:VEVENT
END:VCALENDAR