BEGIN:VCALENDAR
VERSION:2.0
PRODID:-//jEvents 2.0 for Joomla//EN
CALSCALE:GREGORIAN
METHOD:PUBLISH
BEGIN:VTIMEZONE
TZID:America/Tijuana
BEGIN:STANDARD
DTSTART:20171108T090000
RDATE:20180311T030000
TZOFFSETFROM:-0700
TZOFFSETTO:-0800
TZNAME:America/Tijuana PST
END:STANDARD
BEGIN:STANDARD
DTSTART:20181104T010000
RDATE:20190310T030000
TZOFFSETFROM:-0700
TZOFFSETTO:-0800
TZNAME:America/Tijuana PST
END:STANDARD
BEGIN:STANDARD
DTSTART:20191103T010000
RDATE:20200308T030000
TZOFFSETFROM:-0700
TZOFFSETTO:-0800
TZNAME:America/Tijuana PST
END:STANDARD
BEGIN:STANDARD
DTSTART:20201101T010000
RDATE:20210314T030000
TZOFFSETFROM:-0700
TZOFFSETTO:-0800
TZNAME:America/Tijuana PST
END:STANDARD
BEGIN:STANDARD
DTSTART:20211107T010000
RDATE:20220313T030000
TZOFFSETFROM:-0700
TZOFFSETTO:-0800
TZNAME:America/Tijuana PST
END:STANDARD
BEGIN:STANDARD
DTSTART:20221106T010000
RDATE:20230312T030000
TZOFFSETFROM:-0700
TZOFFSETTO:-0800
TZNAME:America/Tijuana PST
END:STANDARD
BEGIN:STANDARD
DTSTART:20231105T010000
RDATE:20240310T030000
TZOFFSETFROM:-0700
TZOFFSETTO:-0800
TZNAME:America/Tijuana PST
END:STANDARD
BEGIN:STANDARD
DTSTART:20241103T010000
RDATE:20250309T030000
TZOFFSETFROM:-0700
TZOFFSETTO:-0800
TZNAME:America/Tijuana PST
END:STANDARD
BEGIN:STANDARD
DTSTART:20251102T010000
RDATE:20260308T030000
TZOFFSETFROM:-0700
TZOFFSETTO:-0800
TZNAME:America/Tijuana PST
END:STANDARD
BEGIN:STANDARD
DTSTART:20261101T010000
RDATE:20270314T030000
TZOFFSETFROM:-0700
TZOFFSETTO:-0800
TZNAME:America/Tijuana PST
END:STANDARD
BEGIN:STANDARD
DTSTART:20271107T010000
RDATE:20280312T030000
TZOFFSETFROM:-0700
TZOFFSETTO:-0800
TZNAME:America/Tijuana PST
END:STANDARD
BEGIN:DAYLIGHT
DTSTART:20180311T030000
RDATE:20181104T010000
TZOFFSETFROM:-0800
TZOFFSETTO:-0700
TZNAME:America/Tijuana PDT
END:DAYLIGHT
BEGIN:DAYLIGHT
DTSTART:20190310T030000
RDATE:20191103T010000
TZOFFSETFROM:-0800
TZOFFSETTO:-0700
TZNAME:America/Tijuana PDT
END:DAYLIGHT
BEGIN:DAYLIGHT
DTSTART:20200308T030000
RDATE:20201101T010000
TZOFFSETFROM:-0800
TZOFFSETTO:-0700
TZNAME:America/Tijuana PDT
END:DAYLIGHT
BEGIN:DAYLIGHT
DTSTART:20210314T030000
RDATE:20211107T010000
TZOFFSETFROM:-0800
TZOFFSETTO:-0700
TZNAME:America/Tijuana PDT
END:DAYLIGHT
BEGIN:DAYLIGHT
DTSTART:20220313T030000
RDATE:20221106T010000
TZOFFSETFROM:-0800
TZOFFSETTO:-0700
TZNAME:America/Tijuana PDT
END:DAYLIGHT
BEGIN:DAYLIGHT
DTSTART:20230312T030000
RDATE:20231105T010000
TZOFFSETFROM:-0800
TZOFFSETTO:-0700
TZNAME:America/Tijuana PDT
END:DAYLIGHT
BEGIN:DAYLIGHT
DTSTART:20240310T030000
RDATE:20241103T010000
TZOFFSETFROM:-0800
TZOFFSETTO:-0700
TZNAME:America/Tijuana PDT
END:DAYLIGHT
BEGIN:DAYLIGHT
DTSTART:20250309T030000
RDATE:20251102T010000
TZOFFSETFROM:-0800
TZOFFSETTO:-0700
TZNAME:America/Tijuana PDT
END:DAYLIGHT
BEGIN:DAYLIGHT
DTSTART:20260308T030000
RDATE:20261101T010000
TZOFFSETFROM:-0800
TZOFFSETTO:-0700
TZNAME:America/Tijuana PDT
END:DAYLIGHT
BEGIN:DAYLIGHT
DTSTART:20270314T030000
RDATE:20271107T010000
TZOFFSETFROM:-0800
TZOFFSETTO:-0700
TZNAME:America/Tijuana PDT
END:DAYLIGHT
END:VTIMEZONE
BEGIN:VEVENT
UID:f055913befe4e265b72ad37697206c86
CATEGORIES:Habitat
CREATED:20180105T162323
SUMMARY:Friday Edgewood Restoration
LOCATION:Edgewood Park &amp; Natural Preserve near Redwood City\, CA
DESCRIPTION:Help restore habitat at Edgewood Park, known for fabulous wildflowers and a
 mazing diversity near Redwood City. We pull weeds so native plants have ple
 nty of room to flourish. No experience is required; sturdy gloves are recom
 mended; you might also want to bring sunscreen, water, a hat, layered cloth
 ing and wear long sleeves/pants. \nWe weed year-round every Friday at 9am.\
 nFor more information including meeting places, visit www.cnps-scv.org/ res
 toration/edgewood-park, contact Wednesday leader Ken Himes at (650) 591-856
 0 or Friday leader Paul Heiple at This email address is being protected fro
 m spambots. You need JavaScript enabled to view it.
				document.getElement
 ById('cloak1f779a167b94641381ab1338bf9fba5f').innerHTML = '';
				var prefi
 x = '&#109;a' + 'i&#108;' + '&#116;o';
				var path = 'hr' + 'ef' + '=';
		
 		var addy1f779a167b94641381ab1338bf9fba5f = 'ph&#101;&#105;pl&#101;' + '&#
 64;';
				addy1f779a167b94641381ab1338bf9fba5f = addy1f779a167b94641381ab13
 38bf9fba5f + 'gm&#97;&#105;l' + '&#46;' + 'c&#111;m';
				var addy_text1f77
 9a167b94641381ab1338bf9fba5f = 'ph&#101;&#105;pl&#101;' + '&#64;' + 'gm&#97
 ;&#105;l' + '&#46;' + 'c&#111;m';document.getElementById('cloak1f779a167b94
 641381ab1338bf9fba5f').innerHTML += '<a ' + path + '\'' + prefix + ':' + ad
 dy1f779a167b94641381ab1338bf9fba5f + '\'>'+addy_text1f779a167b94641381ab133
 8bf9fba5f+'';
		 or (650) 854-7125.\n
X-ALT-DESC;FMTTYPE=text/html:<div class="page" title="Page 5"><div class="layoutArea"><div class="column
 "><p><span style="font-size: 11pt; font-family: TimesNewRoman;">Help restor
 e habitat at Edgewood Park, known for fabulous wildflowers and amazing dive
 rsity near Redwood City. We pull weeds so native plants have plenty of room
  to flourish. No experience is required; sturdy gloves are recommended; you
  might also want to bring sunscreen, water, a hat, layered clothing and wea
 r long sleeves/pants.&nbsp;</span></p><div class="page" title="Page 4"><div
  class="layoutArea"><div class="column"><p>We weed year-round every Friday 
 at 9am.</p></div></div></div><div class="page" title="Page 4"><div class="l
 ayoutArea"><div class="column"><p>For more information including meeting pl
 aces, visit www.cnps-scv.org/ restoration/edgewood-park, contact Wednesday 
 leader Ken Himes at (650) 591-8560 or Friday leader Paul Heiple at <span id
 ="cloak1f779a167b94641381ab1338bf9fba5f">This email address is being protec
 ted from spambots. You need JavaScript enabled to view it.</span><script ty
 pe='text/javascript'>
				document.getElementById('cloak1f779a167b94641381a
 b1338bf9fba5f').innerHTML = '';
				var prefix = '&#109;a' + 'i&#108;' + '&
 #116;o';
				var path = 'hr' + 'ef' + '=';
				var addy1f779a167b94641381ab
 1338bf9fba5f = 'ph&#101;&#105;pl&#101;' + '&#64;';
				addy1f779a167b946413
 81ab1338bf9fba5f = addy1f779a167b94641381ab1338bf9fba5f + 'gm&#97;&#105;l' 
 + '&#46;' + 'c&#111;m';
				var addy_text1f779a167b94641381ab1338bf9fba5f =
  'ph&#101;&#105;pl&#101;' + '&#64;' + 'gm&#97;&#105;l' + '&#46;' + 'c&#111;
 m';document.getElementById('cloak1f779a167b94641381ab1338bf9fba5f').innerHT
 ML += '<a ' + path + '\'' + prefix + ':' + addy1f779a167b94641381ab1338bf9f
 ba5f + '\'>'+addy_text1f779a167b94641381ab1338bf9fba5f+'<\/a>';
		</script>
  or (650) 854-7125.</p></div></div></div></div></div></div>
CONTACT:Friday leader Paul Heiple at This email address is being protected from spambots. You need JavaScript enabled to view it.
				document.getElementById('cloake22583e099749c3ce8768da753e466c7').innerHTML = '';
				var prefix = '&#109;a' + 'i&#108;' + '&#116;o';
				var path = 'hr' + 'ef' + '=';
				var addye22583e099749c3ce8768da753e466c7 = 'ph&#101;&#105;pl&#101;' + '&#64;';
				addye22583e099749c3ce8768da753e466c7 = addye22583e099749c3ce8768da753e466c7 + 'gm&#97;&#105;l' + '&#46;' + 'c&#111;m';
				var addy_texte22583e099749c3ce8768da753e466c7 = 'ph&#101;&#105;pl&#101;' + '&#64;' + 'gm&#97;&#105;l' + '&#46;' + 'c&#111;m';document.getElementById('cloake22583e099749c3ce8768da753e466c7').innerHTML += '<a ' + path + '\'' + prefix + ':' + addye22583e099749c3ce8768da753e466c7 + '\'>'+addy_texte22583e099749c3ce8768da753e466c7+'';
		 or (650) 854-7125
DTSTAMP:20260423T180241
DTSTART;TZID=America/Tijuana:20181109T090000
DTEND;TZID=America/Tijuana:20181109T130000
SEQUENCE:0
TRANSP:OPAQUE
END:VEVENT
END:VCALENDAR