BEGIN:VCALENDAR
VERSION:2.0
PRODID:-//jEvents 2.0 for Joomla//EN
CALSCALE:GREGORIAN
METHOD:PUBLISH
BEGIN:VTIMEZONE
TZID:America/Tijuana
BEGIN:STANDARD
DTSTART:20181206T090000
RDATE:20190310T030000
TZOFFSETFROM:-0700
TZOFFSETTO:-0800
TZNAME:America/Tijuana PST
END:STANDARD
BEGIN:STANDARD
DTSTART:20191103T010000
RDATE:20200308T030000
TZOFFSETFROM:-0700
TZOFFSETTO:-0800
TZNAME:America/Tijuana PST
END:STANDARD
BEGIN:STANDARD
DTSTART:20201101T010000
RDATE:20210314T030000
TZOFFSETFROM:-0700
TZOFFSETTO:-0800
TZNAME:America/Tijuana PST
END:STANDARD
BEGIN:STANDARD
DTSTART:20211107T010000
RDATE:20220313T030000
TZOFFSETFROM:-0700
TZOFFSETTO:-0800
TZNAME:America/Tijuana PST
END:STANDARD
BEGIN:STANDARD
DTSTART:20221106T010000
RDATE:20230312T030000
TZOFFSETFROM:-0700
TZOFFSETTO:-0800
TZNAME:America/Tijuana PST
END:STANDARD
BEGIN:STANDARD
DTSTART:20231105T010000
RDATE:20240310T030000
TZOFFSETFROM:-0700
TZOFFSETTO:-0800
TZNAME:America/Tijuana PST
END:STANDARD
BEGIN:STANDARD
DTSTART:20241103T010000
RDATE:20250309T030000
TZOFFSETFROM:-0700
TZOFFSETTO:-0800
TZNAME:America/Tijuana PST
END:STANDARD
BEGIN:STANDARD
DTSTART:20251102T010000
RDATE:20260308T030000
TZOFFSETFROM:-0700
TZOFFSETTO:-0800
TZNAME:America/Tijuana PST
END:STANDARD
BEGIN:STANDARD
DTSTART:20261101T010000
RDATE:20270314T030000
TZOFFSETFROM:-0700
TZOFFSETTO:-0800
TZNAME:America/Tijuana PST
END:STANDARD
BEGIN:STANDARD
DTSTART:20271107T010000
RDATE:20280312T030000
TZOFFSETFROM:-0700
TZOFFSETTO:-0800
TZNAME:America/Tijuana PST
END:STANDARD
BEGIN:DAYLIGHT
DTSTART:20190310T030000
RDATE:20191103T010000
TZOFFSETFROM:-0800
TZOFFSETTO:-0700
TZNAME:America/Tijuana PDT
END:DAYLIGHT
BEGIN:DAYLIGHT
DTSTART:20200308T030000
RDATE:20201101T010000
TZOFFSETFROM:-0800
TZOFFSETTO:-0700
TZNAME:America/Tijuana PDT
END:DAYLIGHT
BEGIN:DAYLIGHT
DTSTART:20210314T030000
RDATE:20211107T010000
TZOFFSETFROM:-0800
TZOFFSETTO:-0700
TZNAME:America/Tijuana PDT
END:DAYLIGHT
BEGIN:DAYLIGHT
DTSTART:20220313T030000
RDATE:20221106T010000
TZOFFSETFROM:-0800
TZOFFSETTO:-0700
TZNAME:America/Tijuana PDT
END:DAYLIGHT
BEGIN:DAYLIGHT
DTSTART:20230312T030000
RDATE:20231105T010000
TZOFFSETFROM:-0800
TZOFFSETTO:-0700
TZNAME:America/Tijuana PDT
END:DAYLIGHT
BEGIN:DAYLIGHT
DTSTART:20240310T030000
RDATE:20241103T010000
TZOFFSETFROM:-0800
TZOFFSETTO:-0700
TZNAME:America/Tijuana PDT
END:DAYLIGHT
BEGIN:DAYLIGHT
DTSTART:20250309T030000
RDATE:20251102T010000
TZOFFSETFROM:-0800
TZOFFSETTO:-0700
TZNAME:America/Tijuana PDT
END:DAYLIGHT
BEGIN:DAYLIGHT
DTSTART:20260308T030000
RDATE:20261101T010000
TZOFFSETFROM:-0800
TZOFFSETTO:-0700
TZNAME:America/Tijuana PDT
END:DAYLIGHT
BEGIN:DAYLIGHT
DTSTART:20270314T030000
RDATE:20271107T010000
TZOFFSETFROM:-0800
TZOFFSETTO:-0700
TZNAME:America/Tijuana PDT
END:DAYLIGHT
END:VTIMEZONE
BEGIN:VEVENT
UID:983c3add794267aef347806ef804d0c8
CATEGORIES:Habitat
CREATED:20190218T075351
SUMMARY:Lake Cunningham Native Garden
LOCATION:Lake Cunningham Regional Park (San Jose)
DESCRIPTION:The California Native Garden project in Lake Cunningham Regional Park contr
 ols invasive plants in a 1.5-acre area and beautifies it with California na
 tive wildflowers, perennials, shrubs and trees. \nWorkdays take place every
  Saturday, 9am - noon. Volunteers are welcome by appointment. To sign up, v
 isit lakecunninghamnativegarden.org/volunteer. The park is located at 2305 
 S. White Road in San Jose. For directions, visit lakecunninghamnativegarden
 .org/directions. For more information, contact Arvind Kumar at This email a
 ddress is being protected from spambots. You need JavaScript enabled to vie
 w it.
				document.getElementById('cloaka3ff0903a1d169b3297a9734bbce6a59').
 innerHTML = '';
				var prefix = '&#109;a' + 'i&#108;' + '&#116;o';
				var
  path = 'hr' + 'ef' + '=';
				var addya3ff0903a1d169b3297a9734bbce6a59 = '
 chh&#97;pr&#97;h&#105;y&#97;' + '&#64;';
				addya3ff0903a1d169b3297a9734bb
 ce6a59 = addya3ff0903a1d169b3297a9734bbce6a59 + 'gm&#97;&#105;l' + '&#46;' 
 + 'c&#111;m';
				var addy_texta3ff0903a1d169b3297a9734bbce6a59 = 'chh&#97;
 pr&#97;h&#105;y&#97;' + '&#64;' + 'gm&#97;&#105;l' + '&#46;' + 'c&#111;m';d
 ocument.getElementById('cloaka3ff0903a1d169b3297a9734bbce6a59').innerHTML +
 = '<a ' + path + '\'' + prefix + ':' + addya3ff0903a1d169b3297a9734bbce6a59
  + '\'>'+addy_texta3ff0903a1d169b3297a9734bbce6a59+'';
		 or (408) 715-7020
 . \nFor more information contact Stephen Rosenthal at This email address is
  being protected from spambots. You need JavaScript enabled to view it.
			
 	document.getElementById('cloak662a1a68cf8fac29ba88c44bd2543e72').innerHTML
  = '';
				var prefix = '&#109;a' + 'i&#108;' + '&#116;o';
				var path = '
 hr' + 'ef' + '=';
				var addy662a1a68cf8fac29ba88c44bd2543e72 = 's&#97;&#1
 05;l&#105;nst&#101;v&#101;' + '&#64;';
				addy662a1a68cf8fac29ba88c44bd254
 3e72 = addy662a1a68cf8fac29ba88c44bd2543e72 + 'sbcgl&#111;b&#97;l' + '&#46;
 ' + 'n&#101;t';
				var addy_text662a1a68cf8fac29ba88c44bd2543e72 = 's&#97;
 &#105;l&#105;nst&#101;v&#101;' + '&#64;' + 'sbcgl&#111;b&#97;l' + '&#46;' +
  'n&#101;t';document.getElementById('cloak662a1a68cf8fac29ba88c44bd2543e72'
 ).innerHTML += '<a ' + path + '\'' + prefix + ':' + addy662a1a68cf8fac29ba8
 8c44bd2543e72 + '\'>'+addy_text662a1a68cf8fac29ba88c44bd2543e72+'';
		 or (
 650) 260-3450. \n
X-ALT-DESC;FMTTYPE=text/html:<div class="page" title="Page 7"><div class="layoutArea"><div class="column
 "><div class="page" title="Page 7"><div class="layoutArea"><div class="colu
 mn"><p><span style="font-size: 11pt; font-family: TimesNewRoman;">The Calif
 ornia Native Garden project in Lake Cunningham Regional Park controls invas
 ive plants in a 1.5-acre area and beautifies it with California native wild
 flowers, perennials, shrubs and trees. </span></p><p><span style="font-size
 : 11pt; font-family: TimesNewRoman;">Workdays take place every </span><span
  style="font-size: 11pt; font-family: 'TimesNewRoman,Bold';">Saturday, 9am 
 - noon</span><span style="font-size: 11pt; font-family: TimesNewRoman;">. V
 olunteers are welcome by appointment. To sign up, visit </span><span style=
 "font-size: 11pt; font-family: 'TimesNewRoman,Bold';">lakecunninghamnativeg
 arden.org/volunteer</span><span style="font-size: 11pt; font-family: TimesN
 ewRoman;">. The park is located at 2305 S. White Road in San Jose. For </sp
 an><span style="font-size: 11pt; font-family: 'TimesNewRoman,Bold';">direct
 ions</span><span style="font-size: 11pt; font-family: TimesNewRoman;">, vis
 it </span><span style="font-size: 11pt; font-family: 'TimesNewRoman,Bold';"
 >lakecunninghamnativegarden.org/directions</span><span style="font-size: 11
 pt; font-family: TimesNewRoman;">. For more information, contact Arvind Kum
 ar at <span id="cloaka3ff0903a1d169b3297a9734bbce6a59">This email address i
 s being protected from spambots. You need JavaScript enabled to view it.</s
 pan><script type='text/javascript'>
				document.getElementById('cloaka3ff0
 903a1d169b3297a9734bbce6a59').innerHTML = '';
				var prefix = '&#109;a' + 
 'i&#108;' + '&#116;o';
				var path = 'hr' + 'ef' + '=';
				var addya3ff09
 03a1d169b3297a9734bbce6a59 = 'chh&#97;pr&#97;h&#105;y&#97;' + '&#64;';
				
 addya3ff0903a1d169b3297a9734bbce6a59 = addya3ff0903a1d169b3297a9734bbce6a59
  + 'gm&#97;&#105;l' + '&#46;' + 'c&#111;m';
				var addy_texta3ff0903a1d169
 b3297a9734bbce6a59 = 'chh&#97;pr&#97;h&#105;y&#97;' + '&#64;' + 'gm&#97;&#1
 05;l' + '&#46;' + 'c&#111;m';document.getElementById('cloaka3ff0903a1d169b3
 297a9734bbce6a59').innerHTML += '<a ' + path + '\'' + prefix + ':' + addya3
 ff0903a1d169b3297a9734bbce6a59 + '\'>'+addy_texta3ff0903a1d169b3297a9734bbc
 e6a59+'<\/a>';
		</script> or (408) 715-7020. </span></p></div></div></div>
 <p><span style="font-size: 11pt; font-family: TimesNewRoman;">For more info
 rmation contact Stephen Rosenthal at <span id="cloak662a1a68cf8fac29ba88c44
 bd2543e72">This email address is being protected from spambots. You need Ja
 vaScript enabled to view it.</span><script type='text/javascript'>
				docu
 ment.getElementById('cloak662a1a68cf8fac29ba88c44bd2543e72').innerHTML = ''
 ;
				var prefix = '&#109;a' + 'i&#108;' + '&#116;o';
				var path = 'hr' +
  'ef' + '=';
				var addy662a1a68cf8fac29ba88c44bd2543e72 = 's&#97;&#105;l&
 #105;nst&#101;v&#101;' + '&#64;';
				addy662a1a68cf8fac29ba88c44bd2543e72 
 = addy662a1a68cf8fac29ba88c44bd2543e72 + 'sbcgl&#111;b&#97;l' + '&#46;' + '
 n&#101;t';
				var addy_text662a1a68cf8fac29ba88c44bd2543e72 = 's&#97;&#105
 ;l&#105;nst&#101;v&#101;' + '&#64;' + 'sbcgl&#111;b&#97;l' + '&#46;' + 'n&#
 101;t';document.getElementById('cloak662a1a68cf8fac29ba88c44bd2543e72').inn
 erHTML += '<a ' + path + '\'' + prefix + ':' + addy662a1a68cf8fac29ba88c44b
 d2543e72 + '\'>'+addy_text662a1a68cf8fac29ba88c44bd2543e72+'<\/a>';
		</scr
 ipt> or (650) 260-3450. </span></p></div></div></div>
CONTACT:Arvind Kumar at This email address is being protected from spambots. You need JavaScript enabled to view it.
				document.getElementById('cloak24ec99acd458ff75c8dd452012e1ace6').innerHTML = '';
				var prefix = '&#109;a' + 'i&#108;' + '&#116;o';
				var path = 'hr' + 'ef' + '=';
				var addy24ec99acd458ff75c8dd452012e1ace6 = 'chh&#97;pr&#97;h&#105;y&#97;' + '&#64;';
				addy24ec99acd458ff75c8dd452012e1ace6 = addy24ec99acd458ff75c8dd452012e1ace6 + 'gm&#97;&#105;l' + '&#46;' + 'c&#111;m';
				var addy_text24ec99acd458ff75c8dd452012e1ace6 = 'chh&#97;pr&#97;h&#105;y&#97;' + '&#64;' + 'gm&#97;&#105;l' + '&#46;' + 'c&#111;m';document.getElementById('cloak24ec99acd458ff75c8dd452012e1ace6').innerHTML += '<a ' + path + '\'' + prefix + ':' + addy24ec99acd458ff75c8dd452012e1ace6 + '\'>'+addy_text24ec99acd458ff75c8dd452012e1ace6+'';
		 or (408) 715-7020
DTSTAMP:20260424T032139
DTSTART;TZID=America/Tijuana:20191207T090000
DTEND;TZID=America/Tijuana:20191207T120000
SEQUENCE:0
TRANSP:OPAQUE
END:VEVENT
END:VCALENDAR