BEGIN:VCALENDAR
VERSION:2.0
PRODID:-//jEvents 2.0 for Joomla//EN
CALSCALE:GREGORIAN
METHOD:PUBLISH
BEGIN:VTIMEZONE
TZID:America/Tijuana
BEGIN:STANDARD
DTSTART:20181104T010000
RDATE:20190310T030000
TZOFFSETFROM:-0700
TZOFFSETTO:-0800
TZNAME:America/Tijuana PST
END:STANDARD
BEGIN:STANDARD
DTSTART:20191103T010000
RDATE:20200308T030000
TZOFFSETFROM:-0700
TZOFFSETTO:-0800
TZNAME:America/Tijuana PST
END:STANDARD
BEGIN:STANDARD
DTSTART:20201101T010000
RDATE:20210314T030000
TZOFFSETFROM:-0700
TZOFFSETTO:-0800
TZNAME:America/Tijuana PST
END:STANDARD
BEGIN:STANDARD
DTSTART:20211107T010000
RDATE:20220313T030000
TZOFFSETFROM:-0700
TZOFFSETTO:-0800
TZNAME:America/Tijuana PST
END:STANDARD
BEGIN:STANDARD
DTSTART:20221106T010000
RDATE:20230312T030000
TZOFFSETFROM:-0700
TZOFFSETTO:-0800
TZNAME:America/Tijuana PST
END:STANDARD
BEGIN:STANDARD
DTSTART:20231105T010000
RDATE:20240310T030000
TZOFFSETFROM:-0700
TZOFFSETTO:-0800
TZNAME:America/Tijuana PST
END:STANDARD
BEGIN:STANDARD
DTSTART:20241103T010000
RDATE:20250309T030000
TZOFFSETFROM:-0700
TZOFFSETTO:-0800
TZNAME:America/Tijuana PST
END:STANDARD
BEGIN:STANDARD
DTSTART:20251102T010000
RDATE:20260308T030000
TZOFFSETFROM:-0700
TZOFFSETTO:-0800
TZNAME:America/Tijuana PST
END:STANDARD
BEGIN:STANDARD
DTSTART:20261101T010000
RDATE:20270314T030000
TZOFFSETFROM:-0700
TZOFFSETTO:-0800
TZNAME:America/Tijuana PST
END:STANDARD
BEGIN:STANDARD
DTSTART:20271107T010000
RDATE:20280312T030000
TZOFFSETFROM:-0700
TZOFFSETTO:-0800
TZNAME:America/Tijuana PST
END:STANDARD
BEGIN:DAYLIGHT
DTSTART:20180911T190000
RDATE:20181104T010000
TZOFFSETFROM:-0800
TZOFFSETTO:-0700
TZNAME:America/Tijuana PDT
END:DAYLIGHT
BEGIN:DAYLIGHT
DTSTART:20190310T030000
RDATE:20191103T010000
TZOFFSETFROM:-0800
TZOFFSETTO:-0700
TZNAME:America/Tijuana PDT
END:DAYLIGHT
BEGIN:DAYLIGHT
DTSTART:20200308T030000
RDATE:20201101T010000
TZOFFSETFROM:-0800
TZOFFSETTO:-0700
TZNAME:America/Tijuana PDT
END:DAYLIGHT
BEGIN:DAYLIGHT
DTSTART:20210314T030000
RDATE:20211107T010000
TZOFFSETFROM:-0800
TZOFFSETTO:-0700
TZNAME:America/Tijuana PDT
END:DAYLIGHT
BEGIN:DAYLIGHT
DTSTART:20220313T030000
RDATE:20221106T010000
TZOFFSETFROM:-0800
TZOFFSETTO:-0700
TZNAME:America/Tijuana PDT
END:DAYLIGHT
BEGIN:DAYLIGHT
DTSTART:20230312T030000
RDATE:20231105T010000
TZOFFSETFROM:-0800
TZOFFSETTO:-0700
TZNAME:America/Tijuana PDT
END:DAYLIGHT
BEGIN:DAYLIGHT
DTSTART:20240310T030000
RDATE:20241103T010000
TZOFFSETFROM:-0800
TZOFFSETTO:-0700
TZNAME:America/Tijuana PDT
END:DAYLIGHT
BEGIN:DAYLIGHT
DTSTART:20250309T030000
RDATE:20251102T010000
TZOFFSETFROM:-0800
TZOFFSETTO:-0700
TZNAME:America/Tijuana PDT
END:DAYLIGHT
BEGIN:DAYLIGHT
DTSTART:20260308T030000
RDATE:20261101T010000
TZOFFSETFROM:-0800
TZOFFSETTO:-0700
TZNAME:America/Tijuana PDT
END:DAYLIGHT
BEGIN:DAYLIGHT
DTSTART:20270314T030000
RDATE:20271107T010000
TZOFFSETFROM:-0800
TZOFFSETTO:-0700
TZNAME:America/Tijuana PDT
END:DAYLIGHT
END:VTIMEZONE
BEGIN:VEVENT
UID:d81bdcc9a8effb0e3a4a1fc10844753fRR1979
CATEGORIES:Meetings
CREATED:20190807T174240
SUMMARY:CNPS SCV Board Meeting
LOCATION:Peninsula Conservation Center\, 3921 E. Bayshore Road\, Palo Alto\, CA 9430
 3
DESCRIPTION:CNPS SCV Board meetings are usually held on the second Thursday of most mon
 ths.  Meetings are held at the Peninsula Conservation Center, 3921 E. Baysh
 ore Road, Palo Alto, CA 94303\nCNPS Members are welcome to attend as observ
 ers. To add an issue to the agenda, please email This email address is bein
 g protected from spambots. You need JavaScript enabled to view it.
				docu
 ment.getElementById('cloak6f27239d9a9c44041decfef3d1cdc236').innerHTML = ''
 ;
				var prefix = '&amp;#109;a' + 'i&amp;#108;' + '&amp;#116;o';
				var p
 ath = 'hr' + 'ef' + '=';
				var addy6f27239d9a9c44041decfef3d1cdc236 = 'pr
 &amp;#101;s&amp;#105;d&amp;#101;nt' + '&amp;#64;';
				addy6f27239d9a9c4404
 1decfef3d1cdc236 = addy6f27239d9a9c44041decfef3d1cdc236 + 'cnps-scv' + '&am
 p;#46;' + '&amp;#111;rg';
				var addy_text6f27239d9a9c44041decfef3d1cdc236
  = 'pr&amp;#101;s&amp;#105;d&amp;#101;nt' + '&amp;#64;' + 'cnps-scv' + '&am
 p;#46;' + '&amp;#111;rg';document.getElementById('cloak6f27239d9a9c44041dec
 fef3d1cdc236').innerHTML += '&lt;a ' + path + '\'' + prefix + ':' + addy6f2
 7239d9a9c44041decfef3d1cdc236 + '\'&gt;'+addy_text6f27239d9a9c44041decfef3d
 1cdc236+'&lt;\/a&gt;';
		 (mailto:%20president@cnpssd.org). \nIf you are in
 terested in joining the board, please contact the Chapter President (This e
 mail address is being protected from spambots. You need JavaScript enabled 
 to view it.
				document.getElementById('cloaka337f0298faa1a613aefa927edd90
 6fb').innerHTML = '';
				var prefix = '&#109;a' + 'i&#108;' + '&#116;o';
	
 			var path = 'hr' + 'ef' + '=';
				var addya337f0298faa1a613aefa927edd906
 fb = 'pr&#101;s&#105;d&#101;nt' + '&#64;';
				addya337f0298faa1a613aefa927
 edd906fb = addya337f0298faa1a613aefa927edd906fb + 'cnps-scv' + '&#46;' + '&
 #111;rg';
				var addy_texta337f0298faa1a613aefa927edd906fb = 'pr&#101;s&#1
 05;d&#101;nt' + '&#64;' + 'cnps-scv' + '&#46;' + '&#111;rg';document.getEle
 mentById('cloaka337f0298faa1a613aefa927edd906fb').innerHTML += '<a ' + path
  + '\'' + prefix + ':' + addya337f0298faa1a613aefa927edd906fb + '\'>'+addy_
 texta337f0298faa1a613aefa927edd906fb+'';
		) or the Leadership Development 
 Committee Chair (This email address is being protected from spambots. You n
 eed JavaScript enabled to view it.
				document.getElementById('cloakeb45e4
 36954260d02eada19edc2179e9').innerHTML = '';
				var prefix = '&#109;a' + '
 i&#108;' + '&#116;o';
				var path = 'hr' + 'ef' + '=';
				var addyeb45e43
 6954260d02eada19edc2179e9 = 'st&#101;ph&#101;n' + '&#64;';
				addyeb45e436
 954260d02eada19edc2179e9 = addyeb45e436954260d02eada19edc2179e9 + 'ysc&#111
 ;tt&#105;&#101;' + '&#46;' + 'c&#111;m';
				var addy_texteb45e436954260d02
 eada19edc2179e9 = 'st&#101;ph&#101;n' + '&#64;' + 'ysc&#111;tt&#105;&#101;'
  + '&#46;' + 'c&#111;m';document.getElementById('cloakeb45e436954260d02eada
 19edc2179e9').innerHTML += '<a ' + path + '\'' + prefix + ':' + addyeb45e43
 6954260d02eada19edc2179e9 + '\'>'+addy_texteb45e436954260d02eada19edc2179e9
 +'';
		)\n
X-ALT-DESC;FMTTYPE=text/html:<p>CNPS&nbsp;SCV&nbsp;Board meetings are usually held on the second Thursda
 y of most months. &nbsp;Meetings are held at the Peninsula Conservation Cen
 ter,&nbsp;3921 E. Bayshore Road, Palo Alto, CA 94303</p><p>CNPS Members are
  welcome to attend as observers. To add an issue to the agenda, please emai
 l <a href="mailto:%20president@cnpssd.org"><span id="cloak6f27239d9a9c44041
 decfef3d1cdc236">This email address is being protected from spambots. You n
 eed JavaScript enabled to view it.</span><script type='text/javascript'>
		
 		document.getElementById('cloak6f27239d9a9c44041decfef3d1cdc236').innerHTM
 L = '';
				var prefix = '&#109;a' + 'i&#108;' + '&#116;o';
				var path = 
 'hr' + 'ef' + '=';
				var addy6f27239d9a9c44041decfef3d1cdc236 = 'pr&#101;
 s&#105;d&#101;nt' + '&#64;';
				addy6f27239d9a9c44041decfef3d1cdc236 = add
 y6f27239d9a9c44041decfef3d1cdc236 + 'cnps-scv' + '&#46;' + '&#111;rg';
				
 var addy_text6f27239d9a9c44041decfef3d1cdc236 = 'pr&#101;s&#105;d&#101;nt' 
 + '&#64;' + 'cnps-scv' + '&#46;' + '&#111;rg';document.getElementById('cloa
 k6f27239d9a9c44041decfef3d1cdc236').innerHTML += '<a ' + path + '\'' + pref
 ix + ':' + addy6f27239d9a9c44041decfef3d1cdc236 + '\'>'+addy_text6f27239d9a
 9c44041decfef3d1cdc236+'<\/a>';
		</script></a>.&nbsp;</p><p>If you are int
 erested in joining the board, please contact the Chapter President (<span i
 d="cloaka337f0298faa1a613aefa927edd906fb">This email address is being prote
 cted from spambots. You need JavaScript enabled to view it.</span><script t
 ype='text/javascript'>
				document.getElementById('cloaka337f0298faa1a613a
 efa927edd906fb').innerHTML = '';
				var prefix = '&#109;a' + 'i&#108;' + '
 &#116;o';
				var path = 'hr' + 'ef' + '=';
				var addya337f0298faa1a613ae
 fa927edd906fb = 'pr&#101;s&#105;d&#101;nt' + '&#64;';
				addya337f0298faa1
 a613aefa927edd906fb = addya337f0298faa1a613aefa927edd906fb + 'cnps-scv' + '
 &#46;' + '&#111;rg';
				var addy_texta337f0298faa1a613aefa927edd906fb = 'p
 r&#101;s&#105;d&#101;nt' + '&#64;' + 'cnps-scv' + '&#46;' + '&#111;rg';docu
 ment.getElementById('cloaka337f0298faa1a613aefa927edd906fb').innerHTML += '
 <a ' + path + '\'' + prefix + ':' + addya337f0298faa1a613aefa927edd906fb + 
 '\'>'+addy_texta337f0298faa1a613aefa927edd906fb+'<\/a>';
		</script>) or th
 e Leadership Development Committee Chair (<span id="cloakeb45e436954260d02e
 ada19edc2179e9">This email address is being protected from spambots. You ne
 ed JavaScript enabled to view it.</span><script type='text/javascript'>
			
 	document.getElementById('cloakeb45e436954260d02eada19edc2179e9').innerHTML
  = '';
				var prefix = '&#109;a' + 'i&#108;' + '&#116;o';
				var path = '
 hr' + 'ef' + '=';
				var addyeb45e436954260d02eada19edc2179e9 = 'st&#101;p
 h&#101;n' + '&#64;';
				addyeb45e436954260d02eada19edc2179e9 = addyeb45e43
 6954260d02eada19edc2179e9 + 'ysc&#111;tt&#105;&#101;' + '&#46;' + 'c&#111;m
 ';
				var addy_texteb45e436954260d02eada19edc2179e9 = 'st&#101;ph&#101;n' 
 + '&#64;' + 'ysc&#111;tt&#105;&#101;' + '&#46;' + 'c&#111;m';document.getEl
 ementById('cloakeb45e436954260d02eada19edc2179e9').innerHTML += '<a ' + pat
 h + '\'' + prefix + ':' + addyeb45e436954260d02eada19edc2179e9 + '\'>'+addy
 _texteb45e436954260d02eada19edc2179e9+'<\/a>';
		</script>)</p>
CONTACT:This email address is being protected from spambots. You need JavaScript enabled to view it.
				document.getElementById('cloakef6b1e325c7c7a815df39d92f7bcb7b9').innerHTML = '';
				var prefix = '&#109;a' + 'i&#108;' + '&#116;o';
				var path = 'hr' + 'ef' + '=';
				var addyef6b1e325c7c7a815df39d92f7bcb7b9 = 'pr&#101;s&#105;d&#101;nt' + '&#64;';
				addyef6b1e325c7c7a815df39d92f7bcb7b9 = addyef6b1e325c7c7a815df39d92f7bcb7b9 + 'cnps-scv' + '&#46;' + '&#111;rg';
				var addy_textef6b1e325c7c7a815df39d92f7bcb7b9 = 'pr&#101;s&#105;d&#101;nt' + '&#64;' + 'cnps-scv' + '&#46;' + '&#111;rg';document.getElementById('cloakef6b1e325c7c7a815df39d92f7bcb7b9').innerHTML += '<a ' + path + '\'' + prefix + ':' + addyef6b1e325c7c7a815df39d92f7bcb7b9 + '\'>'+addy_textef6b1e325c7c7a815df39d92f7bcb7b9+'';
		
X-EXTRAINFO:CNPS Members are welcome to attend as observers. 
DTSTAMP:20260422T004030
DTSTART;TZID=America/Tijuana:20190912T190000
DTEND;TZID=America/Tijuana:20190912T210000
SEQUENCE:0
TRANSP:OPAQUE
END:VEVENT
END:VCALENDAR