BEGIN:VCALENDAR
VERSION:2.0
PRODID:-//jEvents 2.0 for Joomla//EN
CALSCALE:GREGORIAN
METHOD:PUBLISH
BEGIN:VTIMEZONE
TZID:America/Tijuana
BEGIN:STANDARD
DTSTART:20191103T010000
RDATE:20200308T030000
TZOFFSETFROM:-0700
TZOFFSETTO:-0800
TZNAME:America/Tijuana PST
END:STANDARD
BEGIN:STANDARD
DTSTART:20201101T010000
RDATE:20210314T030000
TZOFFSETFROM:-0700
TZOFFSETTO:-0800
TZNAME:America/Tijuana PST
END:STANDARD
BEGIN:STANDARD
DTSTART:20211107T010000
RDATE:20220313T030000
TZOFFSETFROM:-0700
TZOFFSETTO:-0800
TZNAME:America/Tijuana PST
END:STANDARD
BEGIN:STANDARD
DTSTART:20221106T010000
RDATE:20230312T030000
TZOFFSETFROM:-0700
TZOFFSETTO:-0800
TZNAME:America/Tijuana PST
END:STANDARD
BEGIN:STANDARD
DTSTART:20231105T010000
RDATE:20240310T030000
TZOFFSETFROM:-0700
TZOFFSETTO:-0800
TZNAME:America/Tijuana PST
END:STANDARD
BEGIN:STANDARD
DTSTART:20241103T010000
RDATE:20250309T030000
TZOFFSETFROM:-0700
TZOFFSETTO:-0800
TZNAME:America/Tijuana PST
END:STANDARD
BEGIN:STANDARD
DTSTART:20251102T010000
RDATE:20260308T030000
TZOFFSETFROM:-0700
TZOFFSETTO:-0800
TZNAME:America/Tijuana PST
END:STANDARD
BEGIN:STANDARD
DTSTART:20261101T010000
RDATE:20270314T030000
TZOFFSETFROM:-0700
TZOFFSETTO:-0800
TZNAME:America/Tijuana PST
END:STANDARD
BEGIN:STANDARD
DTSTART:20271107T010000
RDATE:20280312T030000
TZOFFSETFROM:-0700
TZOFFSETTO:-0800
TZNAME:America/Tijuana PST
END:STANDARD
BEGIN:DAYLIGHT
DTSTART:20190318T110000
RDATE:20191103T010000
TZOFFSETFROM:-0800
TZOFFSETTO:-0700
TZNAME:America/Tijuana PDT
END:DAYLIGHT
BEGIN:DAYLIGHT
DTSTART:20200308T030000
RDATE:20201101T010000
TZOFFSETFROM:-0800
TZOFFSETTO:-0700
TZNAME:America/Tijuana PDT
END:DAYLIGHT
BEGIN:DAYLIGHT
DTSTART:20210314T030000
RDATE:20211107T010000
TZOFFSETFROM:-0800
TZOFFSETTO:-0700
TZNAME:America/Tijuana PDT
END:DAYLIGHT
BEGIN:DAYLIGHT
DTSTART:20220313T030000
RDATE:20221106T010000
TZOFFSETFROM:-0800
TZOFFSETTO:-0700
TZNAME:America/Tijuana PDT
END:DAYLIGHT
BEGIN:DAYLIGHT
DTSTART:20230312T030000
RDATE:20231105T010000
TZOFFSETFROM:-0800
TZOFFSETTO:-0700
TZNAME:America/Tijuana PDT
END:DAYLIGHT
BEGIN:DAYLIGHT
DTSTART:20240310T030000
RDATE:20241103T010000
TZOFFSETFROM:-0800
TZOFFSETTO:-0700
TZNAME:America/Tijuana PDT
END:DAYLIGHT
BEGIN:DAYLIGHT
DTSTART:20250309T030000
RDATE:20251102T010000
TZOFFSETFROM:-0800
TZOFFSETTO:-0700
TZNAME:America/Tijuana PDT
END:DAYLIGHT
BEGIN:DAYLIGHT
DTSTART:20260308T030000
RDATE:20261101T010000
TZOFFSETFROM:-0800
TZOFFSETTO:-0700
TZNAME:America/Tijuana PDT
END:DAYLIGHT
BEGIN:DAYLIGHT
DTSTART:20270314T030000
RDATE:20271107T010000
TZOFFSETFROM:-0800
TZOFFSETTO:-0700
TZNAME:America/Tijuana PDT
END:DAYLIGHT
END:VTIMEZONE
BEGIN:VEVENT
UID:f21060f420c77757873fe883983cbdb7
CATEGORIES:Nursery
CREATED:20180105T131552
SUMMARY:Nursery Workday
LOCATION:CNPS SCV Nursery at Hidden Villa on Moody Road west of Foothill College.  2
 6870 Moody Road in Los Altos\, CA
DESCRIPTION:<h3>Native Plant Nursery Propagation Workdays</h3><p>Come help propagate pl
 ants for our next plant sale by volunteering at one of our nursery work ses
 sions, every <strong>Wednesday </strong>.&nbsp; Bring a sunhat, liquids and
  your lunch if you like. &nbsp;Other tools will be provided at the nursery.
 &nbsp; Knowledge of plants is not necessary; your willingness to help is al
 l that's required.</p><p>Free parking for nursery volunteers in the Dana Ce
 nter Parking Lot next to the Gatehouse.</p><p>For more information, contact
 &nbsp;Vivian Neou at <span id="cloakc0c393388ee8c9da207548327382097a">This 
 email address is being protected from spambots. You need JavaScript enabled
  to view it.</span><script type='text/javascript'>
				document.getElementB
 yId('cloakc0c393388ee8c9da207548327382097a').innerHTML = '';
				var prefix
  = '&#109;a' + 'i&#108;' + '&#116;o';
				var path = 'hr' + 'ef' + '=';
			
 	var addyc0c393388ee8c9da207548327382097a = 't&#101;chch&#97;&#105;r' + '&#
 64;';
				addyc0c393388ee8c9da207548327382097a = addyc0c393388ee8c9da207548
 327382097a + 'cnps-scv' + '&#46;' + '&#111;rg';
				var addy_textc0c393388e
 e8c9da207548327382097a = 't&#101;chch&#97;&#105;r' + '&#64;' + 'cnps-scv' +
  '&#46;' + '&#111;rg';document.getElementById('cloakc0c393388ee8c9da2075483
 27382097a').innerHTML += '<a ' + path + '\'' + prefix + ':' + addyc0c393388
 ee8c9da207548327382097a + '\'>'+addy_textc0c393388ee8c9da207548327382097a+'
 <\/a>';
		</script>.</p>
CONTACT:Vivian Neou at This email address is being protected from spambots. You need JavaScript enabled to view it.
				document.getElementById('cloak6eabb8345947e61b94cda5d353a42c3b').innerHTML = '';
				var prefix = '&#109;a' + 'i&#108;' + '&#116;o';
				var path = 'hr' + 'ef' + '=';
				var addy6eabb8345947e61b94cda5d353a42c3b = 't&#101;chch&#97;&#105;r' + '&#64;';
				addy6eabb8345947e61b94cda5d353a42c3b = addy6eabb8345947e61b94cda5d353a42c3b + 'cnps-scv' + '&#46;' + '&#111;rg';
				var addy_text6eabb8345947e61b94cda5d353a42c3b = 't&#101;chch&#97;&#105;r' + '&#64;' + 'cnps-scv' + '&#46;' + '&#111;rg';document.getElementById('cloak6eabb8345947e61b94cda5d353a42c3b').innerHTML += '<a ' + path + '\'' + prefix + ':' + addy6eabb8345947e61b94cda5d353a42c3b + '\'>'+addy_text6eabb8345947e61b94cda5d353a42c3b+'';
		 or (650) 260-3450
X-EXTRAINFO:Hidden Villa is located on Moody Road west of Foothill College.  From Hwy. 
 280 in Los Altos Hills, take the Moody Road exit and head west.  Two miles 
 west of Foothill College, look for the Hidden Villa sign and driveway on th
 e left.  Proceed over the bridge and park in the Dana Center parking lot to
  your right.  Do not park in front of the Dana Center. The Nursery is just 
 beyond the Dana Center.
DTSTAMP:20260422T014600
DTSTART;TZID=America/Tijuana:20200318T110000
DTEND;TZID=America/Tijuana:20200318T140000
SEQUENCE:0
TRANSP:OPAQUE
END:VEVENT
END:VCALENDAR