BEGIN:VCALENDAR
VERSION:2.0
PRODID:-//jEvents 2.0 for Joomla//EN
CALSCALE:GREGORIAN
METHOD:PUBLISH
BEGIN:VTIMEZONE
TZID:America/Tijuana
BEGIN:STANDARD
DTSTART:20180110T090000
RDATE:20180311T030000
TZOFFSETFROM:-0700
TZOFFSETTO:-0800
TZNAME:America/Tijuana PST
END:STANDARD
BEGIN:STANDARD
DTSTART:20181104T010000
RDATE:20190310T030000
TZOFFSETFROM:-0700
TZOFFSETTO:-0800
TZNAME:America/Tijuana PST
END:STANDARD
BEGIN:STANDARD
DTSTART:20191103T010000
RDATE:20200308T030000
TZOFFSETFROM:-0700
TZOFFSETTO:-0800
TZNAME:America/Tijuana PST
END:STANDARD
BEGIN:STANDARD
DTSTART:20201101T010000
RDATE:20210314T030000
TZOFFSETFROM:-0700
TZOFFSETTO:-0800
TZNAME:America/Tijuana PST
END:STANDARD
BEGIN:STANDARD
DTSTART:20211107T010000
RDATE:20220313T030000
TZOFFSETFROM:-0700
TZOFFSETTO:-0800
TZNAME:America/Tijuana PST
END:STANDARD
BEGIN:STANDARD
DTSTART:20221106T010000
RDATE:20230312T030000
TZOFFSETFROM:-0700
TZOFFSETTO:-0800
TZNAME:America/Tijuana PST
END:STANDARD
BEGIN:STANDARD
DTSTART:20231105T010000
RDATE:20240310T030000
TZOFFSETFROM:-0700
TZOFFSETTO:-0800
TZNAME:America/Tijuana PST
END:STANDARD
BEGIN:STANDARD
DTSTART:20241103T010000
RDATE:20250309T030000
TZOFFSETFROM:-0700
TZOFFSETTO:-0800
TZNAME:America/Tijuana PST
END:STANDARD
BEGIN:STANDARD
DTSTART:20251102T010000
RDATE:20260308T030000
TZOFFSETFROM:-0700
TZOFFSETTO:-0800
TZNAME:America/Tijuana PST
END:STANDARD
BEGIN:STANDARD
DTSTART:20261101T010000
RDATE:20270314T030000
TZOFFSETFROM:-0700
TZOFFSETTO:-0800
TZNAME:America/Tijuana PST
END:STANDARD
BEGIN:STANDARD
DTSTART:20271107T010000
RDATE:20280312T030000
TZOFFSETFROM:-0700
TZOFFSETTO:-0800
TZNAME:America/Tijuana PST
END:STANDARD
BEGIN:DAYLIGHT
DTSTART:20180311T030000
RDATE:20181104T010000
TZOFFSETFROM:-0800
TZOFFSETTO:-0700
TZNAME:America/Tijuana PDT
END:DAYLIGHT
BEGIN:DAYLIGHT
DTSTART:20190310T030000
RDATE:20191103T010000
TZOFFSETFROM:-0800
TZOFFSETTO:-0700
TZNAME:America/Tijuana PDT
END:DAYLIGHT
BEGIN:DAYLIGHT
DTSTART:20200308T030000
RDATE:20201101T010000
TZOFFSETFROM:-0800
TZOFFSETTO:-0700
TZNAME:America/Tijuana PDT
END:DAYLIGHT
BEGIN:DAYLIGHT
DTSTART:20210314T030000
RDATE:20211107T010000
TZOFFSETFROM:-0800
TZOFFSETTO:-0700
TZNAME:America/Tijuana PDT
END:DAYLIGHT
BEGIN:DAYLIGHT
DTSTART:20220313T030000
RDATE:20221106T010000
TZOFFSETFROM:-0800
TZOFFSETTO:-0700
TZNAME:America/Tijuana PDT
END:DAYLIGHT
BEGIN:DAYLIGHT
DTSTART:20230312T030000
RDATE:20231105T010000
TZOFFSETFROM:-0800
TZOFFSETTO:-0700
TZNAME:America/Tijuana PDT
END:DAYLIGHT
BEGIN:DAYLIGHT
DTSTART:20240310T030000
RDATE:20241103T010000
TZOFFSETFROM:-0800
TZOFFSETTO:-0700
TZNAME:America/Tijuana PDT
END:DAYLIGHT
BEGIN:DAYLIGHT
DTSTART:20250309T030000
RDATE:20251102T010000
TZOFFSETFROM:-0800
TZOFFSETTO:-0700
TZNAME:America/Tijuana PDT
END:DAYLIGHT
BEGIN:DAYLIGHT
DTSTART:20260308T030000
RDATE:20261101T010000
TZOFFSETFROM:-0800
TZOFFSETTO:-0700
TZNAME:America/Tijuana PDT
END:DAYLIGHT
BEGIN:DAYLIGHT
DTSTART:20270314T030000
RDATE:20271107T010000
TZOFFSETFROM:-0800
TZOFFSETTO:-0700
TZNAME:America/Tijuana PDT
END:DAYLIGHT
END:VTIMEZONE
BEGIN:VEVENT
UID:f055913befe4e265b72ad37697206c86
CATEGORIES:Habitat
CREATED:20180105T162323
SUMMARY:Friday Edgewood Restoration
LOCATION:Edgewood Park &amp; Natural Preserve near Redwood City\, CA
DESCRIPTION:Help restore habitat at Edgewood Park, known for fabulous wildflowers and a
 mazing diversity near Redwood City. We pull weeds so native plants have ple
 nty of room to flourish. No experience is required; sturdy gloves are recom
 mended; you might also want to bring sunscreen, water, a hat, layered cloth
 ing and wear long sleeves/pants. \nWe weed year-round every Friday at 9am.\
 nFor more information including meeting places, visit www.cnps-scv.org/ res
 toration/edgewood-park, contact Wednesday leader Ken Himes at (650) 591-856
 0 or Friday leader Paul Heiple at This email address is being protected fro
 m spambots. You need JavaScript enabled to view it.
				document.getElement
 ById('cloakf2ade16217d8f5a99f6f75398913470b').innerHTML = '';
				var prefi
 x = '&#109;a' + 'i&#108;' + '&#116;o';
				var path = 'hr' + 'ef' + '=';
		
 		var addyf2ade16217d8f5a99f6f75398913470b = 'ph&#101;&#105;pl&#101;' + '&#
 64;';
				addyf2ade16217d8f5a99f6f75398913470b = addyf2ade16217d8f5a99f6f75
 398913470b + 'gm&#97;&#105;l' + '&#46;' + 'c&#111;m';
				var addy_textf2ad
 e16217d8f5a99f6f75398913470b = 'ph&#101;&#105;pl&#101;' + '&#64;' + 'gm&#97
 ;&#105;l' + '&#46;' + 'c&#111;m';document.getElementById('cloakf2ade16217d8
 f5a99f6f75398913470b').innerHTML += '<a ' + path + '\'' + prefix + ':' + ad
 dyf2ade16217d8f5a99f6f75398913470b + '\'>'+addy_textf2ade16217d8f5a99f6f753
 98913470b+'';
		 or (650) 854-7125.\n
X-ALT-DESC;FMTTYPE=text/html:<div class="page" title="Page 5"><div class="layoutArea"><div class="column
 "><p><span style="font-size: 11pt; font-family: TimesNewRoman;">Help restor
 e habitat at Edgewood Park, known for fabulous wildflowers and amazing dive
 rsity near Redwood City. We pull weeds so native plants have plenty of room
  to flourish. No experience is required; sturdy gloves are recommended; you
  might also want to bring sunscreen, water, a hat, layered clothing and wea
 r long sleeves/pants.&nbsp;</span></p><div class="page" title="Page 4"><div
  class="layoutArea"><div class="column"><p>We weed year-round every Friday 
 at 9am.</p></div></div></div><div class="page" title="Page 4"><div class="l
 ayoutArea"><div class="column"><p>For more information including meeting pl
 aces, visit www.cnps-scv.org/ restoration/edgewood-park, contact Wednesday 
 leader Ken Himes at (650) 591-8560 or Friday leader Paul Heiple at <span id
 ="cloakf2ade16217d8f5a99f6f75398913470b">This email address is being protec
 ted from spambots. You need JavaScript enabled to view it.</span><script ty
 pe='text/javascript'>
				document.getElementById('cloakf2ade16217d8f5a99f6
 f75398913470b').innerHTML = '';
				var prefix = '&#109;a' + 'i&#108;' + '&
 #116;o';
				var path = 'hr' + 'ef' + '=';
				var addyf2ade16217d8f5a99f6f
 75398913470b = 'ph&#101;&#105;pl&#101;' + '&#64;';
				addyf2ade16217d8f5a9
 9f6f75398913470b = addyf2ade16217d8f5a99f6f75398913470b + 'gm&#97;&#105;l' 
 + '&#46;' + 'c&#111;m';
				var addy_textf2ade16217d8f5a99f6f75398913470b =
  'ph&#101;&#105;pl&#101;' + '&#64;' + 'gm&#97;&#105;l' + '&#46;' + 'c&#111;
 m';document.getElementById('cloakf2ade16217d8f5a99f6f75398913470b').innerHT
 ML += '<a ' + path + '\'' + prefix + ':' + addyf2ade16217d8f5a99f6f75398913
 470b + '\'>'+addy_textf2ade16217d8f5a99f6f75398913470b+'<\/a>';
		</script>
  or (650) 854-7125.</p></div></div></div></div></div></div>
CONTACT:Friday leader Paul Heiple at This email address is being protected from spambots. You need JavaScript enabled to view it.
				document.getElementById('cloakc452ed185fe276094bf2039c9e92010b').innerHTML = '';
				var prefix = '&#109;a' + 'i&#108;' + '&#116;o';
				var path = 'hr' + 'ef' + '=';
				var addyc452ed185fe276094bf2039c9e92010b = 'ph&#101;&#105;pl&#101;' + '&#64;';
				addyc452ed185fe276094bf2039c9e92010b = addyc452ed185fe276094bf2039c9e92010b + 'gm&#97;&#105;l' + '&#46;' + 'c&#111;m';
				var addy_textc452ed185fe276094bf2039c9e92010b = 'ph&#101;&#105;pl&#101;' + '&#64;' + 'gm&#97;&#105;l' + '&#46;' + 'c&#111;m';document.getElementById('cloakc452ed185fe276094bf2039c9e92010b').innerHTML += '<a ' + path + '\'' + prefix + ':' + addyc452ed185fe276094bf2039c9e92010b + '\'>'+addy_textc452ed185fe276094bf2039c9e92010b+'';
		 or (650) 854-7125
DTSTAMP:20260423T173930
DTSTART;TZID=America/Tijuana:20190111T090000
DTEND;TZID=America/Tijuana:20190111T130000
SEQUENCE:0
TRANSP:OPAQUE
END:VEVENT
END:VCALENDAR