BEGIN:VCALENDAR
VERSION:2.0
PRODID:-//jEvents 2.0 for Joomla//EN
CALSCALE:GREGORIAN
METHOD:PUBLISH
BEGIN:VTIMEZONE
TZID:America/Tijuana
BEGIN:STANDARD
DTSTART:20190228T090000
RDATE:20190310T030000
TZOFFSETFROM:-0700
TZOFFSETTO:-0800
TZNAME:America/Tijuana PST
END:STANDARD
BEGIN:STANDARD
DTSTART:20191103T010000
RDATE:20200308T030000
TZOFFSETFROM:-0700
TZOFFSETTO:-0800
TZNAME:America/Tijuana PST
END:STANDARD
BEGIN:STANDARD
DTSTART:20201101T010000
RDATE:20210314T030000
TZOFFSETFROM:-0700
TZOFFSETTO:-0800
TZNAME:America/Tijuana PST
END:STANDARD
BEGIN:STANDARD
DTSTART:20211107T010000
RDATE:20220313T030000
TZOFFSETFROM:-0700
TZOFFSETTO:-0800
TZNAME:America/Tijuana PST
END:STANDARD
BEGIN:STANDARD
DTSTART:20221106T010000
RDATE:20230312T030000
TZOFFSETFROM:-0700
TZOFFSETTO:-0800
TZNAME:America/Tijuana PST
END:STANDARD
BEGIN:STANDARD
DTSTART:20231105T010000
RDATE:20240310T030000
TZOFFSETFROM:-0700
TZOFFSETTO:-0800
TZNAME:America/Tijuana PST
END:STANDARD
BEGIN:STANDARD
DTSTART:20241103T010000
RDATE:20250309T030000
TZOFFSETFROM:-0700
TZOFFSETTO:-0800
TZNAME:America/Tijuana PST
END:STANDARD
BEGIN:STANDARD
DTSTART:20251102T010000
RDATE:20260308T030000
TZOFFSETFROM:-0700
TZOFFSETTO:-0800
TZNAME:America/Tijuana PST
END:STANDARD
BEGIN:STANDARD
DTSTART:20261101T010000
RDATE:20270314T030000
TZOFFSETFROM:-0700
TZOFFSETTO:-0800
TZNAME:America/Tijuana PST
END:STANDARD
BEGIN:STANDARD
DTSTART:20271107T010000
RDATE:20280312T030000
TZOFFSETFROM:-0700
TZOFFSETTO:-0800
TZNAME:America/Tijuana PST
END:STANDARD
BEGIN:DAYLIGHT
DTSTART:20190310T030000
RDATE:20191103T010000
TZOFFSETFROM:-0800
TZOFFSETTO:-0700
TZNAME:America/Tijuana PDT
END:DAYLIGHT
BEGIN:DAYLIGHT
DTSTART:20200308T030000
RDATE:20201101T010000
TZOFFSETFROM:-0800
TZOFFSETTO:-0700
TZNAME:America/Tijuana PDT
END:DAYLIGHT
BEGIN:DAYLIGHT
DTSTART:20210314T030000
RDATE:20211107T010000
TZOFFSETFROM:-0800
TZOFFSETTO:-0700
TZNAME:America/Tijuana PDT
END:DAYLIGHT
BEGIN:DAYLIGHT
DTSTART:20220313T030000
RDATE:20221106T010000
TZOFFSETFROM:-0800
TZOFFSETTO:-0700
TZNAME:America/Tijuana PDT
END:DAYLIGHT
BEGIN:DAYLIGHT
DTSTART:20230312T030000
RDATE:20231105T010000
TZOFFSETFROM:-0800
TZOFFSETTO:-0700
TZNAME:America/Tijuana PDT
END:DAYLIGHT
BEGIN:DAYLIGHT
DTSTART:20240310T030000
RDATE:20241103T010000
TZOFFSETFROM:-0800
TZOFFSETTO:-0700
TZNAME:America/Tijuana PDT
END:DAYLIGHT
BEGIN:DAYLIGHT
DTSTART:20250309T030000
RDATE:20251102T010000
TZOFFSETFROM:-0800
TZOFFSETTO:-0700
TZNAME:America/Tijuana PDT
END:DAYLIGHT
BEGIN:DAYLIGHT
DTSTART:20260308T030000
RDATE:20261101T010000
TZOFFSETFROM:-0800
TZOFFSETTO:-0700
TZNAME:America/Tijuana PDT
END:DAYLIGHT
BEGIN:DAYLIGHT
DTSTART:20270314T030000
RDATE:20271107T010000
TZOFFSETFROM:-0800
TZOFFSETTO:-0700
TZNAME:America/Tijuana PDT
END:DAYLIGHT
END:VTIMEZONE
BEGIN:VEVENT
UID:bc1655c0d82820e1cb3f1f71a5ccf012
CATEGORIES:Habitat
CREATED:20200217T193922
SUMMARY:Lake Cunningham Native Garden
LOCATION:Lake Cunningham Regional Park\, San Jose
DESCRIPTION:The California Native Garden project in Lake Cunningham Regional Park contr
 ols invasive plants in a 1.5-acre area and beautifies it with California na
 tive wildflowers, perennials, shrubs and trees.\nLake Cunningham Native Gar
 den workdays take place every Saturday, 9am - noon. Volunteers are invited 
 to sign up at lakecunninghamnativegarden.org/volunteer. The park is located
  at 2305 S. White Road in San Jose. For more information, contact Arvind Ku
 mar at This email address is being protected from spambots. You need JavaSc
 ript enabled to view it.
				document.getElementById('cloak1045ee9c840dd1f5
 a0f58012be712861').innerHTML = '';
				var prefix = '&#109;a' + 'i&#108;' +
  '&#116;o';
				var path = 'hr' + 'ef' + '=';
				var addy1045ee9c840dd1f5a
 0f58012be712861 = 'chh&#97;pr&#97;h&#105;y&#97;' + '&#64;';
				addy1045ee9
 c840dd1f5a0f58012be712861 = addy1045ee9c840dd1f5a0f58012be712861 + 'y&#97;h
 &#111;&#111;' + '&#46;' + 'c&#111;m';
				var addy_text1045ee9c840dd1f5a0f5
 8012be712861 = 'chh&#97;pr&#97;h&#105;y&#97;' + '&#64;' + 'y&#97;h&#111;&#1
 11;' + '&#46;' + 'c&#111;m';document.getElementById('cloak1045ee9c840dd1f5a
 0f58012be712861').innerHTML += '<a ' + path + '\'' + prefix + ':' + addy104
 5ee9c840dd1f5a0f58012be712861 + '\'>'+addy_text1045ee9c840dd1f5a0f58012be71
 2861+'';
		.\n
X-ALT-DESC;FMTTYPE=text/html:<div class="page" title="Page 5"><div class="layoutArea"><div class="column
 "><p>The California Native Garden project in Lake Cunningham Regional Park 
 controls invasive plants in a 1.5-acre area and beautifies it with Californ
 ia native wildflowers, perennials, shrubs and trees.</p><p>Lake Cunningham 
 Native Garden workdays take place every Saturday, 9am - noon. Volunteers ar
 e invited to sign up at lakecunninghamnativegarden.org/volunteer. The park 
 is located at 2305 S. White Road in San Jose. For more information, contact
  Arvind Kumar at <span id="cloak1045ee9c840dd1f5a0f58012be712861">This emai
 l address is being protected from spambots. You need JavaScript enabled to 
 view it.</span><script type='text/javascript'>
				document.getElementById(
 'cloak1045ee9c840dd1f5a0f58012be712861').innerHTML = '';
				var prefix = '
 &#109;a' + 'i&#108;' + '&#116;o';
				var path = 'hr' + 'ef' + '=';
				var
  addy1045ee9c840dd1f5a0f58012be712861 = 'chh&#97;pr&#97;h&#105;y&#97;' + '&
 #64;';
				addy1045ee9c840dd1f5a0f58012be712861 = addy1045ee9c840dd1f5a0f58
 012be712861 + 'y&#97;h&#111;&#111;' + '&#46;' + 'c&#111;m';
				var addy_te
 xt1045ee9c840dd1f5a0f58012be712861 = 'chh&#97;pr&#97;h&#105;y&#97;' + '&#64
 ;' + 'y&#97;h&#111;&#111;' + '&#46;' + 'c&#111;m';document.getElementById('
 cloak1045ee9c840dd1f5a0f58012be712861').innerHTML += '<a ' + path + '\'' + 
 prefix + ':' + addy1045ee9c840dd1f5a0f58012be712861 + '\'>'+addy_text1045ee
 9c840dd1f5a0f58012be712861+'<\/a>';
		</script>.</p></div></div></div>
CONTACT:Arvind Kumar at This email address is being protected from spambots. You need JavaScript enabled to view it.
				document.getElementById('cloak046cf5b0a71862bd67fa7763ac13b870').innerHTML = '';
				var prefix = '&#109;a' + 'i&#108;' + '&#116;o';
				var path = 'hr' + 'ef' + '=';
				var addy046cf5b0a71862bd67fa7763ac13b870 = 'chh&#97;pr&#97;h&#105;y&#97;' + '&#64;';
				addy046cf5b0a71862bd67fa7763ac13b870 = addy046cf5b0a71862bd67fa7763ac13b870 + 'y&#97;h&#111;&#111;' + '&#46;' + 'c&#111;m';
				var addy_text046cf5b0a71862bd67fa7763ac13b870 = 'chh&#97;pr&#97;h&#105;y&#97;' + '&#64;' + 'y&#97;h&#111;&#111;' + '&#46;' + 'c&#111;m';document.getElementById('cloak046cf5b0a71862bd67fa7763ac13b870').innerHTML += '<a ' + path + '\'' + prefix + ':' + addy046cf5b0a71862bd67fa7763ac13b870 + '\'>'+addy_text046cf5b0a71862bd67fa7763ac13b870+'';
		
DTSTAMP:20260422T211040
DTSTART;TZID=America/Tijuana:20200229T090000
DTEND;TZID=America/Tijuana:20200229T120000
SEQUENCE:0
TRANSP:OPAQUE
END:VEVENT
END:VCALENDAR