BEGIN:VCALENDAR
VERSION:2.0
PRODID:-//jEvents 2.0 for Joomla//EN
CALSCALE:GREGORIAN
METHOD:PUBLISH
BEGIN:VTIMEZONE
TZID:America/Tijuana
BEGIN:STANDARD
DTSTART:20191103T010000
RDATE:20200308T030000
TZOFFSETFROM:-0700
TZOFFSETTO:-0800
TZNAME:America/Tijuana PST
END:STANDARD
BEGIN:STANDARD
DTSTART:20201101T010000
RDATE:20210314T030000
TZOFFSETFROM:-0700
TZOFFSETTO:-0800
TZNAME:America/Tijuana PST
END:STANDARD
BEGIN:STANDARD
DTSTART:20211107T010000
RDATE:20220313T030000
TZOFFSETFROM:-0700
TZOFFSETTO:-0800
TZNAME:America/Tijuana PST
END:STANDARD
BEGIN:STANDARD
DTSTART:20221106T010000
RDATE:20230312T030000
TZOFFSETFROM:-0700
TZOFFSETTO:-0800
TZNAME:America/Tijuana PST
END:STANDARD
BEGIN:STANDARD
DTSTART:20231105T010000
RDATE:20240310T030000
TZOFFSETFROM:-0700
TZOFFSETTO:-0800
TZNAME:America/Tijuana PST
END:STANDARD
BEGIN:STANDARD
DTSTART:20241103T010000
RDATE:20250309T030000
TZOFFSETFROM:-0700
TZOFFSETTO:-0800
TZNAME:America/Tijuana PST
END:STANDARD
BEGIN:STANDARD
DTSTART:20251102T010000
RDATE:20260308T030000
TZOFFSETFROM:-0700
TZOFFSETTO:-0800
TZNAME:America/Tijuana PST
END:STANDARD
BEGIN:STANDARD
DTSTART:20261101T010000
RDATE:20270314T030000
TZOFFSETFROM:-0700
TZOFFSETTO:-0800
TZNAME:America/Tijuana PST
END:STANDARD
BEGIN:STANDARD
DTSTART:20271107T010000
RDATE:20280312T030000
TZOFFSETFROM:-0700
TZOFFSETTO:-0800
TZNAME:America/Tijuana PST
END:STANDARD
BEGIN:DAYLIGHT
DTSTART:20190919T090000
RDATE:20191103T010000
TZOFFSETFROM:-0800
TZOFFSETTO:-0700
TZNAME:America/Tijuana PDT
END:DAYLIGHT
BEGIN:DAYLIGHT
DTSTART:20200308T030000
RDATE:20201101T010000
TZOFFSETFROM:-0800
TZOFFSETTO:-0700
TZNAME:America/Tijuana PDT
END:DAYLIGHT
BEGIN:DAYLIGHT
DTSTART:20210314T030000
RDATE:20211107T010000
TZOFFSETFROM:-0800
TZOFFSETTO:-0700
TZNAME:America/Tijuana PDT
END:DAYLIGHT
BEGIN:DAYLIGHT
DTSTART:20220313T030000
RDATE:20221106T010000
TZOFFSETFROM:-0800
TZOFFSETTO:-0700
TZNAME:America/Tijuana PDT
END:DAYLIGHT
BEGIN:DAYLIGHT
DTSTART:20230312T030000
RDATE:20231105T010000
TZOFFSETFROM:-0800
TZOFFSETTO:-0700
TZNAME:America/Tijuana PDT
END:DAYLIGHT
BEGIN:DAYLIGHT
DTSTART:20240310T030000
RDATE:20241103T010000
TZOFFSETFROM:-0800
TZOFFSETTO:-0700
TZNAME:America/Tijuana PDT
END:DAYLIGHT
BEGIN:DAYLIGHT
DTSTART:20250309T030000
RDATE:20251102T010000
TZOFFSETFROM:-0800
TZOFFSETTO:-0700
TZNAME:America/Tijuana PDT
END:DAYLIGHT
BEGIN:DAYLIGHT
DTSTART:20260308T030000
RDATE:20261101T010000
TZOFFSETFROM:-0800
TZOFFSETTO:-0700
TZNAME:America/Tijuana PDT
END:DAYLIGHT
BEGIN:DAYLIGHT
DTSTART:20270314T030000
RDATE:20271107T010000
TZOFFSETFROM:-0800
TZOFFSETTO:-0700
TZNAME:America/Tijuana PDT
END:DAYLIGHT
END:VTIMEZONE
BEGIN:VEVENT
UID:bc1655c0d82820e1cb3f1f71a5ccf012
CATEGORIES:Habitat
CREATED:20200217T193922
SUMMARY:Lake Cunningham Native Garden
LOCATION:Lake Cunningham Regional Park\, San Jose
DESCRIPTION:<div class="page" title="Page 5"><div class="layoutArea"><div class="column
 "><p>The California Native Garden project in Lake Cunningham Regional Park 
 controls invasive plants in a 1.5-acre area and beautifies it with Californ
 ia native wildflowers, perennials, shrubs and trees.</p><p>Lake Cunningham 
 Native Garden workdays take place every Saturday, 9am - noon. Volunteers ar
 e invited to sign up at lakecunninghamnativegarden.org/volunteer. The park 
 is located at 2305 S. White Road in San Jose. For more information, contact
  Arvind Kumar at <span id="cloak000403dd5436271798faafe7904585fe">This emai
 l address is being protected from spambots. You need JavaScript enabled to 
 view it.</span><script type='text/javascript'>
				document.getElementById(
 'cloak000403dd5436271798faafe7904585fe').innerHTML = '';
				var prefix = '
 &#109;a' + 'i&#108;' + '&#116;o';
				var path = 'hr' + 'ef' + '=';
				var
  addy000403dd5436271798faafe7904585fe = 'chh&#97;pr&#97;h&#105;y&#97;' + '&
 #64;';
				addy000403dd5436271798faafe7904585fe = addy000403dd5436271798faa
 fe7904585fe + 'y&#97;h&#111;&#111;' + '&#46;' + 'c&#111;m';
				var addy_te
 xt000403dd5436271798faafe7904585fe = 'chh&#97;pr&#97;h&#105;y&#97;' + '&#64
 ;' + 'y&#97;h&#111;&#111;' + '&#46;' + 'c&#111;m';document.getElementById('
 cloak000403dd5436271798faafe7904585fe').innerHTML += '<a ' + path + '\'' + 
 prefix + ':' + addy000403dd5436271798faafe7904585fe + '\'>'+addy_text000403
 dd5436271798faafe7904585fe+'<\/a>';
		</script>.</p></div></div></div>
CONTACT:Arvind Kumar at This email address is being protected from spambots. You need JavaScript enabled to view it.
				document.getElementById('cloakb64e4df4b2eda3c20d80b77aa9594b45').innerHTML = '';
				var prefix = '&#109;a' + 'i&#108;' + '&#116;o';
				var path = 'hr' + 'ef' + '=';
				var addyb64e4df4b2eda3c20d80b77aa9594b45 = 'chh&#97;pr&#97;h&#105;y&#97;' + '&#64;';
				addyb64e4df4b2eda3c20d80b77aa9594b45 = addyb64e4df4b2eda3c20d80b77aa9594b45 + 'y&#97;h&#111;&#111;' + '&#46;' + 'c&#111;m';
				var addy_textb64e4df4b2eda3c20d80b77aa9594b45 = 'chh&#97;pr&#97;h&#105;y&#97;' + '&#64;' + 'y&#97;h&#111;&#111;' + '&#46;' + 'c&#111;m';document.getElementById('cloakb64e4df4b2eda3c20d80b77aa9594b45').innerHTML += '<a ' + path + '\'' + prefix + ':' + addyb64e4df4b2eda3c20d80b77aa9594b45 + '\'>'+addy_textb64e4df4b2eda3c20d80b77aa9594b45+'';
		
DTSTAMP:20260422T163730
DTSTART;TZID=America/Tijuana:20200919T090000
DTEND;TZID=America/Tijuana:20200919T120000
SEQUENCE:0
TRANSP:OPAQUE
END:VEVENT
END:VCALENDAR