BEGIN:VCALENDAR
VERSION:2.0
PRODID:-//jEvents 2.0 for Joomla//EN
CALSCALE:GREGORIAN
METHOD:PUBLISH
BEGIN:VTIMEZONE
TZID:America/Tijuana
BEGIN:STANDARD
DTSTART:20191103T010000
RDATE:20200308T030000
TZOFFSETFROM:-0700
TZOFFSETTO:-0800
TZNAME:America/Tijuana PST
END:STANDARD
BEGIN:STANDARD
DTSTART:20201101T010000
RDATE:20210314T030000
TZOFFSETFROM:-0700
TZOFFSETTO:-0800
TZNAME:America/Tijuana PST
END:STANDARD
BEGIN:STANDARD
DTSTART:20211107T010000
RDATE:20220313T030000
TZOFFSETFROM:-0700
TZOFFSETTO:-0800
TZNAME:America/Tijuana PST
END:STANDARD
BEGIN:STANDARD
DTSTART:20221106T010000
RDATE:20230312T030000
TZOFFSETFROM:-0700
TZOFFSETTO:-0800
TZNAME:America/Tijuana PST
END:STANDARD
BEGIN:STANDARD
DTSTART:20231105T010000
RDATE:20240310T030000
TZOFFSETFROM:-0700
TZOFFSETTO:-0800
TZNAME:America/Tijuana PST
END:STANDARD
BEGIN:STANDARD
DTSTART:20241103T010000
RDATE:20250309T030000
TZOFFSETFROM:-0700
TZOFFSETTO:-0800
TZNAME:America/Tijuana PST
END:STANDARD
BEGIN:STANDARD
DTSTART:20251102T010000
RDATE:20260308T030000
TZOFFSETFROM:-0700
TZOFFSETTO:-0800
TZNAME:America/Tijuana PST
END:STANDARD
BEGIN:STANDARD
DTSTART:20261101T010000
RDATE:20270314T030000
TZOFFSETFROM:-0700
TZOFFSETTO:-0800
TZNAME:America/Tijuana PST
END:STANDARD
BEGIN:STANDARD
DTSTART:20271107T010000
RDATE:20280312T030000
TZOFFSETFROM:-0700
TZOFFSETTO:-0800
TZNAME:America/Tijuana PST
END:STANDARD
BEGIN:DAYLIGHT
DTSTART:20190523T090000
RDATE:20191103T010000
TZOFFSETFROM:-0800
TZOFFSETTO:-0700
TZNAME:America/Tijuana PDT
END:DAYLIGHT
BEGIN:DAYLIGHT
DTSTART:20200308T030000
RDATE:20201101T010000
TZOFFSETFROM:-0800
TZOFFSETTO:-0700
TZNAME:America/Tijuana PDT
END:DAYLIGHT
BEGIN:DAYLIGHT
DTSTART:20210314T030000
RDATE:20211107T010000
TZOFFSETFROM:-0800
TZOFFSETTO:-0700
TZNAME:America/Tijuana PDT
END:DAYLIGHT
BEGIN:DAYLIGHT
DTSTART:20220313T030000
RDATE:20221106T010000
TZOFFSETFROM:-0800
TZOFFSETTO:-0700
TZNAME:America/Tijuana PDT
END:DAYLIGHT
BEGIN:DAYLIGHT
DTSTART:20230312T030000
RDATE:20231105T010000
TZOFFSETFROM:-0800
TZOFFSETTO:-0700
TZNAME:America/Tijuana PDT
END:DAYLIGHT
BEGIN:DAYLIGHT
DTSTART:20240310T030000
RDATE:20241103T010000
TZOFFSETFROM:-0800
TZOFFSETTO:-0700
TZNAME:America/Tijuana PDT
END:DAYLIGHT
BEGIN:DAYLIGHT
DTSTART:20250309T030000
RDATE:20251102T010000
TZOFFSETFROM:-0800
TZOFFSETTO:-0700
TZNAME:America/Tijuana PDT
END:DAYLIGHT
BEGIN:DAYLIGHT
DTSTART:20260308T030000
RDATE:20261101T010000
TZOFFSETFROM:-0800
TZOFFSETTO:-0700
TZNAME:America/Tijuana PDT
END:DAYLIGHT
BEGIN:DAYLIGHT
DTSTART:20270314T030000
RDATE:20271107T010000
TZOFFSETFROM:-0800
TZOFFSETTO:-0700
TZNAME:America/Tijuana PDT
END:DAYLIGHT
END:VTIMEZONE
BEGIN:VEVENT
UID:bc1655c0d82820e1cb3f1f71a5ccf012
CATEGORIES:Habitat
CREATED:20200217T193922
SUMMARY:Lake Cunningham Native Garden
LOCATION:Lake Cunningham Regional Park\, San Jose
DESCRIPTION:The California Native Garden project in Lake Cunningham Regional Park contr
 ols invasive plants in a 1.5-acre area and beautifies it with California na
 tive wildflowers, perennials, shrubs and trees.\nLake Cunningham Native Gar
 den workdays take place every Saturday, 9am - noon. Volunteers are invited 
 to sign up at lakecunninghamnativegarden.org/volunteer. The park is located
  at 2305 S. White Road in San Jose. For more information, contact Arvind Ku
 mar at This email address is being protected from spambots. You need JavaSc
 ript enabled to view it.
				document.getElementById('cloak257d5539a02cbe9e
 34da44a59d11675b').innerHTML = '';
				var prefix = '&#109;a' + 'i&#108;' +
  '&#116;o';
				var path = 'hr' + 'ef' + '=';
				var addy257d5539a02cbe9e3
 4da44a59d11675b = 'chh&#97;pr&#97;h&#105;y&#97;' + '&#64;';
				addy257d553
 9a02cbe9e34da44a59d11675b = addy257d5539a02cbe9e34da44a59d11675b + 'y&#97;h
 &#111;&#111;' + '&#46;' + 'c&#111;m';
				var addy_text257d5539a02cbe9e34da
 44a59d11675b = 'chh&#97;pr&#97;h&#105;y&#97;' + '&#64;' + 'y&#97;h&#111;&#1
 11;' + '&#46;' + 'c&#111;m';document.getElementById('cloak257d5539a02cbe9e3
 4da44a59d11675b').innerHTML += '<a ' + path + '\'' + prefix + ':' + addy257
 d5539a02cbe9e34da44a59d11675b + '\'>'+addy_text257d5539a02cbe9e34da44a59d11
 675b+'';
		.\n
X-ALT-DESC;FMTTYPE=text/html:<div class="page" title="Page 5"><div class="layoutArea"><div class="column
 "><p>The California Native Garden project in Lake Cunningham Regional Park 
 controls invasive plants in a 1.5-acre area and beautifies it with Californ
 ia native wildflowers, perennials, shrubs and trees.</p><p>Lake Cunningham 
 Native Garden workdays take place every Saturday, 9am - noon. Volunteers ar
 e invited to sign up at lakecunninghamnativegarden.org/volunteer. The park 
 is located at 2305 S. White Road in San Jose. For more information, contact
  Arvind Kumar at <span id="cloak257d5539a02cbe9e34da44a59d11675b">This emai
 l address is being protected from spambots. You need JavaScript enabled to 
 view it.</span><script type='text/javascript'>
				document.getElementById(
 'cloak257d5539a02cbe9e34da44a59d11675b').innerHTML = '';
				var prefix = '
 &#109;a' + 'i&#108;' + '&#116;o';
				var path = 'hr' + 'ef' + '=';
				var
  addy257d5539a02cbe9e34da44a59d11675b = 'chh&#97;pr&#97;h&#105;y&#97;' + '&
 #64;';
				addy257d5539a02cbe9e34da44a59d11675b = addy257d5539a02cbe9e34da4
 4a59d11675b + 'y&#97;h&#111;&#111;' + '&#46;' + 'c&#111;m';
				var addy_te
 xt257d5539a02cbe9e34da44a59d11675b = 'chh&#97;pr&#97;h&#105;y&#97;' + '&#64
 ;' + 'y&#97;h&#111;&#111;' + '&#46;' + 'c&#111;m';document.getElementById('
 cloak257d5539a02cbe9e34da44a59d11675b').innerHTML += '<a ' + path + '\'' + 
 prefix + ':' + addy257d5539a02cbe9e34da44a59d11675b + '\'>'+addy_text257d55
 39a02cbe9e34da44a59d11675b+'<\/a>';
		</script>.</p></div></div></div>
CONTACT:Arvind Kumar at This email address is being protected from spambots. You need JavaScript enabled to view it.
				document.getElementById('cloaka10996d7ff812775f67843a196a4ef57').innerHTML = '';
				var prefix = '&#109;a' + 'i&#108;' + '&#116;o';
				var path = 'hr' + 'ef' + '=';
				var addya10996d7ff812775f67843a196a4ef57 = 'chh&#97;pr&#97;h&#105;y&#97;' + '&#64;';
				addya10996d7ff812775f67843a196a4ef57 = addya10996d7ff812775f67843a196a4ef57 + 'y&#97;h&#111;&#111;' + '&#46;' + 'c&#111;m';
				var addy_texta10996d7ff812775f67843a196a4ef57 = 'chh&#97;pr&#97;h&#105;y&#97;' + '&#64;' + 'y&#97;h&#111;&#111;' + '&#46;' + 'c&#111;m';document.getElementById('cloaka10996d7ff812775f67843a196a4ef57').innerHTML += '<a ' + path + '\'' + prefix + ':' + addya10996d7ff812775f67843a196a4ef57 + '\'>'+addy_texta10996d7ff812775f67843a196a4ef57+'';
		
DTSTAMP:20260424T175724
DTSTART;TZID=America/Tijuana:20200523T090000
DTEND;TZID=America/Tijuana:20200523T120000
SEQUENCE:0
TRANSP:OPAQUE
END:VEVENT
END:VCALENDAR