BEGIN:VCALENDAR
VERSION:2.0
PRODID:-//jEvents 2.0 for Joomla//EN
CALSCALE:GREGORIAN
METHOD:PUBLISH
BEGIN:VTIMEZONE
TZID:America/Tijuana
BEGIN:STANDARD
DTSTART:20191219T080000
RDATE:20200308T030000
TZOFFSETFROM:-0700
TZOFFSETTO:-0800
TZNAME:America/Tijuana PST
END:STANDARD
BEGIN:STANDARD
DTSTART:20201101T010000
RDATE:20210314T030000
TZOFFSETFROM:-0700
TZOFFSETTO:-0800
TZNAME:America/Tijuana PST
END:STANDARD
BEGIN:STANDARD
DTSTART:20211107T010000
RDATE:20220313T030000
TZOFFSETFROM:-0700
TZOFFSETTO:-0800
TZNAME:America/Tijuana PST
END:STANDARD
BEGIN:STANDARD
DTSTART:20221106T010000
RDATE:20230312T030000
TZOFFSETFROM:-0700
TZOFFSETTO:-0800
TZNAME:America/Tijuana PST
END:STANDARD
BEGIN:STANDARD
DTSTART:20231105T010000
RDATE:20240310T030000
TZOFFSETFROM:-0700
TZOFFSETTO:-0800
TZNAME:America/Tijuana PST
END:STANDARD
BEGIN:STANDARD
DTSTART:20241103T010000
RDATE:20250309T030000
TZOFFSETFROM:-0700
TZOFFSETTO:-0800
TZNAME:America/Tijuana PST
END:STANDARD
BEGIN:STANDARD
DTSTART:20251102T010000
RDATE:20260308T030000
TZOFFSETFROM:-0700
TZOFFSETTO:-0800
TZNAME:America/Tijuana PST
END:STANDARD
BEGIN:STANDARD
DTSTART:20261101T010000
RDATE:20270314T030000
TZOFFSETFROM:-0700
TZOFFSETTO:-0800
TZNAME:America/Tijuana PST
END:STANDARD
BEGIN:STANDARD
DTSTART:20271107T010000
RDATE:20280312T030000
TZOFFSETFROM:-0700
TZOFFSETTO:-0800
TZNAME:America/Tijuana PST
END:STANDARD
BEGIN:DAYLIGHT
DTSTART:20200308T030000
RDATE:20201101T010000
TZOFFSETFROM:-0800
TZOFFSETTO:-0700
TZNAME:America/Tijuana PDT
END:DAYLIGHT
BEGIN:DAYLIGHT
DTSTART:20210314T030000
RDATE:20211107T010000
TZOFFSETFROM:-0800
TZOFFSETTO:-0700
TZNAME:America/Tijuana PDT
END:DAYLIGHT
BEGIN:DAYLIGHT
DTSTART:20220313T030000
RDATE:20221106T010000
TZOFFSETFROM:-0800
TZOFFSETTO:-0700
TZNAME:America/Tijuana PDT
END:DAYLIGHT
BEGIN:DAYLIGHT
DTSTART:20230312T030000
RDATE:20231105T010000
TZOFFSETFROM:-0800
TZOFFSETTO:-0700
TZNAME:America/Tijuana PDT
END:DAYLIGHT
BEGIN:DAYLIGHT
DTSTART:20240310T030000
RDATE:20241103T010000
TZOFFSETFROM:-0800
TZOFFSETTO:-0700
TZNAME:America/Tijuana PDT
END:DAYLIGHT
BEGIN:DAYLIGHT
DTSTART:20250309T030000
RDATE:20251102T010000
TZOFFSETFROM:-0800
TZOFFSETTO:-0700
TZNAME:America/Tijuana PDT
END:DAYLIGHT
BEGIN:DAYLIGHT
DTSTART:20260308T030000
RDATE:20261101T010000
TZOFFSETFROM:-0800
TZOFFSETTO:-0700
TZNAME:America/Tijuana PDT
END:DAYLIGHT
BEGIN:DAYLIGHT
DTSTART:20270314T030000
RDATE:20271107T010000
TZOFFSETFROM:-0800
TZOFFSETTO:-0700
TZNAME:America/Tijuana PDT
END:DAYLIGHT
END:VTIMEZONE
BEGIN:VEVENT
UID:8f6f1b9d897c40cb092e990e989f6f96
CATEGORIES:Habitat
CREATED:20191211T192413
SUMMARY:Alum Rock Park Volunteers
LOCATION:Alum Rock Park\, San Jose
DESCRIPTION:<div class="page" title="Page 7"><div class="layoutArea"><div class="column
 "><p class="yiv8688130163MsoNormal">Because of COVID we are not currently l
 ooking for new volunteers, but feel free to join our group&nbsp;&nbsp;&nbsp
 ;&nbsp;<span style="text-decoration: underline;">groups.io/g/AlumRockParkVo
 lunteers</span>&nbsp;to see what we’re up to.&nbsp;You will then be notifie
 d as soon as we are able to expand our volunteer crew.</p><p class="yiv8688
 130163MsoNormal">You may also visit&nbsp;<a href="restoration/alum-rock-par
 k" target="_blank" rel="nofollow noopener noreferrer" shape="rect">www.cnps
 -scv.org/restoration/alum-rock-park</a>&nbsp;to learn what to bring and get
  directions to the usual meeting places.</p><p class="yiv8688130163MsoNorma
 l">All volunteers must wear masks at all times and social distance, except 
 within families/households. For more information contact Stephen at&nbsp;<a
  href="mailto:sailinsteve@sbcglobal.net" target="_blank" rel="nofollow noop
 ener noreferrer" shape="rect"></a><span id="cloak20ec71033717e508e88f640723
 b440d9">This email address is being protected from spambots. You need JavaS
 cript enabled to view it.</span><script type='text/javascript'>
				documen
 t.getElementById('cloak20ec71033717e508e88f640723b440d9').innerHTML = '';
	
 			var prefix = '&#109;a' + 'i&#108;' + '&#116;o';
				var path = 'hr' + 'e
 f' + '=';
				var addy20ec71033717e508e88f640723b440d9 = 's&#97;&#105;l&#10
 5;nst&#101;v&#101;' + '&#64;';
				addy20ec71033717e508e88f640723b440d9 = a
 ddy20ec71033717e508e88f640723b440d9 + 'sbcgl&#111;b&#97;l' + '&#46;' + 'n&#
 101;t';
				var addy_text20ec71033717e508e88f640723b440d9 = 's&#97;&#105;l&
 #105;nst&#101;v&#101;' + '&#64;' + 'sbcgl&#111;b&#97;l' + '&#46;' + 'n&#101
 ;t';document.getElementById('cloak20ec71033717e508e88f640723b440d9').innerH
 TML += '<a ' + path + '\'' + prefix + ':' + addy20ec71033717e508e88f640723b
 440d9 + '\'>'+addy_text20ec71033717e508e88f640723b440d9+'<\/a>';
		</script
 >&nbsp;or (650) 260-3450.</p><p class="yiv8688130163MsoNormal">We invite yo
 u to walk up the Todd Quick trail to our restoration at the top of the trai
 l by the Sierra Vista entrance.</p><div class="page" title="Page 7"><div cl
 ass="layoutArea">&nbsp;</div></div></div></div></div>
X-ALT-DESC;FMTTYPE=text/html:<div class="page" title="Page 7"><div class="layoutArea"><div class="column
 "><p class="yiv8688130163MsoNormal">Because of COVID we are not currently l
 ooking for new volunteers, but feel free to join our group&nbsp;&nbsp;&nbsp
 ;&nbsp;<span style="text-decoration: underline;">groups.io/g/AlumRockParkVo
 lunteers</span>&nbsp;to see what we’re up to.&nbsp;You will then be notifie
 d as soon as we are able to expand our volunteer crew.</p><p class="yiv8688
 130163MsoNormal">You may also visit&nbsp;<a href="https://cnps-scv.org/rest
 oration/alum-rock-park" target="_blank" rel="nofollow noopener noreferrer" 
 shape="rect">www.cnps-scv.org/restoration/alum-rock-park</a>&nbsp;to learn 
 what to bring and get directions to the usual meeting places.</p><p class="
 yiv8688130163MsoNormal">All volunteers must wear masks at all times and soc
 ial distance, except within families/households. For more information conta
 ct Stephen at&nbsp;<a href="mailto:sailinsteve@sbcglobal.net" target="_blan
 k" rel="nofollow noopener noreferrer" shape="rect"></a><span id="cloak20ec7
 1033717e508e88f640723b440d9">This email address is being protected from spa
 mbots. You need JavaScript enabled to view it.</span><script type='text/jav
 ascript'>
				document.getElementById('cloak20ec71033717e508e88f640723b440d
 9').innerHTML = '';
				var prefix = '&#109;a' + 'i&#108;' + '&#116;o';
			
 	var path = 'hr' + 'ef' + '=';
				var addy20ec71033717e508e88f640723b440d9
  = 's&#97;&#105;l&#105;nst&#101;v&#101;' + '&#64;';
				addy20ec71033717e50
 8e88f640723b440d9 = addy20ec71033717e508e88f640723b440d9 + 'sbcgl&#111;b&#9
 7;l' + '&#46;' + 'n&#101;t';
				var addy_text20ec71033717e508e88f640723b44
 0d9 = 's&#97;&#105;l&#105;nst&#101;v&#101;' + '&#64;' + 'sbcgl&#111;b&#97;l
 ' + '&#46;' + 'n&#101;t';document.getElementById('cloak20ec71033717e508e88f
 640723b440d9').innerHTML += '<a ' + path + '\'' + prefix + ':' + addy20ec71
 033717e508e88f640723b440d9 + '\'>'+addy_text20ec71033717e508e88f640723b440d
 9+'<\/a>';
		</script>&nbsp;or (650) 260-3450.</p><p class="yiv8688130163Ms
 oNormal">We invite you to walk up the Todd Quick trail to our restoration a
 t the top of the trail by the Sierra Vista entrance.</p><div class="page" t
 itle="Page 7"><div class="layoutArea">&nbsp;</div></div></div></div></div>
CONTACT:Stephen Rosenthal at This email address is being protected from spambots. You need JavaScript enabled to view it.
				document.getElementById('cloak9fbb036bcee5e4ada7b5608a93ad802b').innerHTML = '';
				var prefix = '&#109;a' + 'i&#108;' + '&#116;o';
				var path = 'hr' + 'ef' + '=';
				var addy9fbb036bcee5e4ada7b5608a93ad802b = 's&#97;&#105;l&#105;nst&#101;v&#101;' + '&#64;';
				addy9fbb036bcee5e4ada7b5608a93ad802b = addy9fbb036bcee5e4ada7b5608a93ad802b + 'sbcgl&#111;b&#97;l' + '&#46;' + 'n&#101;t';
				var addy_text9fbb036bcee5e4ada7b5608a93ad802b = 's&#97;&#105;l&#105;nst&#101;v&#101;' + '&#64;' + 'sbcgl&#111;b&#97;l' + '&#46;' + 'n&#101;t';document.getElementById('cloak9fbb036bcee5e4ada7b5608a93ad802b').innerHTML += '<a ' + path + '\'' + prefix + ':' + addy9fbb036bcee5e4ada7b5608a93ad802b + '\'>'+addy_text9fbb036bcee5e4ada7b5608a93ad802b+'';
		 or (650) 260-3450
DTSTAMP:20260420T045559
DTSTART;TZID=America/Tijuana:20201219T080000
DTEND;TZID=America/Tijuana:20201219T170000
SEQUENCE:0
TRANSP:OPAQUE
END:VEVENT
END:VCALENDAR