BEGIN:VCALENDAR
VERSION:2.0
PRODID:-//jEvents 2.0 for Joomla//EN
CALSCALE:GREGORIAN
METHOD:PUBLISH
BEGIN:VTIMEZONE
TZID:America/Tijuana
BEGIN:STANDARD
DTSTART:20150119T000000
RDATE:20150308T030000
TZOFFSETFROM:-0700
TZOFFSETTO:-0800
TZNAME:America/Tijuana PST
END:STANDARD
BEGIN:STANDARD
DTSTART:20151101T010000
RDATE:20160313T030000
TZOFFSETFROM:-0700
TZOFFSETTO:-0800
TZNAME:America/Tijuana PST
END:STANDARD
BEGIN:STANDARD
DTSTART:20161106T010000
RDATE:20170312T030000
TZOFFSETFROM:-0700
TZOFFSETTO:-0800
TZNAME:America/Tijuana PST
END:STANDARD
BEGIN:STANDARD
DTSTART:20171105T010000
RDATE:20180311T030000
TZOFFSETFROM:-0700
TZOFFSETTO:-0800
TZNAME:America/Tijuana PST
END:STANDARD
BEGIN:STANDARD
DTSTART:20181104T010000
RDATE:20190310T030000
TZOFFSETFROM:-0700
TZOFFSETTO:-0800
TZNAME:America/Tijuana PST
END:STANDARD
BEGIN:STANDARD
DTSTART:20191103T010000
RDATE:20200308T030000
TZOFFSETFROM:-0700
TZOFFSETTO:-0800
TZNAME:America/Tijuana PST
END:STANDARD
BEGIN:STANDARD
DTSTART:20201101T010000
RDATE:20210314T030000
TZOFFSETFROM:-0700
TZOFFSETTO:-0800
TZNAME:America/Tijuana PST
END:STANDARD
BEGIN:STANDARD
DTSTART:20211107T010000
RDATE:20220313T030000
TZOFFSETFROM:-0700
TZOFFSETTO:-0800
TZNAME:America/Tijuana PST
END:STANDARD
BEGIN:STANDARD
DTSTART:20221106T010000
RDATE:20230312T030000
TZOFFSETFROM:-0700
TZOFFSETTO:-0800
TZNAME:America/Tijuana PST
END:STANDARD
BEGIN:STANDARD
DTSTART:20231105T010000
RDATE:20240310T030000
TZOFFSETFROM:-0700
TZOFFSETTO:-0800
TZNAME:America/Tijuana PST
END:STANDARD
BEGIN:STANDARD
DTSTART:20241103T010000
RDATE:20250309T030000
TZOFFSETFROM:-0700
TZOFFSETTO:-0800
TZNAME:America/Tijuana PST
END:STANDARD
BEGIN:STANDARD
DTSTART:20251102T010000
RDATE:20260308T030000
TZOFFSETFROM:-0700
TZOFFSETTO:-0800
TZNAME:America/Tijuana PST
END:STANDARD
BEGIN:STANDARD
DTSTART:20261101T010000
RDATE:20270314T030000
TZOFFSETFROM:-0700
TZOFFSETTO:-0800
TZNAME:America/Tijuana PST
END:STANDARD
BEGIN:STANDARD
DTSTART:20271107T010000
RDATE:20280312T030000
TZOFFSETFROM:-0700
TZOFFSETTO:-0800
TZNAME:America/Tijuana PST
END:STANDARD
BEGIN:DAYLIGHT
DTSTART:20150308T030000
RDATE:20151101T010000
TZOFFSETFROM:-0800
TZOFFSETTO:-0700
TZNAME:America/Tijuana PDT
END:DAYLIGHT
BEGIN:DAYLIGHT
DTSTART:20160313T030000
RDATE:20161106T010000
TZOFFSETFROM:-0800
TZOFFSETTO:-0700
TZNAME:America/Tijuana PDT
END:DAYLIGHT
BEGIN:DAYLIGHT
DTSTART:20170312T030000
RDATE:20171105T010000
TZOFFSETFROM:-0800
TZOFFSETTO:-0700
TZNAME:America/Tijuana PDT
END:DAYLIGHT
BEGIN:DAYLIGHT
DTSTART:20180311T030000
RDATE:20181104T010000
TZOFFSETFROM:-0800
TZOFFSETTO:-0700
TZNAME:America/Tijuana PDT
END:DAYLIGHT
BEGIN:DAYLIGHT
DTSTART:20190310T030000
RDATE:20191103T010000
TZOFFSETFROM:-0800
TZOFFSETTO:-0700
TZNAME:America/Tijuana PDT
END:DAYLIGHT
BEGIN:DAYLIGHT
DTSTART:20200308T030000
RDATE:20201101T010000
TZOFFSETFROM:-0800
TZOFFSETTO:-0700
TZNAME:America/Tijuana PDT
END:DAYLIGHT
BEGIN:DAYLIGHT
DTSTART:20210314T030000
RDATE:20211107T010000
TZOFFSETFROM:-0800
TZOFFSETTO:-0700
TZNAME:America/Tijuana PDT
END:DAYLIGHT
BEGIN:DAYLIGHT
DTSTART:20220313T030000
RDATE:20221106T010000
TZOFFSETFROM:-0800
TZOFFSETTO:-0700
TZNAME:America/Tijuana PDT
END:DAYLIGHT
BEGIN:DAYLIGHT
DTSTART:20230312T030000
RDATE:20231105T010000
TZOFFSETFROM:-0800
TZOFFSETTO:-0700
TZNAME:America/Tijuana PDT
END:DAYLIGHT
BEGIN:DAYLIGHT
DTSTART:20240310T030000
RDATE:20241103T010000
TZOFFSETFROM:-0800
TZOFFSETTO:-0700
TZNAME:America/Tijuana PDT
END:DAYLIGHT
BEGIN:DAYLIGHT
DTSTART:20250309T030000
RDATE:20251102T010000
TZOFFSETFROM:-0800
TZOFFSETTO:-0700
TZNAME:America/Tijuana PDT
END:DAYLIGHT
BEGIN:DAYLIGHT
DTSTART:20260308T030000
RDATE:20261101T010000
TZOFFSETFROM:-0800
TZOFFSETTO:-0700
TZNAME:America/Tijuana PDT
END:DAYLIGHT
BEGIN:DAYLIGHT
DTSTART:20270314T030000
RDATE:20271107T010000
TZOFFSETFROM:-0800
TZOFFSETTO:-0700
TZNAME:America/Tijuana PDT
END:DAYLIGHT
END:VTIMEZONE
BEGIN:VEVENT
UID:d9abf6ef52b81de8608e0ec3c90cbfa8
CATEGORIES:Nursery
CREATED:20150604T150412
SUMMARY:Nursery Workday
LOCATION:Hidden Villa on Moody Road west of Foothill College.  26870 Moody Road in L
 os Altos\, CA\, or follow the directions below
DESCRIPTION:<h3>Native Plant Nursery Propagation Workdays</h3><p>Come help propagate pl
 ants for our next plant sale by volunteering at one of our nursery work ses
 sions, every <strong>Wednesday and Thursday</strong>.  Bring garden gloves,
  sunhat, clippers, and liquids and your lunch if you like.  Other tools wil
 l be provided at the nursery.  Knowledge of plants is not necessary; your w
 illingness to help is all that's required.</p><p><strong>Hours:</strong> Be
 tween the spring and fall plant sales, we work from <strong>10am to 1pm. </
 strong> Between the fall and spring plant sales, we work from <strong>noon 
 to 3pm</strong>.</p><p>For more information, contact Melanie Cross at (650)
  847-1350 or <span id="cloak5148a86ca2c936e3135f433d2d5a7e71">This email ad
 dress is being protected from spambots. You need JavaScript enabled to view
  it.</span><script type='text/javascript'>
				document.getElementById('clo
 ak5148a86ca2c936e3135f433d2d5a7e71').innerHTML = '';
				var prefix = '&#10
 9;a' + 'i&#108;' + '&#116;o';
				var path = 'hr' + 'ef' + '=';
				var add
 y5148a86ca2c936e3135f433d2d5a7e71 = 'm&#101;l&#97;n&#105;&#101;' + '&#64;';
 
				addy5148a86ca2c936e3135f433d2d5a7e71 = addy5148a86ca2c936e3135f433d2d5
 a7e71 + 'pcr&#111;ss' + '&#46;' + 'c&#111;m';
				var addy_text5148a86ca2c9
 36e3135f433d2d5a7e71 = 'm&#101;l&#97;n&#105;&#101;' + '&#64;' + 'pcr&#111;s
 s' + '&#46;' + 'c&#111;m';document.getElementById('cloak5148a86ca2c936e3135
 f433d2d5a7e71').innerHTML += '<a ' + path + '\'' + prefix + ':' + addy5148a
 86ca2c936e3135f433d2d5a7e71 + '\'>'+addy_text5148a86ca2c936e3135f433d2d5a7e
 71+'<\/a>';
		</script>; or Ray Deutsch at (650) 365-6136 or <span id="cloa
 k1e1dcaa033acf213d8ffb71463ce2e6f">This email address is being protected fr
 om spambots. You need JavaScript enabled to view it.</span><script type='te
 xt/javascript'>
				document.getElementById('cloak1e1dcaa033acf213d8ffb7146
 3ce2e6f').innerHTML = '';
				var prefix = '&#109;a' + 'i&#108;' + '&#116;o
 ';
				var path = 'hr' + 'ef' + '=';
				var addy1e1dcaa033acf213d8ffb71463
 ce2e6f = 'r&#97;y.d&#101;&#117;tsch' + '&#64;';
				addy1e1dcaa033acf213d8f
 fb71463ce2e6f = addy1e1dcaa033acf213d8ffb71463ce2e6f + 'y&#97;h&#111;&#111;
 ' + '&#46;' + 'c&#97;';
				var addy_text1e1dcaa033acf213d8ffb71463ce2e6f =
  'r&#97;y.d&#101;&#117;tsch' + '&#64;' + 'y&#97;h&#111;&#111;' + '&#46;' + 
 'c&#97;';document.getElementById('cloak1e1dcaa033acf213d8ffb71463ce2e6f').i
 nnerHTML += '<a ' + path + '\'' + prefix + ':' + addy1e1dcaa033acf213d8ffb7
 1463ce2e6f + '\'>'+addy_text1e1dcaa033acf213d8ffb71463ce2e6f+'<\/a>';
		</s
 cript></p>
CONTACT:Melanie Cross at (650) 847-1350 or This email address is being protected from spambots. You need JavaScript enabled to view it.
				document.getElementById('cloakf10c6dd63c827cc25a546bd4dff29a4a').innerHTML = '';
				var prefix = '&#109;a' + 'i&#108;' + '&#116;o';
				var path = 'hr' + 'ef' + '=';
				var addyf10c6dd63c827cc25a546bd4dff29a4a = 'm&#101;l&#97;n&#105;&#101;' + '&#64;';
				addyf10c6dd63c827cc25a546bd4dff29a4a = addyf10c6dd63c827cc25a546bd4dff29a4a + 'pcr&#111;ss' + '&#46;' + 'c&#111;m';
				var addy_textf10c6dd63c827cc25a546bd4dff29a4a = 'm&#101;l&#97;n&#105;&#101;' + '&#64;' + 'pcr&#111;ss' + '&#46;' + 'c&#111;m';document.getElementById('cloakf10c6dd63c827cc25a546bd4dff29a4a').innerHTML += '<a ' + path + '\'' + prefix + ':' + addyf10c6dd63c827cc25a546bd4dff29a4a + '\'>'+addy_textf10c6dd63c827cc25a546bd4dff29a4a+'';
		; or Ray Deutsch at (650) 365-6136 or This email address is being protected from spambots. You need JavaScript enabled to view it.
				document.getElementById('cloak5355f055c2c21a3c0b96ee5043baea61').innerHTML = '';
				var prefix = '&#109;a' + 'i&#108;' + '&#116;o';
				var path = 'hr' + 'ef' + '=';
				var addy5355f055c2c21a3c0b96ee5043baea61 = 'r&#97;y.d&#101;&#117;tsch' + '&#64;';
				addy5355f055c2c21a3c0b96ee5043baea61 = addy5355f055c2c21a3c0b96ee5043baea61 + 'y&#97;h&#111;&#111;' + '&#46;' + 'c&#97;';
				var addy_text5355f055c2c21a3c0b96ee5043baea61 = 'r&#97;y.d&#101;&#117;tsch' + '&#64;' + 'y&#97;h&#111;&#111;' + '&#46;' + 'c&#97;';document.getElementById('cloak5355f055c2c21a3c0b96ee5043baea61').innerHTML += '<a ' + path + '\'' + prefix + ':' + addy5355f055c2c21a3c0b96ee5043baea61 + '\'>'+addy_text5355f055c2c21a3c0b96ee5043baea61+'';
		
X-EXTRAINFO:Directions: Hidden Villa is located on Moody Road west of Foothill College.
   From Hwy. 280 in Los Altos Hills, take the Moody Road exit and head west.
   Two miles west of Foothill College, look for the Hidden Villa sign and dr
 iveway on the left.  Proceed over the bridge and park in the visitor center
  parking lot to your right.  The Nursery is at the greenhouse just beyond t
 he visitor center.
DTSTAMP:20260422T014653
DTSTART;TZID=America/Tijuana:20160120T000000
DTEND;TZID=America/Tijuana:20160120T150000
SEQUENCE:0
TRANSP:OPAQUE
END:VEVENT
END:VCALENDAR