BEGIN:VCALENDAR
VERSION:2.0
PRODID:-//jEvents 2.0 for Joomla//EN
CALSCALE:GREGORIAN
METHOD:PUBLISH
BEGIN:VTIMEZONE
TZID:America/Tijuana
BEGIN:STANDARD
DTSTART:20221106T010000
RDATE:20230312T030000
TZOFFSETFROM:-0700
TZOFFSETTO:-0800
TZNAME:America/Tijuana PST
END:STANDARD
BEGIN:STANDARD
DTSTART:20231105T010000
RDATE:20240310T030000
TZOFFSETFROM:-0700
TZOFFSETTO:-0800
TZNAME:America/Tijuana PST
END:STANDARD
BEGIN:STANDARD
DTSTART:20241103T010000
RDATE:20250309T030000
TZOFFSETFROM:-0700
TZOFFSETTO:-0800
TZNAME:America/Tijuana PST
END:STANDARD
BEGIN:STANDARD
DTSTART:20251102T010000
RDATE:20260308T030000
TZOFFSETFROM:-0700
TZOFFSETTO:-0800
TZNAME:America/Tijuana PST
END:STANDARD
BEGIN:STANDARD
DTSTART:20261101T010000
RDATE:20270314T030000
TZOFFSETFROM:-0700
TZOFFSETTO:-0800
TZNAME:America/Tijuana PST
END:STANDARD
BEGIN:STANDARD
DTSTART:20271107T010000
RDATE:20280312T030000
TZOFFSETFROM:-0700
TZOFFSETTO:-0800
TZNAME:America/Tijuana PST
END:STANDARD
BEGIN:DAYLIGHT
DTSTART:20220507T180000
RDATE:20221106T010000
TZOFFSETFROM:-0800
TZOFFSETTO:-0700
TZNAME:America/Tijuana PDT
END:DAYLIGHT
BEGIN:DAYLIGHT
DTSTART:20230312T030000
RDATE:20231105T010000
TZOFFSETFROM:-0800
TZOFFSETTO:-0700
TZNAME:America/Tijuana PDT
END:DAYLIGHT
BEGIN:DAYLIGHT
DTSTART:20240310T030000
RDATE:20241103T010000
TZOFFSETFROM:-0800
TZOFFSETTO:-0700
TZNAME:America/Tijuana PDT
END:DAYLIGHT
BEGIN:DAYLIGHT
DTSTART:20250309T030000
RDATE:20251102T010000
TZOFFSETFROM:-0800
TZOFFSETTO:-0700
TZNAME:America/Tijuana PDT
END:DAYLIGHT
BEGIN:DAYLIGHT
DTSTART:20260308T030000
RDATE:20261101T010000
TZOFFSETFROM:-0800
TZOFFSETTO:-0700
TZNAME:America/Tijuana PDT
END:DAYLIGHT
BEGIN:DAYLIGHT
DTSTART:20270314T030000
RDATE:20271107T010000
TZOFFSETFROM:-0800
TZOFFSETTO:-0700
TZNAME:America/Tijuana PDT
END:DAYLIGHT
END:VTIMEZONE
BEGIN:VEVENT
UID:1a989d95c2b6f7664c64470b44d9f7ff
CATEGORIES:Meetings
CREATED:20221021T005513
SUMMARY:Growing Natives Garden Tour Committee Meeting
LOCATION:Zoom
DESCRIPTION:<p>The <a href="https://gngt.org">Growing Natives Garden Tour</a> Committee
  meets on the second Monday of each month to plan the tour. If you would li
 ke to join the committe, please contact committee chair, Penny Pollock&nbsp
 ;<a href="mailto:pennyph@pacbell.net?subject=Re:%20Event:%20GNGT%2520Commit
 tee%2520Monthly%2520Meeting%2520-%2520second%2520Monday%2520of%2520each%252
 0month"></a><span id="cloakc2f2b97f5a7535c6606626148ab70cf3">This email add
 ress is being protected from spambots. You need JavaScript enabled to view 
 it.</span><script type='text/javascript'>
				document.getElementById('cloa
 kc2f2b97f5a7535c6606626148ab70cf3').innerHTML = '';
				var prefix = '&#109
 ;a' + 'i&#108;' + '&#116;o';
				var path = 'hr' + 'ef' + '=';
				var addy
 c2f2b97f5a7535c6606626148ab70cf3 = 'p&#101;nnyph' + '&#64;';
				addyc2f2b9
 7f5a7535c6606626148ab70cf3 = addyc2f2b97f5a7535c6606626148ab70cf3 + 'p&#97;
 cb&#101;ll' + '&#46;' + 'n&#101;t';
				var addy_textc2f2b97f5a7535c6606626
 148ab70cf3 = 'p&#101;nnyph' + '&#64;' + 'p&#97;cb&#101;ll' + '&#46;' + 'n&#
 101;t';document.getElementById('cloakc2f2b97f5a7535c6606626148ab70cf3').inn
 erHTML += '<a ' + path + '\'' + prefix + ':' + addyc2f2b97f5a7535c660662614
 8ab70cf3 + '\'>'+addy_textc2f2b97f5a7535c6606626148ab70cf3+'<\/a>';
		</scr
 ipt></p>
CONTACT:Penny Pollock This email address is being protected from spambots. You need JavaScript enabled to view it.
				document.getElementById('cloakb25067a447c21583d0ade8ed4a7e1fbb').innerHTML = '';
				var prefix = '&#109;a' + 'i&#108;' + '&#116;o';
				var path = 'hr' + 'ef' + '=';
				var addyb25067a447c21583d0ade8ed4a7e1fbb = 'p&#101;nnyph' + '&#64;';
				addyb25067a447c21583d0ade8ed4a7e1fbb = addyb25067a447c21583d0ade8ed4a7e1fbb + 'p&#97;cb&#101;ll' + '&#46;' + 'n&#101;t';
				var addy_textb25067a447c21583d0ade8ed4a7e1fbb = 'p&#101;nnyph' + '&#64;' + 'p&#97;cb&#101;ll' + '&#46;' + 'n&#101;t';document.getElementById('cloakb25067a447c21583d0ade8ed4a7e1fbb').innerHTML += '<a ' + path + '\'' + prefix + ':' + addyb25067a447c21583d0ade8ed4a7e1fbb + '\'>'+addy_textb25067a447c21583d0ade8ed4a7e1fbb+'';
		
DTSTAMP:20260422T114815
DTSTART;TZID=America/Tijuana:20230508T180000
DTEND;TZID=America/Tijuana:20230508T193000
SEQUENCE:0
TRANSP:OPAQUE
END:VEVENT
END:VCALENDAR