BEGIN:VCALENDAR
VERSION:2.0
PRODID:-//jEvents 2.0 for Joomla//EN
CALSCALE:GREGORIAN
METHOD:PUBLISH
BEGIN:VTIMEZONE
TZID:America/Tijuana
BEGIN:STANDARD
DTSTART:20221106T010000
RDATE:20230312T030000
TZOFFSETFROM:-0700
TZOFFSETTO:-0800
TZNAME:America/Tijuana PST
END:STANDARD
BEGIN:STANDARD
DTSTART:20231105T010000
RDATE:20240310T030000
TZOFFSETFROM:-0700
TZOFFSETTO:-0800
TZNAME:America/Tijuana PST
END:STANDARD
BEGIN:STANDARD
DTSTART:20241103T010000
RDATE:20250309T030000
TZOFFSETFROM:-0700
TZOFFSETTO:-0800
TZNAME:America/Tijuana PST
END:STANDARD
BEGIN:STANDARD
DTSTART:20251102T010000
RDATE:20260308T030000
TZOFFSETFROM:-0700
TZOFFSETTO:-0800
TZNAME:America/Tijuana PST
END:STANDARD
BEGIN:STANDARD
DTSTART:20261101T010000
RDATE:20270314T030000
TZOFFSETFROM:-0700
TZOFFSETTO:-0800
TZNAME:America/Tijuana PST
END:STANDARD
BEGIN:STANDARD
DTSTART:20271107T010000
RDATE:20280312T030000
TZOFFSETFROM:-0700
TZOFFSETTO:-0800
TZNAME:America/Tijuana PST
END:STANDARD
BEGIN:DAYLIGHT
DTSTART:20220410T190000
RDATE:20221106T010000
TZOFFSETFROM:-0800
TZOFFSETTO:-0700
TZNAME:America/Tijuana PDT
END:DAYLIGHT
BEGIN:DAYLIGHT
DTSTART:20230312T030000
RDATE:20231105T010000
TZOFFSETFROM:-0800
TZOFFSETTO:-0700
TZNAME:America/Tijuana PDT
END:DAYLIGHT
BEGIN:DAYLIGHT
DTSTART:20240310T030000
RDATE:20241103T010000
TZOFFSETFROM:-0800
TZOFFSETTO:-0700
TZNAME:America/Tijuana PDT
END:DAYLIGHT
BEGIN:DAYLIGHT
DTSTART:20250309T030000
RDATE:20251102T010000
TZOFFSETFROM:-0800
TZOFFSETTO:-0700
TZNAME:America/Tijuana PDT
END:DAYLIGHT
BEGIN:DAYLIGHT
DTSTART:20260308T030000
RDATE:20261101T010000
TZOFFSETFROM:-0800
TZOFFSETTO:-0700
TZNAME:America/Tijuana PDT
END:DAYLIGHT
BEGIN:DAYLIGHT
DTSTART:20270314T030000
RDATE:20271107T010000
TZOFFSETFROM:-0800
TZOFFSETTO:-0700
TZNAME:America/Tijuana PDT
END:DAYLIGHT
END:VTIMEZONE
BEGIN:VEVENT
UID:215ba48367db750e2c8a180752efc51a
CATEGORIES:Meetings
CREATED:20230227T130842
SUMMARY:Conservation Committee
LOCATION:Zoom
DESCRIPTION:This committee covers many issues affecting native plants: conservation, ad
 vocacy, legislation, habitat restoration and rare plants. The committee mee
 ts once a month to provide information and support for all of these conserv
 ation issues and efforts. Members of our committee work on projects through
 out the Chapter area, coordinating with our state CNPS program staff and ot
 her conservation organizations.\nPlease join us in our important work! For 
 questions, comments or concerns, contact Committee Chair Carolyn Dorsch at 
 This email address is being protected from spambots. You need JavaScript en
 abled to view it.
				document.getElementById('cloake7dade5d6081f3af6ec6556
 879b5cf2e').innerHTML = '';
				var prefix = '&#109;a' + 'i&#108;' + '&#116
 ;o';
				var path = 'hr' + 'ef' + '=';
				var addye7dade5d6081f3af6ec65568
 79b5cf2e = 'cd&#111;rsch' + '&#64;';
				addye7dade5d6081f3af6ec6556879b5cf
 2e = addye7dade5d6081f3af6ec6556879b5cf2e + 'cnps-scv' + '&#46;' + '&#111;r
 g';
				var addy_texte7dade5d6081f3af6ec6556879b5cf2e = 'cd&#111;rsch' + '&
 #64;' + 'cnps-scv' + '&#46;' + '&#111;rg';document.getElementById('cloake7d
 ade5d6081f3af6ec6556879b5cf2e').innerHTML += '<a ' + path + '\'' + prefix +
  ':' + addye7dade5d6081f3af6ec6556879b5cf2e + '\'>'+addy_texte7dade5d6081f3
 af6ec6556879b5cf2e+'';
		 or (650) 804-6162, or Conservation Chair Judy Fen
 erty at This email address is being protected from spambots. You need JavaS
 cript enabled to view it.
				document.getElementById('cloak40170068c5e2e84
 1532e126a338efddc').innerHTML = '';
				var prefix = '&amp;#109;a' + 'i&amp
 ;#108;' + '&amp;#116;o';
				var path = 'hr' + 'ef' + '=';
				var addy4017
 0068c5e2e841532e126a338efddc = 'j&amp;#117;dy' + '&amp;#64;';
				addy40170
 068c5e2e841532e126a338efddc = addy40170068c5e2e841532e126a338efddc + 'f&amp
 ;#101;n&amp;#101;rty' + '&amp;#46;' + 'c&amp;#111;m';
				var addy_text4017
 0068c5e2e841532e126a338efddc = 'j&amp;#117;dy' + '&amp;#64;' + 'f&amp;#101;
 n&amp;#101;rty' + '&amp;#46;' + 'c&amp;#111;m';document.getElementById('clo
 ak40170068c5e2e841532e126a338efddc').innerHTML += '&lt;a ' + path + '\'' + 
 prefix + ':' + addy40170068c5e2e841532e126a338efddc + '\'&gt;'+addy_text401
 70068c5e2e841532e126a338efddc+'&lt;\/a&gt;';
		. (mailto:judy@fenerty.com.)
  If you are interested in joining our committee meetings on Zoom, please em
 ail Carolyn for the link.\n
X-ALT-DESC;FMTTYPE=text/html:<div class="page" title="Page 3"><div class="layoutArea"><div class="column
 "><p>This committee covers many issues affecting native plants: conservatio
 n, advocacy, legislation, habitat restoration and rare plants. The committe
 e meets once a month to provide information and support for all of these co
 nservation issues and efforts. Members of our committee work on projects th
 roughout the Chapter area, coordinating with our state CNPS program staff a
 nd other conservation organizations.</p></div></div></div><div class="page"
  title="Page 3"><div class="layoutArea"><div class="column"><p>Please join 
 us in our important work! For questions, comments or concerns, contact Comm
 ittee Chair Carolyn Dorsch at <span id="cloake7dade5d6081f3af6ec6556879b5cf
 2e">This email address is being protected from spambots. You need JavaScrip
 t enabled to view it.</span><script type='text/javascript'>
				document.ge
 tElementById('cloake7dade5d6081f3af6ec6556879b5cf2e').innerHTML = '';
				v
 ar prefix = '&#109;a' + 'i&#108;' + '&#116;o';
				var path = 'hr' + 'ef' +
  '=';
				var addye7dade5d6081f3af6ec6556879b5cf2e = 'cd&#111;rsch' + '&#64
 ;';
				addye7dade5d6081f3af6ec6556879b5cf2e = addye7dade5d6081f3af6ec65568
 79b5cf2e + 'cnps-scv' + '&#46;' + '&#111;rg';
				var addy_texte7dade5d6081
 f3af6ec6556879b5cf2e = 'cd&#111;rsch' + '&#64;' + 'cnps-scv' + '&#46;' + '&
 #111;rg';document.getElementById('cloake7dade5d6081f3af6ec6556879b5cf2e').i
 nnerHTML += '<a ' + path + '\'' + prefix + ':' + addye7dade5d6081f3af6ec655
 6879b5cf2e + '\'>'+addy_texte7dade5d6081f3af6ec6556879b5cf2e+'<\/a>';
		</s
 cript> or (650) 804-6162, or Conservation Chair Judy Fenerty at <a href="ma
 ilto:judy@fenerty.com."><span id="cloak40170068c5e2e841532e126a338efddc">Th
 is email address is being protected from spambots. You need JavaScript enab
 led to view it.</span><script type='text/javascript'>
				document.getEleme
 ntById('cloak40170068c5e2e841532e126a338efddc').innerHTML = '';
				var pre
 fix = '&#109;a' + 'i&#108;' + '&#116;o';
				var path = 'hr' + 'ef' + '=';

 				var addy40170068c5e2e841532e126a338efddc = 'j&#117;dy' + '&#64;';
				a
 ddy40170068c5e2e841532e126a338efddc = addy40170068c5e2e841532e126a338efddc 
 + 'f&#101;n&#101;rty' + '&#46;' + 'c&#111;m';
				var addy_text40170068c5e2
 e841532e126a338efddc = 'j&#117;dy' + '&#64;' + 'f&#101;n&#101;rty' + '&#46;
 ' + 'c&#111;m';document.getElementById('cloak40170068c5e2e841532e126a338efd
 dc').innerHTML += '<a ' + path + '\'' + prefix + ':' + addy40170068c5e2e841
 532e126a338efddc + '\'>'+addy_text40170068c5e2e841532e126a338efddc+'<\/a>';
 
		</script>.</a> If you are interested in joining our committee meetings o
 n Zoom, please email Carolyn for the link.</p></div></div></div>
CONTACT:Carolyn Dorsch at This email address is being protected from spambots. You need JavaScript enabled to view it.
				document.getElementById('cloakbdcbcba2d5985041d30e770305c97817').innerHTML = '';
				var prefix = '&#109;a' + 'i&#108;' + '&#116;o';
				var path = 'hr' + 'ef' + '=';
				var addybdcbcba2d5985041d30e770305c97817 = 'cd&#111;rsch' + '&#64;';
				addybdcbcba2d5985041d30e770305c97817 = addybdcbcba2d5985041d30e770305c97817 + 'cnps-scv' + '&#46;' + '&#111;rg';
				var addy_textbdcbcba2d5985041d30e770305c97817 = 'cd&#111;rsch' + '&#64;' + 'cnps-scv' + '&#46;' + '&#111;rg';document.getElementById('cloakbdcbcba2d5985041d30e770305c97817').innerHTML += '<a ' + path + '\'' + prefix + ':' + addybdcbcba2d5985041d30e770305c97817 + '\'>'+addy_textbdcbcba2d5985041d30e770305c97817+'';
		 or (650) 804-6162
DTSTAMP:20260425T152045
DTSTART;TZID=America/Tijuana:20230411T190000
DTEND;TZID=America/Tijuana:20230411T203000
SEQUENCE:0
TRANSP:OPAQUE
END:VEVENT
END:VCALENDAR