BEGIN:VCALENDAR
VERSION:2.0
PRODID:-//jEvents 2.0 for Joomla//EN
CALSCALE:GREGORIAN
METHOD:PUBLISH
BEGIN:VTIMEZONE
TZID:America/Tijuana
BEGIN:STANDARD
DTSTART:20221106T010000
RDATE:20230312T030000
TZOFFSETFROM:-0700
TZOFFSETTO:-0800
TZNAME:America/Tijuana PST
END:STANDARD
BEGIN:STANDARD
DTSTART:20231105T010000
RDATE:20240310T030000
TZOFFSETFROM:-0700
TZOFFSETTO:-0800
TZNAME:America/Tijuana PST
END:STANDARD
BEGIN:STANDARD
DTSTART:20241103T010000
RDATE:20250309T030000
TZOFFSETFROM:-0700
TZOFFSETTO:-0800
TZNAME:America/Tijuana PST
END:STANDARD
BEGIN:STANDARD
DTSTART:20251102T010000
RDATE:20260308T030000
TZOFFSETFROM:-0700
TZOFFSETTO:-0800
TZNAME:America/Tijuana PST
END:STANDARD
BEGIN:STANDARD
DTSTART:20261101T010000
RDATE:20270314T030000
TZOFFSETFROM:-0700
TZOFFSETTO:-0800
TZNAME:America/Tijuana PST
END:STANDARD
BEGIN:STANDARD
DTSTART:20271107T010000
RDATE:20280312T030000
TZOFFSETFROM:-0700
TZOFFSETTO:-0800
TZNAME:America/Tijuana PST
END:STANDARD
BEGIN:DAYLIGHT
DTSTART:20220508T190000
RDATE:20221106T010000
TZOFFSETFROM:-0800
TZOFFSETTO:-0700
TZNAME:America/Tijuana PDT
END:DAYLIGHT
BEGIN:DAYLIGHT
DTSTART:20230312T030000
RDATE:20231105T010000
TZOFFSETFROM:-0800
TZOFFSETTO:-0700
TZNAME:America/Tijuana PDT
END:DAYLIGHT
BEGIN:DAYLIGHT
DTSTART:20240310T030000
RDATE:20241103T010000
TZOFFSETFROM:-0800
TZOFFSETTO:-0700
TZNAME:America/Tijuana PDT
END:DAYLIGHT
BEGIN:DAYLIGHT
DTSTART:20250309T030000
RDATE:20251102T010000
TZOFFSETFROM:-0800
TZOFFSETTO:-0700
TZNAME:America/Tijuana PDT
END:DAYLIGHT
BEGIN:DAYLIGHT
DTSTART:20260308T030000
RDATE:20261101T010000
TZOFFSETFROM:-0800
TZOFFSETTO:-0700
TZNAME:America/Tijuana PDT
END:DAYLIGHT
BEGIN:DAYLIGHT
DTSTART:20270314T030000
RDATE:20271107T010000
TZOFFSETFROM:-0800
TZOFFSETTO:-0700
TZNAME:America/Tijuana PDT
END:DAYLIGHT
END:VTIMEZONE
BEGIN:VEVENT
UID:215ba48367db750e2c8a180752efc51a
CATEGORIES:Meetings
CREATED:20230227T130842
SUMMARY:Conservation Committee
LOCATION:Zoom
DESCRIPTION:This committee covers many issues affecting native plants: conservation, ad
 vocacy, legislation, habitat restoration and rare plants. The committee mee
 ts once a month to provide information and support for all of these conserv
 ation issues and efforts. Members of our committee work on projects through
 out the Chapter area, coordinating with our state CNPS program staff and ot
 her conservation organizations.\nPlease join us in our important work! For 
 questions, comments or concerns, contact Committee Chair Carolyn Dorsch at 
 This email address is being protected from spambots. You need JavaScript en
 abled to view it.
				document.getElementById('cloakf16ec98309639f5f66ca0fb
 4623af93b').innerHTML = '';
				var prefix = '&#109;a' + 'i&#108;' + '&#116
 ;o';
				var path = 'hr' + 'ef' + '=';
				var addyf16ec98309639f5f66ca0fb4
 623af93b = 'cd&#111;rsch' + '&#64;';
				addyf16ec98309639f5f66ca0fb4623af9
 3b = addyf16ec98309639f5f66ca0fb4623af93b + 'cnps-scv' + '&#46;' + '&#111;r
 g';
				var addy_textf16ec98309639f5f66ca0fb4623af93b = 'cd&#111;rsch' + '&
 #64;' + 'cnps-scv' + '&#46;' + '&#111;rg';document.getElementById('cloakf16
 ec98309639f5f66ca0fb4623af93b').innerHTML += '<a ' + path + '\'' + prefix +
  ':' + addyf16ec98309639f5f66ca0fb4623af93b + '\'>'+addy_textf16ec98309639f
 5f66ca0fb4623af93b+'';
		 or (650) 804-6162, or Conservation Chair Judy Fen
 erty at This email address is being protected from spambots. You need JavaS
 cript enabled to view it.
				document.getElementById('cloak2826e83b2de8780
 0fb1cde7353811a37').innerHTML = '';
				var prefix = '&amp;#109;a' + 'i&amp
 ;#108;' + '&amp;#116;o';
				var path = 'hr' + 'ef' + '=';
				var addy2826
 e83b2de87800fb1cde7353811a37 = 'j&amp;#117;dy' + '&amp;#64;';
				addy2826e
 83b2de87800fb1cde7353811a37 = addy2826e83b2de87800fb1cde7353811a37 + 'f&amp
 ;#101;n&amp;#101;rty' + '&amp;#46;' + 'c&amp;#111;m';
				var addy_text2826
 e83b2de87800fb1cde7353811a37 = 'j&amp;#117;dy' + '&amp;#64;' + 'f&amp;#101;
 n&amp;#101;rty' + '&amp;#46;' + 'c&amp;#111;m';document.getElementById('clo
 ak2826e83b2de87800fb1cde7353811a37').innerHTML += '&lt;a ' + path + '\'' + 
 prefix + ':' + addy2826e83b2de87800fb1cde7353811a37 + '\'&gt;'+addy_text282
 6e83b2de87800fb1cde7353811a37+'&lt;\/a&gt;';
		. (mailto:judy@fenerty.com.)
  If you are interested in joining our committee meetings on Zoom, please em
 ail Carolyn for the link.\n
X-ALT-DESC;FMTTYPE=text/html:<div class="page" title="Page 3"><div class="layoutArea"><div class="column
 "><p>This committee covers many issues affecting native plants: conservatio
 n, advocacy, legislation, habitat restoration and rare plants. The committe
 e meets once a month to provide information and support for all of these co
 nservation issues and efforts. Members of our committee work on projects th
 roughout the Chapter area, coordinating with our state CNPS program staff a
 nd other conservation organizations.</p></div></div></div><div class="page"
  title="Page 3"><div class="layoutArea"><div class="column"><p>Please join 
 us in our important work! For questions, comments or concerns, contact Comm
 ittee Chair Carolyn Dorsch at <span id="cloakf16ec98309639f5f66ca0fb4623af9
 3b">This email address is being protected from spambots. You need JavaScrip
 t enabled to view it.</span><script type='text/javascript'>
				document.ge
 tElementById('cloakf16ec98309639f5f66ca0fb4623af93b').innerHTML = '';
				v
 ar prefix = '&#109;a' + 'i&#108;' + '&#116;o';
				var path = 'hr' + 'ef' +
  '=';
				var addyf16ec98309639f5f66ca0fb4623af93b = 'cd&#111;rsch' + '&#64
 ;';
				addyf16ec98309639f5f66ca0fb4623af93b = addyf16ec98309639f5f66ca0fb4
 623af93b + 'cnps-scv' + '&#46;' + '&#111;rg';
				var addy_textf16ec9830963
 9f5f66ca0fb4623af93b = 'cd&#111;rsch' + '&#64;' + 'cnps-scv' + '&#46;' + '&
 #111;rg';document.getElementById('cloakf16ec98309639f5f66ca0fb4623af93b').i
 nnerHTML += '<a ' + path + '\'' + prefix + ':' + addyf16ec98309639f5f66ca0f
 b4623af93b + '\'>'+addy_textf16ec98309639f5f66ca0fb4623af93b+'<\/a>';
		</s
 cript> or (650) 804-6162, or Conservation Chair Judy Fenerty at <a href="ma
 ilto:judy@fenerty.com."><span id="cloak2826e83b2de87800fb1cde7353811a37">Th
 is email address is being protected from spambots. You need JavaScript enab
 led to view it.</span><script type='text/javascript'>
				document.getEleme
 ntById('cloak2826e83b2de87800fb1cde7353811a37').innerHTML = '';
				var pre
 fix = '&#109;a' + 'i&#108;' + '&#116;o';
				var path = 'hr' + 'ef' + '=';

 				var addy2826e83b2de87800fb1cde7353811a37 = 'j&#117;dy' + '&#64;';
				a
 ddy2826e83b2de87800fb1cde7353811a37 = addy2826e83b2de87800fb1cde7353811a37 
 + 'f&#101;n&#101;rty' + '&#46;' + 'c&#111;m';
				var addy_text2826e83b2de8
 7800fb1cde7353811a37 = 'j&#117;dy' + '&#64;' + 'f&#101;n&#101;rty' + '&#46;
 ' + 'c&#111;m';document.getElementById('cloak2826e83b2de87800fb1cde7353811a
 37').innerHTML += '<a ' + path + '\'' + prefix + ':' + addy2826e83b2de87800
 fb1cde7353811a37 + '\'>'+addy_text2826e83b2de87800fb1cde7353811a37+'<\/a>';
 
		</script>.</a> If you are interested in joining our committee meetings o
 n Zoom, please email Carolyn for the link.</p></div></div></div>
CONTACT:Carolyn Dorsch at This email address is being protected from spambots. You need JavaScript enabled to view it.
				document.getElementById('cloak824919ad3f8047cc6e576d8663635883').innerHTML = '';
				var prefix = '&#109;a' + 'i&#108;' + '&#116;o';
				var path = 'hr' + 'ef' + '=';
				var addy824919ad3f8047cc6e576d8663635883 = 'cd&#111;rsch' + '&#64;';
				addy824919ad3f8047cc6e576d8663635883 = addy824919ad3f8047cc6e576d8663635883 + 'cnps-scv' + '&#46;' + '&#111;rg';
				var addy_text824919ad3f8047cc6e576d8663635883 = 'cd&#111;rsch' + '&#64;' + 'cnps-scv' + '&#46;' + '&#111;rg';document.getElementById('cloak824919ad3f8047cc6e576d8663635883').innerHTML += '<a ' + path + '\'' + prefix + ':' + addy824919ad3f8047cc6e576d8663635883 + '\'>'+addy_text824919ad3f8047cc6e576d8663635883+'';
		 or (650) 804-6162
DTSTAMP:20260425T123052
DTSTART;TZID=America/Tijuana:20230509T190000
DTEND;TZID=America/Tijuana:20230509T203000
SEQUENCE:0
TRANSP:OPAQUE
END:VEVENT
END:VCALENDAR