BEGIN:VCALENDAR
VERSION:2.0
PRODID:-//jEvents 2.0 for Joomla//EN
CALSCALE:GREGORIAN
METHOD:PUBLISH
BEGIN:VTIMEZONE
TZID:America/Tijuana
BEGIN:STANDARD
DTSTART:20221106T010000
RDATE:20230312T030000
TZOFFSETFROM:-0700
TZOFFSETTO:-0800
TZNAME:America/Tijuana PST
END:STANDARD
BEGIN:STANDARD
DTSTART:20231105T010000
RDATE:20240310T030000
TZOFFSETFROM:-0700
TZOFFSETTO:-0800
TZNAME:America/Tijuana PST
END:STANDARD
BEGIN:STANDARD
DTSTART:20241103T010000
RDATE:20250309T030000
TZOFFSETFROM:-0700
TZOFFSETTO:-0800
TZNAME:America/Tijuana PST
END:STANDARD
BEGIN:STANDARD
DTSTART:20251102T010000
RDATE:20260308T030000
TZOFFSETFROM:-0700
TZOFFSETTO:-0800
TZNAME:America/Tijuana PST
END:STANDARD
BEGIN:STANDARD
DTSTART:20261101T010000
RDATE:20270314T030000
TZOFFSETFROM:-0700
TZOFFSETTO:-0800
TZNAME:America/Tijuana PST
END:STANDARD
BEGIN:STANDARD
DTSTART:20271107T010000
RDATE:20280312T030000
TZOFFSETFROM:-0700
TZOFFSETTO:-0800
TZNAME:America/Tijuana PST
END:STANDARD
BEGIN:DAYLIGHT
DTSTART:20220612T190000
RDATE:20221106T010000
TZOFFSETFROM:-0800
TZOFFSETTO:-0700
TZNAME:America/Tijuana PDT
END:DAYLIGHT
BEGIN:DAYLIGHT
DTSTART:20230312T030000
RDATE:20231105T010000
TZOFFSETFROM:-0800
TZOFFSETTO:-0700
TZNAME:America/Tijuana PDT
END:DAYLIGHT
BEGIN:DAYLIGHT
DTSTART:20240310T030000
RDATE:20241103T010000
TZOFFSETFROM:-0800
TZOFFSETTO:-0700
TZNAME:America/Tijuana PDT
END:DAYLIGHT
BEGIN:DAYLIGHT
DTSTART:20250309T030000
RDATE:20251102T010000
TZOFFSETFROM:-0800
TZOFFSETTO:-0700
TZNAME:America/Tijuana PDT
END:DAYLIGHT
BEGIN:DAYLIGHT
DTSTART:20260308T030000
RDATE:20261101T010000
TZOFFSETFROM:-0800
TZOFFSETTO:-0700
TZNAME:America/Tijuana PDT
END:DAYLIGHT
BEGIN:DAYLIGHT
DTSTART:20270314T030000
RDATE:20271107T010000
TZOFFSETFROM:-0800
TZOFFSETTO:-0700
TZNAME:America/Tijuana PDT
END:DAYLIGHT
END:VTIMEZONE
BEGIN:VEVENT
UID:215ba48367db750e2c8a180752efc51a
CATEGORIES:Meetings
CREATED:20230227T130842
SUMMARY:Conservation Committee
LOCATION:Zoom
DESCRIPTION:This committee covers many issues affecting native plants: conservation, ad
 vocacy, legislation, habitat restoration and rare plants. The committee mee
 ts once a month to provide information and support for all of these conserv
 ation issues and efforts. Members of our committee work on projects through
 out the Chapter area, coordinating with our state CNPS program staff and ot
 her conservation organizations.\nPlease join us in our important work! For 
 questions, comments or concerns, contact Committee Chair Carolyn Dorsch at 
 This email address is being protected from spambots. You need JavaScript en
 abled to view it.
				document.getElementById('cloak1220b62a0d54f8240c972e4
 9193996fd').innerHTML = '';
				var prefix = '&#109;a' + 'i&#108;' + '&#116
 ;o';
				var path = 'hr' + 'ef' + '=';
				var addy1220b62a0d54f8240c972e49
 193996fd = 'cd&#111;rsch' + '&#64;';
				addy1220b62a0d54f8240c972e49193996
 fd = addy1220b62a0d54f8240c972e49193996fd + 'cnps-scv' + '&#46;' + '&#111;r
 g';
				var addy_text1220b62a0d54f8240c972e49193996fd = 'cd&#111;rsch' + '&
 #64;' + 'cnps-scv' + '&#46;' + '&#111;rg';document.getElementById('cloak122
 0b62a0d54f8240c972e49193996fd').innerHTML += '<a ' + path + '\'' + prefix +
  ':' + addy1220b62a0d54f8240c972e49193996fd + '\'>'+addy_text1220b62a0d54f8
 240c972e49193996fd+'';
		 or (650) 804-6162, or Conservation Chair Judy Fen
 erty at This email address is being protected from spambots. You need JavaS
 cript enabled to view it.
				document.getElementById('cloak77ab7b9f5b4b687
 703a55d46ed2814d6').innerHTML = '';
				var prefix = '&amp;#109;a' + 'i&amp
 ;#108;' + '&amp;#116;o';
				var path = 'hr' + 'ef' + '=';
				var addy77ab
 7b9f5b4b687703a55d46ed2814d6 = 'j&amp;#117;dy' + '&amp;#64;';
				addy77ab7
 b9f5b4b687703a55d46ed2814d6 = addy77ab7b9f5b4b687703a55d46ed2814d6 + 'f&amp
 ;#101;n&amp;#101;rty' + '&amp;#46;' + 'c&amp;#111;m';
				var addy_text77ab
 7b9f5b4b687703a55d46ed2814d6 = 'j&amp;#117;dy' + '&amp;#64;' + 'f&amp;#101;
 n&amp;#101;rty' + '&amp;#46;' + 'c&amp;#111;m';document.getElementById('clo
 ak77ab7b9f5b4b687703a55d46ed2814d6').innerHTML += '&lt;a ' + path + '\'' + 
 prefix + ':' + addy77ab7b9f5b4b687703a55d46ed2814d6 + '\'&gt;'+addy_text77a
 b7b9f5b4b687703a55d46ed2814d6+'&lt;\/a&gt;';
		. (mailto:judy@fenerty.com.)
  If you are interested in joining our committee meetings on Zoom, please em
 ail Carolyn for the link.\n
X-ALT-DESC;FMTTYPE=text/html:<div class="page" title="Page 3"><div class="layoutArea"><div class="column
 "><p>This committee covers many issues affecting native plants: conservatio
 n, advocacy, legislation, habitat restoration and rare plants. The committe
 e meets once a month to provide information and support for all of these co
 nservation issues and efforts. Members of our committee work on projects th
 roughout the Chapter area, coordinating with our state CNPS program staff a
 nd other conservation organizations.</p></div></div></div><div class="page"
  title="Page 3"><div class="layoutArea"><div class="column"><p>Please join 
 us in our important work! For questions, comments or concerns, contact Comm
 ittee Chair Carolyn Dorsch at <span id="cloak1220b62a0d54f8240c972e49193996
 fd">This email address is being protected from spambots. You need JavaScrip
 t enabled to view it.</span><script type='text/javascript'>
				document.ge
 tElementById('cloak1220b62a0d54f8240c972e49193996fd').innerHTML = '';
				v
 ar prefix = '&#109;a' + 'i&#108;' + '&#116;o';
				var path = 'hr' + 'ef' +
  '=';
				var addy1220b62a0d54f8240c972e49193996fd = 'cd&#111;rsch' + '&#64
 ;';
				addy1220b62a0d54f8240c972e49193996fd = addy1220b62a0d54f8240c972e49
 193996fd + 'cnps-scv' + '&#46;' + '&#111;rg';
				var addy_text1220b62a0d54
 f8240c972e49193996fd = 'cd&#111;rsch' + '&#64;' + 'cnps-scv' + '&#46;' + '&
 #111;rg';document.getElementById('cloak1220b62a0d54f8240c972e49193996fd').i
 nnerHTML += '<a ' + path + '\'' + prefix + ':' + addy1220b62a0d54f8240c972e
 49193996fd + '\'>'+addy_text1220b62a0d54f8240c972e49193996fd+'<\/a>';
		</s
 cript> or (650) 804-6162, or Conservation Chair Judy Fenerty at <a href="ma
 ilto:judy@fenerty.com."><span id="cloak77ab7b9f5b4b687703a55d46ed2814d6">Th
 is email address is being protected from spambots. You need JavaScript enab
 led to view it.</span><script type='text/javascript'>
				document.getEleme
 ntById('cloak77ab7b9f5b4b687703a55d46ed2814d6').innerHTML = '';
				var pre
 fix = '&#109;a' + 'i&#108;' + '&#116;o';
				var path = 'hr' + 'ef' + '=';

 				var addy77ab7b9f5b4b687703a55d46ed2814d6 = 'j&#117;dy' + '&#64;';
				a
 ddy77ab7b9f5b4b687703a55d46ed2814d6 = addy77ab7b9f5b4b687703a55d46ed2814d6 
 + 'f&#101;n&#101;rty' + '&#46;' + 'c&#111;m';
				var addy_text77ab7b9f5b4b
 687703a55d46ed2814d6 = 'j&#117;dy' + '&#64;' + 'f&#101;n&#101;rty' + '&#46;
 ' + 'c&#111;m';document.getElementById('cloak77ab7b9f5b4b687703a55d46ed2814
 d6').innerHTML += '<a ' + path + '\'' + prefix + ':' + addy77ab7b9f5b4b6877
 03a55d46ed2814d6 + '\'>'+addy_text77ab7b9f5b4b687703a55d46ed2814d6+'<\/a>';
 
		</script>.</a> If you are interested in joining our committee meetings o
 n Zoom, please email Carolyn for the link.</p></div></div></div>
CONTACT:Carolyn Dorsch at This email address is being protected from spambots. You need JavaScript enabled to view it.
				document.getElementById('cloake5dbf51f09964146c0eeee271f3fcea5').innerHTML = '';
				var prefix = '&#109;a' + 'i&#108;' + '&#116;o';
				var path = 'hr' + 'ef' + '=';
				var addye5dbf51f09964146c0eeee271f3fcea5 = 'cd&#111;rsch' + '&#64;';
				addye5dbf51f09964146c0eeee271f3fcea5 = addye5dbf51f09964146c0eeee271f3fcea5 + 'cnps-scv' + '&#46;' + '&#111;rg';
				var addy_texte5dbf51f09964146c0eeee271f3fcea5 = 'cd&#111;rsch' + '&#64;' + 'cnps-scv' + '&#46;' + '&#111;rg';document.getElementById('cloake5dbf51f09964146c0eeee271f3fcea5').innerHTML += '<a ' + path + '\'' + prefix + ':' + addye5dbf51f09964146c0eeee271f3fcea5 + '\'>'+addy_texte5dbf51f09964146c0eeee271f3fcea5+'';
		 or (650) 804-6162
DTSTAMP:20260424T210801
DTSTART;TZID=America/Tijuana:20230613T190000
DTEND;TZID=America/Tijuana:20230613T203000
SEQUENCE:0
TRANSP:OPAQUE
END:VEVENT
END:VCALENDAR