BEGIN:VCALENDAR
VERSION:2.0
PRODID:-//jEvents 2.0 for Joomla//EN
CALSCALE:GREGORIAN
METHOD:PUBLISH
BEGIN:VTIMEZONE
TZID:America/Tijuana
BEGIN:STANDARD
DTSTART:20221106T010000
RDATE:20230312T030000
TZOFFSETFROM:-0700
TZOFFSETTO:-0800
TZNAME:America/Tijuana PST
END:STANDARD
BEGIN:STANDARD
DTSTART:20231105T010000
RDATE:20240310T030000
TZOFFSETFROM:-0700
TZOFFSETTO:-0800
TZNAME:America/Tijuana PST
END:STANDARD
BEGIN:STANDARD
DTSTART:20241103T010000
RDATE:20250309T030000
TZOFFSETFROM:-0700
TZOFFSETTO:-0800
TZNAME:America/Tijuana PST
END:STANDARD
BEGIN:STANDARD
DTSTART:20251102T010000
RDATE:20260308T030000
TZOFFSETFROM:-0700
TZOFFSETTO:-0800
TZNAME:America/Tijuana PST
END:STANDARD
BEGIN:STANDARD
DTSTART:20261101T010000
RDATE:20270314T030000
TZOFFSETFROM:-0700
TZOFFSETTO:-0800
TZNAME:America/Tijuana PST
END:STANDARD
BEGIN:STANDARD
DTSTART:20271107T010000
RDATE:20280312T030000
TZOFFSETFROM:-0700
TZOFFSETTO:-0800
TZNAME:America/Tijuana PST
END:STANDARD
BEGIN:DAYLIGHT
DTSTART:20221009T190000
RDATE:20221106T010000
TZOFFSETFROM:-0800
TZOFFSETTO:-0700
TZNAME:America/Tijuana PDT
END:DAYLIGHT
BEGIN:DAYLIGHT
DTSTART:20230312T030000
RDATE:20231105T010000
TZOFFSETFROM:-0800
TZOFFSETTO:-0700
TZNAME:America/Tijuana PDT
END:DAYLIGHT
BEGIN:DAYLIGHT
DTSTART:20240310T030000
RDATE:20241103T010000
TZOFFSETFROM:-0800
TZOFFSETTO:-0700
TZNAME:America/Tijuana PDT
END:DAYLIGHT
BEGIN:DAYLIGHT
DTSTART:20250309T030000
RDATE:20251102T010000
TZOFFSETFROM:-0800
TZOFFSETTO:-0700
TZNAME:America/Tijuana PDT
END:DAYLIGHT
BEGIN:DAYLIGHT
DTSTART:20260308T030000
RDATE:20261101T010000
TZOFFSETFROM:-0800
TZOFFSETTO:-0700
TZNAME:America/Tijuana PDT
END:DAYLIGHT
BEGIN:DAYLIGHT
DTSTART:20270314T030000
RDATE:20271107T010000
TZOFFSETFROM:-0800
TZOFFSETTO:-0700
TZNAME:America/Tijuana PDT
END:DAYLIGHT
END:VTIMEZONE
BEGIN:VEVENT
UID:215ba48367db750e2c8a180752efc51a
CATEGORIES:Meetings
CREATED:20230227T130842
SUMMARY:Conservation Committee
LOCATION:Zoom
DESCRIPTION:This committee covers many issues affecting native plants: conservation, ad
 vocacy, legislation, habitat restoration and rare plants. The committee mee
 ts once a month to provide information and support for all of these conserv
 ation issues and efforts. Members of our committee work on projects through
 out the Chapter area, coordinating with our state CNPS program staff and ot
 her conservation organizations.\nPlease join us in our important work! For 
 questions, comments or concerns, contact Committee Chair Carolyn Dorsch at 
 This email address is being protected from spambots. You need JavaScript en
 abled to view it.
				document.getElementById('cloakddc9edf53db1a02b914dee2
 03d56d832').innerHTML = '';
				var prefix = '&#109;a' + 'i&#108;' + '&#116
 ;o';
				var path = 'hr' + 'ef' + '=';
				var addyddc9edf53db1a02b914dee20
 3d56d832 = 'cd&#111;rsch' + '&#64;';
				addyddc9edf53db1a02b914dee203d56d8
 32 = addyddc9edf53db1a02b914dee203d56d832 + 'cnps-scv' + '&#46;' + '&#111;r
 g';
				var addy_textddc9edf53db1a02b914dee203d56d832 = 'cd&#111;rsch' + '&
 #64;' + 'cnps-scv' + '&#46;' + '&#111;rg';document.getElementById('cloakddc
 9edf53db1a02b914dee203d56d832').innerHTML += '<a ' + path + '\'' + prefix +
  ':' + addyddc9edf53db1a02b914dee203d56d832 + '\'>'+addy_textddc9edf53db1a0
 2b914dee203d56d832+'';
		 or (650) 804-6162, or Conservation Chair Judy Fen
 erty at This email address is being protected from spambots. You need JavaS
 cript enabled to view it.
				document.getElementById('cloakcc84ecb8db3db86
 82e71b35072fb55ac').innerHTML = '';
				var prefix = '&amp;#109;a' + 'i&amp
 ;#108;' + '&amp;#116;o';
				var path = 'hr' + 'ef' + '=';
				var addycc84
 ecb8db3db8682e71b35072fb55ac = 'j&amp;#117;dy' + '&amp;#64;';
				addycc84e
 cb8db3db8682e71b35072fb55ac = addycc84ecb8db3db8682e71b35072fb55ac + 'f&amp
 ;#101;n&amp;#101;rty' + '&amp;#46;' + 'c&amp;#111;m';
				var addy_textcc84
 ecb8db3db8682e71b35072fb55ac = 'j&amp;#117;dy' + '&amp;#64;' + 'f&amp;#101;
 n&amp;#101;rty' + '&amp;#46;' + 'c&amp;#111;m';document.getElementById('clo
 akcc84ecb8db3db8682e71b35072fb55ac').innerHTML += '&lt;a ' + path + '\'' + 
 prefix + ':' + addycc84ecb8db3db8682e71b35072fb55ac + '\'&gt;'+addy_textcc8
 4ecb8db3db8682e71b35072fb55ac+'&lt;\/a&gt;';
		. (mailto:judy@fenerty.com.)
  If you are interested in joining our committee meetings on Zoom, please em
 ail Carolyn for the link.\n
X-ALT-DESC;FMTTYPE=text/html:<div class="page" title="Page 3"><div class="layoutArea"><div class="column
 "><p>This committee covers many issues affecting native plants: conservatio
 n, advocacy, legislation, habitat restoration and rare plants. The committe
 e meets once a month to provide information and support for all of these co
 nservation issues and efforts. Members of our committee work on projects th
 roughout the Chapter area, coordinating with our state CNPS program staff a
 nd other conservation organizations.</p></div></div></div><div class="page"
  title="Page 3"><div class="layoutArea"><div class="column"><p>Please join 
 us in our important work! For questions, comments or concerns, contact Comm
 ittee Chair Carolyn Dorsch at <span id="cloakddc9edf53db1a02b914dee203d56d8
 32">This email address is being protected from spambots. You need JavaScrip
 t enabled to view it.</span><script type='text/javascript'>
				document.ge
 tElementById('cloakddc9edf53db1a02b914dee203d56d832').innerHTML = '';
				v
 ar prefix = '&#109;a' + 'i&#108;' + '&#116;o';
				var path = 'hr' + 'ef' +
  '=';
				var addyddc9edf53db1a02b914dee203d56d832 = 'cd&#111;rsch' + '&#64
 ;';
				addyddc9edf53db1a02b914dee203d56d832 = addyddc9edf53db1a02b914dee20
 3d56d832 + 'cnps-scv' + '&#46;' + '&#111;rg';
				var addy_textddc9edf53db1
 a02b914dee203d56d832 = 'cd&#111;rsch' + '&#64;' + 'cnps-scv' + '&#46;' + '&
 #111;rg';document.getElementById('cloakddc9edf53db1a02b914dee203d56d832').i
 nnerHTML += '<a ' + path + '\'' + prefix + ':' + addyddc9edf53db1a02b914dee
 203d56d832 + '\'>'+addy_textddc9edf53db1a02b914dee203d56d832+'<\/a>';
		</s
 cript> or (650) 804-6162, or Conservation Chair Judy Fenerty at <a href="ma
 ilto:judy@fenerty.com."><span id="cloakcc84ecb8db3db8682e71b35072fb55ac">Th
 is email address is being protected from spambots. You need JavaScript enab
 led to view it.</span><script type='text/javascript'>
				document.getEleme
 ntById('cloakcc84ecb8db3db8682e71b35072fb55ac').innerHTML = '';
				var pre
 fix = '&#109;a' + 'i&#108;' + '&#116;o';
				var path = 'hr' + 'ef' + '=';

 				var addycc84ecb8db3db8682e71b35072fb55ac = 'j&#117;dy' + '&#64;';
				a
 ddycc84ecb8db3db8682e71b35072fb55ac = addycc84ecb8db3db8682e71b35072fb55ac 
 + 'f&#101;n&#101;rty' + '&#46;' + 'c&#111;m';
				var addy_textcc84ecb8db3d
 b8682e71b35072fb55ac = 'j&#117;dy' + '&#64;' + 'f&#101;n&#101;rty' + '&#46;
 ' + 'c&#111;m';document.getElementById('cloakcc84ecb8db3db8682e71b35072fb55
 ac').innerHTML += '<a ' + path + '\'' + prefix + ':' + addycc84ecb8db3db868
 2e71b35072fb55ac + '\'>'+addy_textcc84ecb8db3db8682e71b35072fb55ac+'<\/a>';
 
		</script>.</a> If you are interested in joining our committee meetings o
 n Zoom, please email Carolyn for the link.</p></div></div></div>
CONTACT:Carolyn Dorsch at This email address is being protected from spambots. You need JavaScript enabled to view it.
				document.getElementById('cloaka62e9d2454dff2dfc07a2dffea2648f0').innerHTML = '';
				var prefix = '&#109;a' + 'i&#108;' + '&#116;o';
				var path = 'hr' + 'ef' + '=';
				var addya62e9d2454dff2dfc07a2dffea2648f0 = 'cd&#111;rsch' + '&#64;';
				addya62e9d2454dff2dfc07a2dffea2648f0 = addya62e9d2454dff2dfc07a2dffea2648f0 + 'cnps-scv' + '&#46;' + '&#111;rg';
				var addy_texta62e9d2454dff2dfc07a2dffea2648f0 = 'cd&#111;rsch' + '&#64;' + 'cnps-scv' + '&#46;' + '&#111;rg';document.getElementById('cloaka62e9d2454dff2dfc07a2dffea2648f0').innerHTML += '<a ' + path + '\'' + prefix + ':' + addya62e9d2454dff2dfc07a2dffea2648f0 + '\'>'+addy_texta62e9d2454dff2dfc07a2dffea2648f0+'';
		 or (650) 804-6162
DTSTAMP:20260425T202122
DTSTART;TZID=America/Tijuana:20231010T190000
DTEND;TZID=America/Tijuana:20231010T203000
SEQUENCE:0
TRANSP:OPAQUE
END:VEVENT
END:VCALENDAR