BEGIN:VCALENDAR
VERSION:2.0
PRODID:-//jEvents 2.0 for Joomla//EN
CALSCALE:GREGORIAN
METHOD:PUBLISH
BEGIN:VTIMEZONE
TZID:America/Tijuana
BEGIN:STANDARD
DTSTART:20221106T010000
RDATE:20230312T030000
TZOFFSETFROM:-0700
TZOFFSETTO:-0800
TZNAME:America/Tijuana PST
END:STANDARD
BEGIN:STANDARD
DTSTART:20231105T010000
RDATE:20240310T030000
TZOFFSETFROM:-0700
TZOFFSETTO:-0800
TZNAME:America/Tijuana PST
END:STANDARD
BEGIN:STANDARD
DTSTART:20241103T010000
RDATE:20250309T030000
TZOFFSETFROM:-0700
TZOFFSETTO:-0800
TZNAME:America/Tijuana PST
END:STANDARD
BEGIN:STANDARD
DTSTART:20251102T010000
RDATE:20260308T030000
TZOFFSETFROM:-0700
TZOFFSETTO:-0800
TZNAME:America/Tijuana PST
END:STANDARD
BEGIN:STANDARD
DTSTART:20261101T010000
RDATE:20270314T030000
TZOFFSETFROM:-0700
TZOFFSETTO:-0800
TZNAME:America/Tijuana PST
END:STANDARD
BEGIN:STANDARD
DTSTART:20271107T010000
RDATE:20280312T030000
TZOFFSETFROM:-0700
TZOFFSETTO:-0800
TZNAME:America/Tijuana PST
END:STANDARD
BEGIN:DAYLIGHT
DTSTART:20221012T090000
RDATE:20221106T010000
TZOFFSETFROM:-0800
TZOFFSETTO:-0700
TZNAME:America/Tijuana PDT
END:DAYLIGHT
BEGIN:DAYLIGHT
DTSTART:20230312T030000
RDATE:20231105T010000
TZOFFSETFROM:-0800
TZOFFSETTO:-0700
TZNAME:America/Tijuana PDT
END:DAYLIGHT
BEGIN:DAYLIGHT
DTSTART:20240310T030000
RDATE:20241103T010000
TZOFFSETFROM:-0800
TZOFFSETTO:-0700
TZNAME:America/Tijuana PDT
END:DAYLIGHT
BEGIN:DAYLIGHT
DTSTART:20250309T030000
RDATE:20251102T010000
TZOFFSETFROM:-0800
TZOFFSETTO:-0700
TZNAME:America/Tijuana PDT
END:DAYLIGHT
BEGIN:DAYLIGHT
DTSTART:20260308T030000
RDATE:20261101T010000
TZOFFSETFROM:-0800
TZOFFSETTO:-0700
TZNAME:America/Tijuana PDT
END:DAYLIGHT
BEGIN:DAYLIGHT
DTSTART:20270314T030000
RDATE:20271107T010000
TZOFFSETFROM:-0800
TZOFFSETTO:-0700
TZNAME:America/Tijuana PDT
END:DAYLIGHT
END:VTIMEZONE
BEGIN:VEVENT
UID:1c69862eb3c9bda03b7b143040bd5376
CATEGORIES:Habitat
CREATED:20230926T112512
SUMMARY:Friday Edgewood Restoration
LOCATION:Varies - join the email group to receive weekly notices.
DESCRIPTION:The Edgewood Weed Warriors operate under a permit issued to the Friends of 
 Edgewood. They meet regularly to remove invasive plants at Edgewood Park an
 d Natural Preserve (https://friendsofedgewood.org/), thereby allowing for g
 reater biodiversity, natural habitats, and those beautiful wildflower displ
 ays that everyone enjoys.\nThe Weed Warriors normally meet at 9:00 AM on Fr
 iday throughout the year and on Wednesday afternoons during daylight saving
 s time. Special sessions may be added with notice given at the beginning of
  the month.\nNotice of the meeting location and time for each session is se
 nt to the Weed Warrior email group each week - do not go to the park and ex
 pect to find the weeding group if you are not on the email list. If you wis
 h to be added to the Weed Warriors email, contact the Weed Warrior program 
 coordinator, Paul Heiple, at This email address is being protected from spa
 mbots. You need JavaScript enabled to view it.
				document.getElementById(
 'cloak55769c5f0e5e176ee890d7a2345dbf77').innerHTML = '';
				var prefix = '
 &#109;a' + 'i&#108;' + '&#116;o';
				var path = 'hr' + 'ef' + '=';
				var
  addy55769c5f0e5e176ee890d7a2345dbf77 = 'w&#101;&#101;d-w&#97;rr&#105;&#111
 ;rs-c&#111;&#111;rd' + '&#64;';
				addy55769c5f0e5e176ee890d7a2345dbf77 = 
 addy55769c5f0e5e176ee890d7a2345dbf77 + 'fr&#105;&#101;nds&#111;f&#101;dg&#1
 01;w&#111;&#111;d' + '&#46;' + '&#111;rg';
				var addy_text55769c5f0e5e176
 ee890d7a2345dbf77 = 'w&#101;&#101;d-w&#97;rr&#105;&#111;rs-c&#111;&#111;rd@
 fr&#105;&#101;nds&#111;f&#101;dg&#101;w&#111;&#111;d.&#111;rg.';document.ge
 tElementById('cloak55769c5f0e5e176ee890d7a2345dbf77').innerHTML += '<a ' + 
 path + '\'' + prefix + ':' + addy55769c5f0e5e176ee890d7a2345dbf77 + '\'>'+a
 ddy_text55769c5f0e5e176ee890d7a2345dbf77+'';
		\nNew weeders must fill out 
 forms before they come out. Contact This email address is being protected f
 rom spambots. You need JavaScript enabled to view it.
				document.getEleme
 ntById('cloak9dd459989b7c4140296e38c4693cb1a8').innerHTML = '';
				var pre
 fix = '&#109;a' + 'i&#108;' + '&#116;o';
				var path = 'hr' + 'ef' + '=';

 				var addy9dd459989b7c4140296e38c4693cb1a8 = 'vc' + '&#64;';
				addy9dd4
 59989b7c4140296e38c4693cb1a8 = addy9dd459989b7c4140296e38c4693cb1a8 + 'fr&#
 105;&#101;nds&#111;f&#101;dg&#101;w&#111;&#111;d' + '&#46;' + '&#111;rg';
	
 			var addy_text9dd459989b7c4140296e38c4693cb1a8 = 'vc' + '&#64;' + 'fr&#10
 5;&#101;nds&#111;f&#101;dg&#101;w&#111;&#111;d' + '&#46;' + '&#111;rg';docu
 ment.getElementById('cloak9dd459989b7c4140296e38c4693cb1a8').innerHTML += '
 <a ' + path + '\'' + prefix + ':' + addy9dd459989b7c4140296e38c4693cb1a8 + 
 '\'>'+addy_text9dd459989b7c4140296e38c4693cb1a8+'';
		 for the form to fill
  out.\nSturdy gloves are recommended; you might also want to bring sunscree
 n, water, a hat, layered clothing and wear long sleeves/pants.\n
X-ALT-DESC;FMTTYPE=text/html:<div class="page" title="Page 5"><div class="layoutArea"><div class="column
 "><p>The Edgewood Weed Warriors operate under a permit issued to the Friend
 s of Edgewood. They meet regularly to remove invasive plants at&nbsp;<a hre
 f="https://friendsofedgewood.org/">Edgewood Park and Natural Preserve</a>, 
 thereby allowing for greater biodiversity, natural habitats, and those beau
 tiful wildflower displays that everyone enjoys.</p><p>The Weed Warriors nor
 mally meet at 9:00 AM on Friday throughout the year and on Wednesday aftern
 oons during daylight savings time. Special sessions may be added with notic
 e given at the beginning of the month.</p><p>Notice of the meeting location
  and time for each session is sent to the Weed Warrior email group each wee
 k - <strong>do not go to the park and expect to find the weeding group if y
 ou are not on the email list.</strong> If you wish to be added to the Weed 
 Warriors email, contact the Weed Warrior program coordinator, Paul Heiple, 
 at <span id="cloak55769c5f0e5e176ee890d7a2345dbf77">This email address is b
 eing protected from spambots. You need JavaScript enabled to view it.</span
 ><script type='text/javascript'>
				document.getElementById('cloak55769c5f
 0e5e176ee890d7a2345dbf77').innerHTML = '';
				var prefix = '&#109;a' + 'i&
 #108;' + '&#116;o';
				var path = 'hr' + 'ef' + '=';
				var addy55769c5f0
 e5e176ee890d7a2345dbf77 = 'w&#101;&#101;d-w&#97;rr&#105;&#111;rs-c&#111;&#1
 11;rd' + '&#64;';
				addy55769c5f0e5e176ee890d7a2345dbf77 = addy55769c5f0e
 5e176ee890d7a2345dbf77 + 'fr&#105;&#101;nds&#111;f&#101;dg&#101;w&#111;&#11
 1;d' + '&#46;' + '&#111;rg';
				var addy_text55769c5f0e5e176ee890d7a2345db
 f77 = 'w&#101;&#101;d-w&#97;rr&#105;&#111;rs-c&#111;&#111;rd@fr&#105;&#101;
 nds&#111;f&#101;dg&#101;w&#111;&#111;d.&#111;rg.';document.getElementById('
 cloak55769c5f0e5e176ee890d7a2345dbf77').innerHTML += '<a ' + path + '\'' + 
 prefix + ':' + addy55769c5f0e5e176ee890d7a2345dbf77 + '\'>'+addy_text55769c
 5f0e5e176ee890d7a2345dbf77+'<\/a>';
		</script></p><p><strong>New weeders m
 ust fill out forms before they come out. Contact <span id="cloak9dd459989b7
 c4140296e38c4693cb1a8">This email address is being protected from spambots.
  You need JavaScript enabled to view it.</span><script type='text/javascrip
 t'>
				document.getElementById('cloak9dd459989b7c4140296e38c4693cb1a8').in
 nerHTML = '';
				var prefix = '&#109;a' + 'i&#108;' + '&#116;o';
				var p
 ath = 'hr' + 'ef' + '=';
				var addy9dd459989b7c4140296e38c4693cb1a8 = 'vc
 ' + '&#64;';
				addy9dd459989b7c4140296e38c4693cb1a8 = addy9dd459989b7c414
 0296e38c4693cb1a8 + 'fr&#105;&#101;nds&#111;f&#101;dg&#101;w&#111;&#111;d' 
 + '&#46;' + '&#111;rg';
				var addy_text9dd459989b7c4140296e38c4693cb1a8 =
  'vc' + '&#64;' + 'fr&#105;&#101;nds&#111;f&#101;dg&#101;w&#111;&#111;d' + 
 '&#46;' + '&#111;rg';document.getElementById('cloak9dd459989b7c4140296e38c4
 693cb1a8').innerHTML += '<a ' + path + '\'' + prefix + ':' + addy9dd459989b
 7c4140296e38c4693cb1a8 + '\'>'+addy_text9dd459989b7c4140296e38c4693cb1a8+'<
 \/a>';
		</script> for the form to fill out.</strong></p><p>Sturdy gloves a
 re recommended; you might also want to bring sunscreen, water, a hat, layer
 ed clothing and wear long sleeves/pants.</p></div></div></div>
CONTACT:Friday leader Paul Heiple at This email address is being protected from spambots. You need JavaScript enabled to view it.
				document.getElementById('cloak106734badef730a52b8ee740685a8eb2').innerHTML = '';
				var prefix = '&#109;a' + 'i&#108;' + '&#116;o';
				var path = 'hr' + 'ef' + '=';
				var addy106734badef730a52b8ee740685a8eb2 = 'w&#101;&#101;d-w&#97;rr&#105;&#111;rs-c&#111;&#111;rd' + '&#64;';
				addy106734badef730a52b8ee740685a8eb2 = addy106734badef730a52b8ee740685a8eb2 + 'fr&#105;&#101;nds&#111;f&#101;dg&#101;w&#111;&#111;d' + '&#46;' + '&#111;rg';
				var addy_text106734badef730a52b8ee740685a8eb2 = 'w&#101;&#101;d-w&#97;rr&#105;&#111;rs-c&#111;&#111;rd' + '&#64;' + 'fr&#105;&#101;nds&#111;f&#101;dg&#101;w&#111;&#111;d' + '&#46;' + '&#111;rg';document.getElementById('cloak106734badef730a52b8ee740685a8eb2').innerHTML += '<a ' + path + '\'' + prefix + ':' + addy106734badef730a52b8ee740685a8eb2 + '\'>'+addy_text106734badef730a52b8ee740685a8eb2+'';
		
DTSTAMP:20260424T045958
DTSTART;TZID=America/Tijuana:20231013T090000
DTEND;TZID=America/Tijuana:20231013T120000
SEQUENCE:0
TRANSP:OPAQUE
END:VEVENT
END:VCALENDAR