BEGIN:VCALENDAR
VERSION:2.0
PRODID:-//jEvents 2.0 for Joomla//EN
CALSCALE:GREGORIAN
METHOD:PUBLISH
BEGIN:VTIMEZONE
TZID:America/Tijuana
BEGIN:STANDARD
DTSTART:20141102T010000
RDATE:20150308T030000
TZOFFSETFROM:-0700
TZOFFSETTO:-0800
TZNAME:America/Tijuana PST
END:STANDARD
BEGIN:STANDARD
DTSTART:20151101T010000
RDATE:20160313T030000
TZOFFSETFROM:-0700
TZOFFSETTO:-0800
TZNAME:America/Tijuana PST
END:STANDARD
BEGIN:STANDARD
DTSTART:20161106T010000
RDATE:20170312T030000
TZOFFSETFROM:-0700
TZOFFSETTO:-0800
TZNAME:America/Tijuana PST
END:STANDARD
BEGIN:STANDARD
DTSTART:20171105T010000
RDATE:20180311T030000
TZOFFSETFROM:-0700
TZOFFSETTO:-0800
TZNAME:America/Tijuana PST
END:STANDARD
BEGIN:STANDARD
DTSTART:20181104T010000
RDATE:20190310T030000
TZOFFSETFROM:-0700
TZOFFSETTO:-0800
TZNAME:America/Tijuana PST
END:STANDARD
BEGIN:STANDARD
DTSTART:20191103T010000
RDATE:20200308T030000
TZOFFSETFROM:-0700
TZOFFSETTO:-0800
TZNAME:America/Tijuana PST
END:STANDARD
BEGIN:STANDARD
DTSTART:20201101T010000
RDATE:20210314T030000
TZOFFSETFROM:-0700
TZOFFSETTO:-0800
TZNAME:America/Tijuana PST
END:STANDARD
BEGIN:STANDARD
DTSTART:20211107T010000
RDATE:20220313T030000
TZOFFSETFROM:-0700
TZOFFSETTO:-0800
TZNAME:America/Tijuana PST
END:STANDARD
BEGIN:STANDARD
DTSTART:20221106T010000
RDATE:20230312T030000
TZOFFSETFROM:-0700
TZOFFSETTO:-0800
TZNAME:America/Tijuana PST
END:STANDARD
BEGIN:STANDARD
DTSTART:20231105T010000
RDATE:20240310T030000
TZOFFSETFROM:-0700
TZOFFSETTO:-0800
TZNAME:America/Tijuana PST
END:STANDARD
BEGIN:STANDARD
DTSTART:20241103T010000
RDATE:20250309T030000
TZOFFSETFROM:-0700
TZOFFSETTO:-0800
TZNAME:America/Tijuana PST
END:STANDARD
BEGIN:STANDARD
DTSTART:20251102T010000
RDATE:20260308T030000
TZOFFSETFROM:-0700
TZOFFSETTO:-0800
TZNAME:America/Tijuana PST
END:STANDARD
BEGIN:STANDARD
DTSTART:20261101T010000
RDATE:20270314T030000
TZOFFSETFROM:-0700
TZOFFSETTO:-0800
TZNAME:America/Tijuana PST
END:STANDARD
BEGIN:STANDARD
DTSTART:20271107T010000
RDATE:20280312T030000
TZOFFSETFROM:-0700
TZOFFSETTO:-0800
TZNAME:America/Tijuana PST
END:STANDARD
BEGIN:DAYLIGHT
DTSTART:20140320T090000
RDATE:20141102T010000
TZOFFSETFROM:-0800
TZOFFSETTO:-0700
TZNAME:America/Tijuana PDT
END:DAYLIGHT
BEGIN:DAYLIGHT
DTSTART:20150308T030000
RDATE:20151101T010000
TZOFFSETFROM:-0800
TZOFFSETTO:-0700
TZNAME:America/Tijuana PDT
END:DAYLIGHT
BEGIN:DAYLIGHT
DTSTART:20160313T030000
RDATE:20161106T010000
TZOFFSETFROM:-0800
TZOFFSETTO:-0700
TZNAME:America/Tijuana PDT
END:DAYLIGHT
BEGIN:DAYLIGHT
DTSTART:20170312T030000
RDATE:20171105T010000
TZOFFSETFROM:-0800
TZOFFSETTO:-0700
TZNAME:America/Tijuana PDT
END:DAYLIGHT
BEGIN:DAYLIGHT
DTSTART:20180311T030000
RDATE:20181104T010000
TZOFFSETFROM:-0800
TZOFFSETTO:-0700
TZNAME:America/Tijuana PDT
END:DAYLIGHT
BEGIN:DAYLIGHT
DTSTART:20190310T030000
RDATE:20191103T010000
TZOFFSETFROM:-0800
TZOFFSETTO:-0700
TZNAME:America/Tijuana PDT
END:DAYLIGHT
BEGIN:DAYLIGHT
DTSTART:20200308T030000
RDATE:20201101T010000
TZOFFSETFROM:-0800
TZOFFSETTO:-0700
TZNAME:America/Tijuana PDT
END:DAYLIGHT
BEGIN:DAYLIGHT
DTSTART:20210314T030000
RDATE:20211107T010000
TZOFFSETFROM:-0800
TZOFFSETTO:-0700
TZNAME:America/Tijuana PDT
END:DAYLIGHT
BEGIN:DAYLIGHT
DTSTART:20220313T030000
RDATE:20221106T010000
TZOFFSETFROM:-0800
TZOFFSETTO:-0700
TZNAME:America/Tijuana PDT
END:DAYLIGHT
BEGIN:DAYLIGHT
DTSTART:20230312T030000
RDATE:20231105T010000
TZOFFSETFROM:-0800
TZOFFSETTO:-0700
TZNAME:America/Tijuana PDT
END:DAYLIGHT
BEGIN:DAYLIGHT
DTSTART:20240310T030000
RDATE:20241103T010000
TZOFFSETFROM:-0800
TZOFFSETTO:-0700
TZNAME:America/Tijuana PDT
END:DAYLIGHT
BEGIN:DAYLIGHT
DTSTART:20250309T030000
RDATE:20251102T010000
TZOFFSETFROM:-0800
TZOFFSETTO:-0700
TZNAME:America/Tijuana PDT
END:DAYLIGHT
BEGIN:DAYLIGHT
DTSTART:20260308T030000
RDATE:20261101T010000
TZOFFSETFROM:-0800
TZOFFSETTO:-0700
TZNAME:America/Tijuana PDT
END:DAYLIGHT
BEGIN:DAYLIGHT
DTSTART:20270314T030000
RDATE:20271107T010000
TZOFFSETFROM:-0800
TZOFFSETTO:-0700
TZNAME:America/Tijuana PDT
END:DAYLIGHT
END:VTIMEZONE
BEGIN:VEVENT
UID:c8b500cd9208ac3b7e41845ef8079f27
CATEGORIES:Habitat
CREATED:20150611T222509
SUMMARY:Edgewood Weeding
LOCATION:Edgewood Park &amp; Natural Preserve near Redwood City\, CA
DESCRIPTION:<h3>Edgewood Weed Warriors</h3><p>Our 26-year volunteer restoration program
  strives to make Edgewood Park and Natural Preserve an inspirational showca
 se of all CNPS stands for.  Come share the beauty of Edgewood with us, lear
 n a ton, and help keep Edgewood native!  Our <strong>9am Friday</strong> se
 ssions run year round; <strong>5:30pm Wednesday</strong> sessions will resu
 me when Daylight Savings Time returns next spring.</p><p>For Edgewood Weed 
 Warrior (EWW) schedules, meeting places, and other details visit <a href="h
 ttp://eww.cnps-scv.org">eww.cnps-scv.org</a>.</p>
X-EXTRAINFO:Contact Paul Heiple (650) 854-7125, This email address is being protected f
 rom spambots. You need JavaScript enabled to view it.
				document.getEleme
 ntById('cloak5578f1fc345e0e45386dca33f9b5c1e0').innerHTML = '';
				var pre
 fix = '&#109;a' + 'i&#108;' + '&#116;o';
				var path = 'hr' + 'ef' + '=';

 				var addy5578f1fc345e0e45386dca33f9b5c1e0 = 'ph&#101;&#105;pl&#101;' + '
 &#64;';
				addy5578f1fc345e0e45386dca33f9b5c1e0 = addy5578f1fc345e0e45386d
 ca33f9b5c1e0 + 'gm&#97;&#105;l' + '&#46;' + 'c&#111;m';
				var addy_text55
 78f1fc345e0e45386dca33f9b5c1e0 = 'ph&#101;&#105;pl&#101;' + '&#64;' + 'gm&#
 97;&#105;l' + '&#46;' + 'c&#111;m';document.getElementById('cloak5578f1fc34
 5e0e45386dca33f9b5c1e0').innerHTML += '<a ' + path + '\'' + prefix + ':' + 
 addy5578f1fc345e0e45386dca33f9b5c1e0 + '\'>'+addy_text5578f1fc345e0e45386dc
 a33f9b5c1e0+'';
		 or John Allen (This email address is being protected fro
 m spambots. You need JavaScript enabled to view it.
				document.getElement
 ById('cloake1aeeed7bd08163c62be9fd3beef9602').innerHTML = '';
				var prefi
 x = '&#109;a' + 'i&#108;' + '&#116;o';
				var path = 'hr' + 'ef' + '=';
		
 		var addye1aeeed7bd08163c62be9fd3beef9602 = 'jc&#97;kw&#97;' + '&#64;';
		
 		addye1aeeed7bd08163c62be9fd3beef9602 = addye1aeeed7bd08163c62be9fd3beef96
 02 + '&#101;&#97;rthl&#105;nk' + '&#46;' + 'n&#101;t';
				var addy_texte1a
 eeed7bd08163c62be9fd3beef9602 = 'jc&#97;kw&#97;' + '&#64;' + '&#101;&#97;rt
 hl&#105;nk' + '&#46;' + 'n&#101;t';document.getElementById('cloake1aeeed7bd
 08163c62be9fd3beef9602').innerHTML += '<a ' + path + '\'' + prefix + ':' + 
 addye1aeeed7bd08163c62be9fd3beef9602 + '\'>'+addy_texte1aeeed7bd08163c62be9
 fd3beef9602+'';
		) for Friday info; or contact EWW program chair Drew Shel
 l(This email address is being protected from spambots. You need JavaScript 
 enabled to view it.
				document.getElementById('cloak320caaec87dee97024de0
 d83f008467f').innerHTML = '';
				var prefix = '&#109;a' + 'i&#108;' + '&#1
 16;o';
				var path = 'hr' + 'ef' + '=';
				var addy320caaec87dee97024de0d
 83f008467f = 'n&#97;t&#117;r&#101;' + '&#64;';
				addy320caaec87dee97024de
 0d83f008467f = addy320caaec87dee97024de0d83f008467f + 'dsh&#101;ll' + '&#46
 ;' + '&#111;dd&#111;tt&#101;r' + '&#46;' + '&#111;rg';
				var addy_text320
 caaec87dee97024de0d83f008467f = 'n&#97;t&#117;r&#101;' + '&#64;' + 'dsh&#10
 1;ll' + '&#46;' + '&#111;dd&#111;tt&#101;r' + '&#46;' + '&#111;rg';document
 .getElementById('cloak320caaec87dee97024de0d83f008467f').innerHTML += '<a '
  + path + '\'' + prefix + ':' + addy320caaec87dee97024de0d83f008467f + '\'>
 '+addy_text320caaec87dee97024de0d83f008467f+'';
		) for Wednesday/Saturday 
 info.
DTSTAMP:20260424T171603
DTSTART;TZID=America/Tijuana:20150321T090000
DTEND;TZID=America/Tijuana:20150321T120000
SEQUENCE:0
TRANSP:OPAQUE
END:VEVENT
END:VCALENDAR