BEGIN:VCALENDAR
VERSION:2.0
PRODID:-//jEvents 2.0 for Joomla//EN
CALSCALE:GREGORIAN
METHOD:PUBLISH
BEGIN:VTIMEZONE
TZID:America/Tijuana
BEGIN:STANDARD
DTSTART:20141104T000000
RDATE:20150308T030000
TZOFFSETFROM:-0700
TZOFFSETTO:-0800
TZNAME:America/Tijuana PST
END:STANDARD
BEGIN:STANDARD
DTSTART:20151101T010000
RDATE:20160313T030000
TZOFFSETFROM:-0700
TZOFFSETTO:-0800
TZNAME:America/Tijuana PST
END:STANDARD
BEGIN:STANDARD
DTSTART:20161106T010000
RDATE:20170312T030000
TZOFFSETFROM:-0700
TZOFFSETTO:-0800
TZNAME:America/Tijuana PST
END:STANDARD
BEGIN:STANDARD
DTSTART:20171105T010000
RDATE:20180311T030000
TZOFFSETFROM:-0700
TZOFFSETTO:-0800
TZNAME:America/Tijuana PST
END:STANDARD
BEGIN:STANDARD
DTSTART:20181104T010000
RDATE:20190310T030000
TZOFFSETFROM:-0700
TZOFFSETTO:-0800
TZNAME:America/Tijuana PST
END:STANDARD
BEGIN:STANDARD
DTSTART:20191103T010000
RDATE:20200308T030000
TZOFFSETFROM:-0700
TZOFFSETTO:-0800
TZNAME:America/Tijuana PST
END:STANDARD
BEGIN:STANDARD
DTSTART:20201101T010000
RDATE:20210314T030000
TZOFFSETFROM:-0700
TZOFFSETTO:-0800
TZNAME:America/Tijuana PST
END:STANDARD
BEGIN:STANDARD
DTSTART:20211107T010000
RDATE:20220313T030000
TZOFFSETFROM:-0700
TZOFFSETTO:-0800
TZNAME:America/Tijuana PST
END:STANDARD
BEGIN:STANDARD
DTSTART:20221106T010000
RDATE:20230312T030000
TZOFFSETFROM:-0700
TZOFFSETTO:-0800
TZNAME:America/Tijuana PST
END:STANDARD
BEGIN:STANDARD
DTSTART:20231105T010000
RDATE:20240310T030000
TZOFFSETFROM:-0700
TZOFFSETTO:-0800
TZNAME:America/Tijuana PST
END:STANDARD
BEGIN:STANDARD
DTSTART:20241103T010000
RDATE:20250309T030000
TZOFFSETFROM:-0700
TZOFFSETTO:-0800
TZNAME:America/Tijuana PST
END:STANDARD
BEGIN:STANDARD
DTSTART:20251102T010000
RDATE:20260308T030000
TZOFFSETFROM:-0700
TZOFFSETTO:-0800
TZNAME:America/Tijuana PST
END:STANDARD
BEGIN:STANDARD
DTSTART:20261101T010000
RDATE:20270314T030000
TZOFFSETFROM:-0700
TZOFFSETTO:-0800
TZNAME:America/Tijuana PST
END:STANDARD
BEGIN:STANDARD
DTSTART:20271107T010000
RDATE:20280312T030000
TZOFFSETFROM:-0700
TZOFFSETTO:-0800
TZNAME:America/Tijuana PST
END:STANDARD
BEGIN:DAYLIGHT
DTSTART:20150308T030000
RDATE:20151101T010000
TZOFFSETFROM:-0800
TZOFFSETTO:-0700
TZNAME:America/Tijuana PDT
END:DAYLIGHT
BEGIN:DAYLIGHT
DTSTART:20160313T030000
RDATE:20161106T010000
TZOFFSETFROM:-0800
TZOFFSETTO:-0700
TZNAME:America/Tijuana PDT
END:DAYLIGHT
BEGIN:DAYLIGHT
DTSTART:20170312T030000
RDATE:20171105T010000
TZOFFSETFROM:-0800
TZOFFSETTO:-0700
TZNAME:America/Tijuana PDT
END:DAYLIGHT
BEGIN:DAYLIGHT
DTSTART:20180311T030000
RDATE:20181104T010000
TZOFFSETFROM:-0800
TZOFFSETTO:-0700
TZNAME:America/Tijuana PDT
END:DAYLIGHT
BEGIN:DAYLIGHT
DTSTART:20190310T030000
RDATE:20191103T010000
TZOFFSETFROM:-0800
TZOFFSETTO:-0700
TZNAME:America/Tijuana PDT
END:DAYLIGHT
BEGIN:DAYLIGHT
DTSTART:20200308T030000
RDATE:20201101T010000
TZOFFSETFROM:-0800
TZOFFSETTO:-0700
TZNAME:America/Tijuana PDT
END:DAYLIGHT
BEGIN:DAYLIGHT
DTSTART:20210314T030000
RDATE:20211107T010000
TZOFFSETFROM:-0800
TZOFFSETTO:-0700
TZNAME:America/Tijuana PDT
END:DAYLIGHT
BEGIN:DAYLIGHT
DTSTART:20220313T030000
RDATE:20221106T010000
TZOFFSETFROM:-0800
TZOFFSETTO:-0700
TZNAME:America/Tijuana PDT
END:DAYLIGHT
BEGIN:DAYLIGHT
DTSTART:20230312T030000
RDATE:20231105T010000
TZOFFSETFROM:-0800
TZOFFSETTO:-0700
TZNAME:America/Tijuana PDT
END:DAYLIGHT
BEGIN:DAYLIGHT
DTSTART:20240310T030000
RDATE:20241103T010000
TZOFFSETFROM:-0800
TZOFFSETTO:-0700
TZNAME:America/Tijuana PDT
END:DAYLIGHT
BEGIN:DAYLIGHT
DTSTART:20250309T030000
RDATE:20251102T010000
TZOFFSETFROM:-0800
TZOFFSETTO:-0700
TZNAME:America/Tijuana PDT
END:DAYLIGHT
BEGIN:DAYLIGHT
DTSTART:20260308T030000
RDATE:20261101T010000
TZOFFSETFROM:-0800
TZOFFSETTO:-0700
TZNAME:America/Tijuana PDT
END:DAYLIGHT
BEGIN:DAYLIGHT
DTSTART:20270314T030000
RDATE:20271107T010000
TZOFFSETFROM:-0800
TZOFFSETTO:-0700
TZNAME:America/Tijuana PDT
END:DAYLIGHT
END:VTIMEZONE
BEGIN:VEVENT
UID:d9abf6ef52b81de8608e0ec3c90cbfa8
CATEGORIES:Nursery
CREATED:20150604T150412
SUMMARY:Nursery Workday
LOCATION:Hidden Villa on Moody Road west of Foothill College.  26870 Moody Road in L
 os Altos\, CA\, or follow the directions below
DESCRIPTION:Native Plant Nursery Propagation WorkdaysCome help propagate plants for our
  next plant sale by volunteering at one of our nursery work sessions, every
  Wednesday and Thursday.  Bring garden gloves, sunhat, clippers, and liquid
 s and your lunch if you like.  Other tools will be provided at the nursery.
   Knowledge of plants is not necessary; your willingness to help is all tha
 t's required.\nHours: Between the spring and fall plant sales, we work from
  10am to 1pm.  Between the fall and spring plant sales, we work from noon t
 o 3pm.\nFor more information, contact Melanie Cross at (650) 847-1350 or Th
 is email address is being protected from spambots. You need JavaScript enab
 led to view it.
				document.getElementById('cloak581d9bd303c9fb71a8f1e9690
 95df4a8').innerHTML = '';
				var prefix = '&#109;a' + 'i&#108;' + '&#116;o
 ';
				var path = 'hr' + 'ef' + '=';
				var addy581d9bd303c9fb71a8f1e96909
 5df4a8 = 'm&#101;l&#97;n&#105;&#101;' + '&#64;';
				addy581d9bd303c9fb71a8
 f1e969095df4a8 = addy581d9bd303c9fb71a8f1e969095df4a8 + 'pcr&#111;ss' + '&#
 46;' + 'c&#111;m';
				var addy_text581d9bd303c9fb71a8f1e969095df4a8 = 'm&#
 101;l&#97;n&#105;&#101;' + '&#64;' + 'pcr&#111;ss' + '&#46;' + 'c&#111;m';d
 ocument.getElementById('cloak581d9bd303c9fb71a8f1e969095df4a8').innerHTML +
 = '<a ' + path + '\'' + prefix + ':' + addy581d9bd303c9fb71a8f1e969095df4a8
  + '\'>'+addy_text581d9bd303c9fb71a8f1e969095df4a8+'';
		; or Ray Deutsch a
 t (650) 365-6136 or This email address is being protected from spambots. Yo
 u need JavaScript enabled to view it.
				document.getElementById('cloak151
 40b306877aed8597eca5f0c2ae407').innerHTML = '';
				var prefix = '&#109;a' 
 + 'i&#108;' + '&#116;o';
				var path = 'hr' + 'ef' + '=';
				var addy1514
 0b306877aed8597eca5f0c2ae407 = 'r&#97;y.d&#101;&#117;tsch' + '&#64;';
				a
 ddy15140b306877aed8597eca5f0c2ae407 = addy15140b306877aed8597eca5f0c2ae407 
 + 'y&#97;h&#111;&#111;' + '&#46;' + 'c&#97;';
				var addy_text15140b306877
 aed8597eca5f0c2ae407 = 'r&#97;y.d&#101;&#117;tsch' + '&#64;' + 'y&#97;h&#11
 1;&#111;' + '&#46;' + 'c&#97;';document.getElementById('cloak15140b306877ae
 d8597eca5f0c2ae407').innerHTML += '<a ' + path + '\'' + prefix + ':' + addy
 15140b306877aed8597eca5f0c2ae407 + '\'>'+addy_text15140b306877aed8597eca5f0
 c2ae407+'';
		\n
X-ALT-DESC;FMTTYPE=text/html:<h3>Native Plant Nursery Propagation Workdays</h3><p>Come help propagate pl
 ants for our next plant sale by volunteering at one of our nursery work ses
 sions, every <strong>Wednesday and Thursday</strong>.  Bring garden gloves,
  sunhat, clippers, and liquids and your lunch if you like.  Other tools wil
 l be provided at the nursery.  Knowledge of plants is not necessary; your w
 illingness to help is all that's required.</p><p><strong>Hours:</strong> Be
 tween the spring and fall plant sales, we work from <strong>10am to 1pm. </
 strong> Between the fall and spring plant sales, we work from <strong>noon 
 to 3pm</strong>.</p><p>For more information, contact Melanie Cross at (650)
  847-1350 or <span id="cloak581d9bd303c9fb71a8f1e969095df4a8">This email ad
 dress is being protected from spambots. You need JavaScript enabled to view
  it.</span><script type='text/javascript'>
				document.getElementById('clo
 ak581d9bd303c9fb71a8f1e969095df4a8').innerHTML = '';
				var prefix = '&#10
 9;a' + 'i&#108;' + '&#116;o';
				var path = 'hr' + 'ef' + '=';
				var add
 y581d9bd303c9fb71a8f1e969095df4a8 = 'm&#101;l&#97;n&#105;&#101;' + '&#64;';
 
				addy581d9bd303c9fb71a8f1e969095df4a8 = addy581d9bd303c9fb71a8f1e969095
 df4a8 + 'pcr&#111;ss' + '&#46;' + 'c&#111;m';
				var addy_text581d9bd303c9
 fb71a8f1e969095df4a8 = 'm&#101;l&#97;n&#105;&#101;' + '&#64;' + 'pcr&#111;s
 s' + '&#46;' + 'c&#111;m';document.getElementById('cloak581d9bd303c9fb71a8f
 1e969095df4a8').innerHTML += '<a ' + path + '\'' + prefix + ':' + addy581d9
 bd303c9fb71a8f1e969095df4a8 + '\'>'+addy_text581d9bd303c9fb71a8f1e969095df4
 a8+'<\/a>';
		</script>; or Ray Deutsch at (650) 365-6136 or <span id="cloa
 k15140b306877aed8597eca5f0c2ae407">This email address is being protected fr
 om spambots. You need JavaScript enabled to view it.</span><script type='te
 xt/javascript'>
				document.getElementById('cloak15140b306877aed8597eca5f0
 c2ae407').innerHTML = '';
				var prefix = '&#109;a' + 'i&#108;' + '&#116;o
 ';
				var path = 'hr' + 'ef' + '=';
				var addy15140b306877aed8597eca5f0c
 2ae407 = 'r&#97;y.d&#101;&#117;tsch' + '&#64;';
				addy15140b306877aed8597
 eca5f0c2ae407 = addy15140b306877aed8597eca5f0c2ae407 + 'y&#97;h&#111;&#111;
 ' + '&#46;' + 'c&#97;';
				var addy_text15140b306877aed8597eca5f0c2ae407 =
  'r&#97;y.d&#101;&#117;tsch' + '&#64;' + 'y&#97;h&#111;&#111;' + '&#46;' + 
 'c&#97;';document.getElementById('cloak15140b306877aed8597eca5f0c2ae407').i
 nnerHTML += '<a ' + path + '\'' + prefix + ':' + addy15140b306877aed8597eca
 5f0c2ae407 + '\'>'+addy_text15140b306877aed8597eca5f0c2ae407+'<\/a>';
		</s
 cript></p>
CONTACT:Melanie Cross at (650) 847-1350 or This email address is being protected from spambots. You need JavaScript enabled to view it.
				document.getElementById('cloakf8fbef19c739e2122d564acb4204015b').innerHTML = '';
				var prefix = '&#109;a' + 'i&#108;' + '&#116;o';
				var path = 'hr' + 'ef' + '=';
				var addyf8fbef19c739e2122d564acb4204015b = 'm&#101;l&#97;n&#105;&#101;' + '&#64;';
				addyf8fbef19c739e2122d564acb4204015b = addyf8fbef19c739e2122d564acb4204015b + 'pcr&#111;ss' + '&#46;' + 'c&#111;m';
				var addy_textf8fbef19c739e2122d564acb4204015b = 'm&#101;l&#97;n&#105;&#101;' + '&#64;' + 'pcr&#111;ss' + '&#46;' + 'c&#111;m';document.getElementById('cloakf8fbef19c739e2122d564acb4204015b').innerHTML += '<a ' + path + '\'' + prefix + ':' + addyf8fbef19c739e2122d564acb4204015b + '\'>'+addy_textf8fbef19c739e2122d564acb4204015b+'';
		; or Ray Deutsch at (650) 365-6136 or This email address is being protected from spambots. You need JavaScript enabled to view it.
				document.getElementById('cloak98efb7dbabdcb3ed54cc3eed41241862').innerHTML = '';
				var prefix = '&#109;a' + 'i&#108;' + '&#116;o';
				var path = 'hr' + 'ef' + '=';
				var addy98efb7dbabdcb3ed54cc3eed41241862 = 'r&#97;y.d&#101;&#117;tsch' + '&#64;';
				addy98efb7dbabdcb3ed54cc3eed41241862 = addy98efb7dbabdcb3ed54cc3eed41241862 + 'y&#97;h&#111;&#111;' + '&#46;' + 'c&#97;';
				var addy_text98efb7dbabdcb3ed54cc3eed41241862 = 'r&#97;y.d&#101;&#117;tsch' + '&#64;' + 'y&#97;h&#111;&#111;' + '&#46;' + 'c&#97;';document.getElementById('cloak98efb7dbabdcb3ed54cc3eed41241862').innerHTML += '<a ' + path + '\'' + prefix + ':' + addy98efb7dbabdcb3ed54cc3eed41241862 + '\'>'+addy_text98efb7dbabdcb3ed54cc3eed41241862+'';
		
X-EXTRAINFO:Directions: Hidden Villa is located on Moody Road west of Foothill College.
   From Hwy. 280 in Los Altos Hills, take the Moody Road exit and head west.
   Two miles west of Foothill College, look for the Hidden Villa sign and dr
 iveway on the left.  Proceed over the bridge and park in the visitor center
  parking lot to your right.  The Nursery is at the greenhouse just beyond t
 he visitor center.
DTSTAMP:20260422T000816
DTSTART;TZID=America/Tijuana:20151105T000000
DTEND;TZID=America/Tijuana:20151105T150000
SEQUENCE:0
TRANSP:OPAQUE
END:VEVENT
END:VCALENDAR