BEGIN:VCALENDAR
VERSION:2.0
PRODID:-//jEvents 2.0 for Joomla//EN
CALSCALE:GREGORIAN
METHOD:PUBLISH
BEGIN:VTIMEZONE
TZID:America/Tijuana
BEGIN:STANDARD
DTSTART:20150114T090000
RDATE:20150308T030000
TZOFFSETFROM:-0700
TZOFFSETTO:-0800
TZNAME:America/Tijuana PST
END:STANDARD
BEGIN:STANDARD
DTSTART:20151101T010000
RDATE:20160313T030000
TZOFFSETFROM:-0700
TZOFFSETTO:-0800
TZNAME:America/Tijuana PST
END:STANDARD
BEGIN:STANDARD
DTSTART:20161106T010000
RDATE:20170312T030000
TZOFFSETFROM:-0700
TZOFFSETTO:-0800
TZNAME:America/Tijuana PST
END:STANDARD
BEGIN:STANDARD
DTSTART:20171105T010000
RDATE:20180311T030000
TZOFFSETFROM:-0700
TZOFFSETTO:-0800
TZNAME:America/Tijuana PST
END:STANDARD
BEGIN:STANDARD
DTSTART:20181104T010000
RDATE:20190310T030000
TZOFFSETFROM:-0700
TZOFFSETTO:-0800
TZNAME:America/Tijuana PST
END:STANDARD
BEGIN:STANDARD
DTSTART:20191103T010000
RDATE:20200308T030000
TZOFFSETFROM:-0700
TZOFFSETTO:-0800
TZNAME:America/Tijuana PST
END:STANDARD
BEGIN:STANDARD
DTSTART:20201101T010000
RDATE:20210314T030000
TZOFFSETFROM:-0700
TZOFFSETTO:-0800
TZNAME:America/Tijuana PST
END:STANDARD
BEGIN:STANDARD
DTSTART:20211107T010000
RDATE:20220313T030000
TZOFFSETFROM:-0700
TZOFFSETTO:-0800
TZNAME:America/Tijuana PST
END:STANDARD
BEGIN:STANDARD
DTSTART:20221106T010000
RDATE:20230312T030000
TZOFFSETFROM:-0700
TZOFFSETTO:-0800
TZNAME:America/Tijuana PST
END:STANDARD
BEGIN:STANDARD
DTSTART:20231105T010000
RDATE:20240310T030000
TZOFFSETFROM:-0700
TZOFFSETTO:-0800
TZNAME:America/Tijuana PST
END:STANDARD
BEGIN:STANDARD
DTSTART:20241103T010000
RDATE:20250309T030000
TZOFFSETFROM:-0700
TZOFFSETTO:-0800
TZNAME:America/Tijuana PST
END:STANDARD
BEGIN:STANDARD
DTSTART:20251102T010000
RDATE:20260308T030000
TZOFFSETFROM:-0700
TZOFFSETTO:-0800
TZNAME:America/Tijuana PST
END:STANDARD
BEGIN:STANDARD
DTSTART:20261101T010000
RDATE:20270314T030000
TZOFFSETFROM:-0700
TZOFFSETTO:-0800
TZNAME:America/Tijuana PST
END:STANDARD
BEGIN:STANDARD
DTSTART:20271107T010000
RDATE:20280312T030000
TZOFFSETFROM:-0700
TZOFFSETTO:-0800
TZNAME:America/Tijuana PST
END:STANDARD
BEGIN:DAYLIGHT
DTSTART:20150308T030000
RDATE:20151101T010000
TZOFFSETFROM:-0800
TZOFFSETTO:-0700
TZNAME:America/Tijuana PDT
END:DAYLIGHT
BEGIN:DAYLIGHT
DTSTART:20160313T030000
RDATE:20161106T010000
TZOFFSETFROM:-0800
TZOFFSETTO:-0700
TZNAME:America/Tijuana PDT
END:DAYLIGHT
BEGIN:DAYLIGHT
DTSTART:20170312T030000
RDATE:20171105T010000
TZOFFSETFROM:-0800
TZOFFSETTO:-0700
TZNAME:America/Tijuana PDT
END:DAYLIGHT
BEGIN:DAYLIGHT
DTSTART:20180311T030000
RDATE:20181104T010000
TZOFFSETFROM:-0800
TZOFFSETTO:-0700
TZNAME:America/Tijuana PDT
END:DAYLIGHT
BEGIN:DAYLIGHT
DTSTART:20190310T030000
RDATE:20191103T010000
TZOFFSETFROM:-0800
TZOFFSETTO:-0700
TZNAME:America/Tijuana PDT
END:DAYLIGHT
BEGIN:DAYLIGHT
DTSTART:20200308T030000
RDATE:20201101T010000
TZOFFSETFROM:-0800
TZOFFSETTO:-0700
TZNAME:America/Tijuana PDT
END:DAYLIGHT
BEGIN:DAYLIGHT
DTSTART:20210314T030000
RDATE:20211107T010000
TZOFFSETFROM:-0800
TZOFFSETTO:-0700
TZNAME:America/Tijuana PDT
END:DAYLIGHT
BEGIN:DAYLIGHT
DTSTART:20220313T030000
RDATE:20221106T010000
TZOFFSETFROM:-0800
TZOFFSETTO:-0700
TZNAME:America/Tijuana PDT
END:DAYLIGHT
BEGIN:DAYLIGHT
DTSTART:20230312T030000
RDATE:20231105T010000
TZOFFSETFROM:-0800
TZOFFSETTO:-0700
TZNAME:America/Tijuana PDT
END:DAYLIGHT
BEGIN:DAYLIGHT
DTSTART:20240310T030000
RDATE:20241103T010000
TZOFFSETFROM:-0800
TZOFFSETTO:-0700
TZNAME:America/Tijuana PDT
END:DAYLIGHT
BEGIN:DAYLIGHT
DTSTART:20250309T030000
RDATE:20251102T010000
TZOFFSETFROM:-0800
TZOFFSETTO:-0700
TZNAME:America/Tijuana PDT
END:DAYLIGHT
BEGIN:DAYLIGHT
DTSTART:20260308T030000
RDATE:20261101T010000
TZOFFSETFROM:-0800
TZOFFSETTO:-0700
TZNAME:America/Tijuana PDT
END:DAYLIGHT
BEGIN:DAYLIGHT
DTSTART:20270314T030000
RDATE:20271107T010000
TZOFFSETFROM:-0800
TZOFFSETTO:-0700
TZNAME:America/Tijuana PDT
END:DAYLIGHT
END:VTIMEZONE
BEGIN:VEVENT
UID:ff7ab4454c9879e0f70bfd2c3425451f
CATEGORIES:Habitat
CREATED:20141031T163304
SUMMARY:Edgewood Weeding
LOCATION:Edgewood Park &amp; Natural Preserve near Redwood City\, CA
DESCRIPTION:Edgewood Weed WarriorsOur 26-year volunteer restoration program strives to 
 make Edgewood Park and Natural Preserve an inspirational showcase of all CN
 PS stands for.  Come share the beauty of Edgewood with us, learn a ton, and
  help keep Edgewood native!  Our 9am Friday sessions run year round; 5:30pm
  Wednesday sessions will resume when Daylight Savings Time returns next spr
 ing.\nFor Edgewood Weed Warrior (EWW) schedules, meeting places, and other 
 details visit Edgewood Weed Warriors (http://eww.cnps-scv.org).\n
X-ALT-DESC;FMTTYPE=text/html:<h3>Edgewood Weed Warriors</h3><p>Our 26-year volunteer restoration program
  strives to make Edgewood Park and Natural Preserve an inspirational showca
 se of all CNPS stands for.  Come share the beauty of Edgewood with us, lear
 n a ton, and help keep Edgewood native!  Our <strong>9am Friday</strong> se
 ssions run year round; <strong>5:30pm Wednesday</strong> sessions will resu
 me when Daylight Savings Time returns next spring.</p><p>For Edgewood Weed 
 Warrior (EWW) schedules, meeting places, and other details visit <a href="h
 ttp://eww.cnps-scv.org">Edgewood Weed Warriors</a>.</p>
X-EXTRAINFO:Contact Paul Heiple (650) 854-7125, This email address is being protected f
 rom spambots. You need JavaScript enabled to view it.
				document.getEleme
 ntById('cloaka7686849e4195620df66f6441b5098bc').innerHTML = '';
				var pre
 fix = '&#109;a' + 'i&#108;' + '&#116;o';
				var path = 'hr' + 'ef' + '=';

 				var addya7686849e4195620df66f6441b5098bc = 'ph&#101;&#105;pl&#101;' + '
 &#64;';
				addya7686849e4195620df66f6441b5098bc = addya7686849e4195620df66
 f6441b5098bc + 'gm&#97;&#105;l' + '&#46;' + 'c&#111;m';
				var addy_texta7
 686849e4195620df66f6441b5098bc = 'ph&#101;&#105;pl&#101;' + '&#64;' + 'gm&#
 97;&#105;l' + '&#46;' + 'c&#111;m';document.getElementById('cloaka7686849e4
 195620df66f6441b5098bc').innerHTML += '<a ' + path + '\'' + prefix + ':' + 
 addya7686849e4195620df66f6441b5098bc + '\'>'+addy_texta7686849e4195620df66f
 6441b5098bc+'';
		 or John Allen (This email address is being protected fro
 m spambots. You need JavaScript enabled to view it.
				document.getElement
 ById('cloak3fe8431b80e2d5898251c08778e538cc').innerHTML = '';
				var prefi
 x = '&#109;a' + 'i&#108;' + '&#116;o';
				var path = 'hr' + 'ef' + '=';
		
 		var addy3fe8431b80e2d5898251c08778e538cc = 'jc&#97;kw&#97;' + '&#64;';
		
 		addy3fe8431b80e2d5898251c08778e538cc = addy3fe8431b80e2d5898251c08778e538
 cc + '&#101;&#97;rthl&#105;nk' + '&#46;' + 'n&#101;t';
				var addy_text3fe
 8431b80e2d5898251c08778e538cc = 'jc&#97;kw&#97;' + '&#64;' + '&#101;&#97;rt
 hl&#105;nk' + '&#46;' + 'n&#101;t';document.getElementById('cloak3fe8431b80
 e2d5898251c08778e538cc').innerHTML += '<a ' + path + '\'' + prefix + ':' + 
 addy3fe8431b80e2d5898251c08778e538cc + '\'>'+addy_text3fe8431b80e2d5898251c
 08778e538cc+'';
		) for Friday info; or contact EWW program chair Drew Shel
 l(This email address is being protected from spambots. You need JavaScript 
 enabled to view it.
				document.getElementById('cloak226430339addf8d96da0a
 17a21df78a5').innerHTML = '';
				var prefix = '&#109;a' + 'i&#108;' + '&#1
 16;o';
				var path = 'hr' + 'ef' + '=';
				var addy226430339addf8d96da0a1
 7a21df78a5 = 'n&#97;t&#117;r&#101;' + '&#64;';
				addy226430339addf8d96da0
 a17a21df78a5 = addy226430339addf8d96da0a17a21df78a5 + 'dsh&#101;ll' + '&#46
 ;' + '&#111;dd&#111;tt&#101;r' + '&#46;' + '&#111;rg';
				var addy_text226
 430339addf8d96da0a17a21df78a5 = 'n&#97;t&#117;r&#101;' + '&#64;' + 'dsh&#10
 1;ll' + '&#46;' + '&#111;dd&#111;tt&#101;r' + '&#46;' + '&#111;rg';document
 .getElementById('cloak226430339addf8d96da0a17a21df78a5').innerHTML += '<a '
  + path + '\'' + prefix + ':' + addy226430339addf8d96da0a17a21df78a5 + '\'>
 '+addy_text226430339addf8d96da0a17a21df78a5+'';
		) for Wednesday/Saturday 
 info.
DTSTAMP:20260422T104811
DTSTART;TZID=America/Tijuana:20160115T090000
DTEND;TZID=America/Tijuana:20160115T130000
SEQUENCE:0
TRANSP:OPAQUE
END:VEVENT
END:VCALENDAR