BEGIN:VCALENDAR
VERSION:2.0
PRODID:-//jEvents 2.0 for Joomla//EN
CALSCALE:GREGORIAN
METHOD:PUBLISH
BEGIN:VTIMEZONE
TZID:America/Tijuana
BEGIN:STANDARD
DTSTART:20151216T090000
RDATE:20160313T030000
TZOFFSETFROM:-0700
TZOFFSETTO:-0800
TZNAME:America/Tijuana PST
END:STANDARD
BEGIN:STANDARD
DTSTART:20161106T010000
RDATE:20170312T030000
TZOFFSETFROM:-0700
TZOFFSETTO:-0800
TZNAME:America/Tijuana PST
END:STANDARD
BEGIN:STANDARD
DTSTART:20171105T010000
RDATE:20180311T030000
TZOFFSETFROM:-0700
TZOFFSETTO:-0800
TZNAME:America/Tijuana PST
END:STANDARD
BEGIN:STANDARD
DTSTART:20181104T010000
RDATE:20190310T030000
TZOFFSETFROM:-0700
TZOFFSETTO:-0800
TZNAME:America/Tijuana PST
END:STANDARD
BEGIN:STANDARD
DTSTART:20191103T010000
RDATE:20200308T030000
TZOFFSETFROM:-0700
TZOFFSETTO:-0800
TZNAME:America/Tijuana PST
END:STANDARD
BEGIN:STANDARD
DTSTART:20201101T010000
RDATE:20210314T030000
TZOFFSETFROM:-0700
TZOFFSETTO:-0800
TZNAME:America/Tijuana PST
END:STANDARD
BEGIN:STANDARD
DTSTART:20211107T010000
RDATE:20220313T030000
TZOFFSETFROM:-0700
TZOFFSETTO:-0800
TZNAME:America/Tijuana PST
END:STANDARD
BEGIN:STANDARD
DTSTART:20221106T010000
RDATE:20230312T030000
TZOFFSETFROM:-0700
TZOFFSETTO:-0800
TZNAME:America/Tijuana PST
END:STANDARD
BEGIN:STANDARD
DTSTART:20231105T010000
RDATE:20240310T030000
TZOFFSETFROM:-0700
TZOFFSETTO:-0800
TZNAME:America/Tijuana PST
END:STANDARD
BEGIN:STANDARD
DTSTART:20241103T010000
RDATE:20250309T030000
TZOFFSETFROM:-0700
TZOFFSETTO:-0800
TZNAME:America/Tijuana PST
END:STANDARD
BEGIN:STANDARD
DTSTART:20251102T010000
RDATE:20260308T030000
TZOFFSETFROM:-0700
TZOFFSETTO:-0800
TZNAME:America/Tijuana PST
END:STANDARD
BEGIN:STANDARD
DTSTART:20261101T010000
RDATE:20270314T030000
TZOFFSETFROM:-0700
TZOFFSETTO:-0800
TZNAME:America/Tijuana PST
END:STANDARD
BEGIN:STANDARD
DTSTART:20271107T010000
RDATE:20280312T030000
TZOFFSETFROM:-0700
TZOFFSETTO:-0800
TZNAME:America/Tijuana PST
END:STANDARD
BEGIN:DAYLIGHT
DTSTART:20160313T030000
RDATE:20161106T010000
TZOFFSETFROM:-0800
TZOFFSETTO:-0700
TZNAME:America/Tijuana PDT
END:DAYLIGHT
BEGIN:DAYLIGHT
DTSTART:20170312T030000
RDATE:20171105T010000
TZOFFSETFROM:-0800
TZOFFSETTO:-0700
TZNAME:America/Tijuana PDT
END:DAYLIGHT
BEGIN:DAYLIGHT
DTSTART:20180311T030000
RDATE:20181104T010000
TZOFFSETFROM:-0800
TZOFFSETTO:-0700
TZNAME:America/Tijuana PDT
END:DAYLIGHT
BEGIN:DAYLIGHT
DTSTART:20190310T030000
RDATE:20191103T010000
TZOFFSETFROM:-0800
TZOFFSETTO:-0700
TZNAME:America/Tijuana PDT
END:DAYLIGHT
BEGIN:DAYLIGHT
DTSTART:20200308T030000
RDATE:20201101T010000
TZOFFSETFROM:-0800
TZOFFSETTO:-0700
TZNAME:America/Tijuana PDT
END:DAYLIGHT
BEGIN:DAYLIGHT
DTSTART:20210314T030000
RDATE:20211107T010000
TZOFFSETFROM:-0800
TZOFFSETTO:-0700
TZNAME:America/Tijuana PDT
END:DAYLIGHT
BEGIN:DAYLIGHT
DTSTART:20220313T030000
RDATE:20221106T010000
TZOFFSETFROM:-0800
TZOFFSETTO:-0700
TZNAME:America/Tijuana PDT
END:DAYLIGHT
BEGIN:DAYLIGHT
DTSTART:20230312T030000
RDATE:20231105T010000
TZOFFSETFROM:-0800
TZOFFSETTO:-0700
TZNAME:America/Tijuana PDT
END:DAYLIGHT
BEGIN:DAYLIGHT
DTSTART:20240310T030000
RDATE:20241103T010000
TZOFFSETFROM:-0800
TZOFFSETTO:-0700
TZNAME:America/Tijuana PDT
END:DAYLIGHT
BEGIN:DAYLIGHT
DTSTART:20250309T030000
RDATE:20251102T010000
TZOFFSETFROM:-0800
TZOFFSETTO:-0700
TZNAME:America/Tijuana PDT
END:DAYLIGHT
BEGIN:DAYLIGHT
DTSTART:20260308T030000
RDATE:20261101T010000
TZOFFSETFROM:-0800
TZOFFSETTO:-0700
TZNAME:America/Tijuana PDT
END:DAYLIGHT
BEGIN:DAYLIGHT
DTSTART:20270314T030000
RDATE:20271107T010000
TZOFFSETFROM:-0800
TZOFFSETTO:-0700
TZNAME:America/Tijuana PDT
END:DAYLIGHT
END:VTIMEZONE
BEGIN:VEVENT
UID:ff7ab4454c9879e0f70bfd2c3425451f
CATEGORIES:Habitat
CREATED:20141031T163304
SUMMARY:Edgewood Weeding
LOCATION:Edgewood Park &amp; Natural Preserve near Redwood City\, CA
DESCRIPTION:<h3>Edgewood Weed Warriors</h3><p>Our 26-year volunteer restoration program
  strives to make Edgewood Park and Natural Preserve an inspirational showca
 se of all CNPS stands for.  Come share the beauty of Edgewood with us, lear
 n a ton, and help keep Edgewood native!  Our <strong>9am Friday</strong> se
 ssions run year round; <strong>5:30pm Wednesday</strong> sessions will resu
 me when Daylight Savings Time returns next spring.</p><p>For Edgewood Weed 
 Warrior (EWW) schedules, meeting places, and other details visit <a href="h
 ttp://eww.cnps-scv.org">Edgewood Weed Warriors</a>.</p>
X-EXTRAINFO:Contact Paul Heiple (650) 854-7125, This email address is being protected f
 rom spambots. You need JavaScript enabled to view it.
				document.getEleme
 ntById('cloakb0838034b160d2fc9910454e4966b994').innerHTML = '';
				var pre
 fix = '&#109;a' + 'i&#108;' + '&#116;o';
				var path = 'hr' + 'ef' + '=';

 				var addyb0838034b160d2fc9910454e4966b994 = 'ph&#101;&#105;pl&#101;' + '
 &#64;';
				addyb0838034b160d2fc9910454e4966b994 = addyb0838034b160d2fc9910
 454e4966b994 + 'gm&#97;&#105;l' + '&#46;' + 'c&#111;m';
				var addy_textb0
 838034b160d2fc9910454e4966b994 = 'ph&#101;&#105;pl&#101;' + '&#64;' + 'gm&#
 97;&#105;l' + '&#46;' + 'c&#111;m';document.getElementById('cloakb0838034b1
 60d2fc9910454e4966b994').innerHTML += '<a ' + path + '\'' + prefix + ':' + 
 addyb0838034b160d2fc9910454e4966b994 + '\'>'+addy_textb0838034b160d2fc99104
 54e4966b994+'';
		 or John Allen (This email address is being protected fro
 m spambots. You need JavaScript enabled to view it.
				document.getElement
 ById('cloak8f992a97c7e286c19902a989e0e8768c').innerHTML = '';
				var prefi
 x = '&#109;a' + 'i&#108;' + '&#116;o';
				var path = 'hr' + 'ef' + '=';
		
 		var addy8f992a97c7e286c19902a989e0e8768c = 'jc&#97;kw&#97;' + '&#64;';
		
 		addy8f992a97c7e286c19902a989e0e8768c = addy8f992a97c7e286c19902a989e0e876
 8c + '&#101;&#97;rthl&#105;nk' + '&#46;' + 'n&#101;t';
				var addy_text8f9
 92a97c7e286c19902a989e0e8768c = 'jc&#97;kw&#97;' + '&#64;' + '&#101;&#97;rt
 hl&#105;nk' + '&#46;' + 'n&#101;t';document.getElementById('cloak8f992a97c7
 e286c19902a989e0e8768c').innerHTML += '<a ' + path + '\'' + prefix + ':' + 
 addy8f992a97c7e286c19902a989e0e8768c + '\'>'+addy_text8f992a97c7e286c19902a
 989e0e8768c+'';
		) for Friday info; or contact EWW program chair Drew Shel
 l(This email address is being protected from spambots. You need JavaScript 
 enabled to view it.
				document.getElementById('cloakc233e7462eafc504b6e84
 65f7268243e').innerHTML = '';
				var prefix = '&#109;a' + 'i&#108;' + '&#1
 16;o';
				var path = 'hr' + 'ef' + '=';
				var addyc233e7462eafc504b6e846
 5f7268243e = 'n&#97;t&#117;r&#101;' + '&#64;';
				addyc233e7462eafc504b6e8
 465f7268243e = addyc233e7462eafc504b6e8465f7268243e + 'dsh&#101;ll' + '&#46
 ;' + '&#111;dd&#111;tt&#101;r' + '&#46;' + '&#111;rg';
				var addy_textc23
 3e7462eafc504b6e8465f7268243e = 'n&#97;t&#117;r&#101;' + '&#64;' + 'dsh&#10
 1;ll' + '&#46;' + '&#111;dd&#111;tt&#101;r' + '&#46;' + '&#111;rg';document
 .getElementById('cloakc233e7462eafc504b6e8465f7268243e').innerHTML += '<a '
  + path + '\'' + prefix + ':' + addyc233e7462eafc504b6e8465f7268243e + '\'>
 '+addy_textc233e7462eafc504b6e8465f7268243e+'';
		) for Wednesday/Saturday 
 info.
DTSTAMP:20260426T022043
DTSTART;TZID=America/Tijuana:20161216T090000
DTEND;TZID=America/Tijuana:20161216T130000
SEQUENCE:0
TRANSP:OPAQUE
END:VEVENT
END:VCALENDAR