BEGIN:VCALENDAR
VERSION:2.0
PRODID:-//jEvents 2.0 for Joomla//EN
CALSCALE:GREGORIAN
METHOD:PUBLISH
BEGIN:VTIMEZONE
TZID:America/Tijuana
BEGIN:STANDARD
DTSTART:20151101T010000
RDATE:20160313T030000
TZOFFSETFROM:-0700
TZOFFSETTO:-0800
TZNAME:America/Tijuana PST
END:STANDARD
BEGIN:STANDARD
DTSTART:20161106T010000
RDATE:20170312T030000
TZOFFSETFROM:-0700
TZOFFSETTO:-0800
TZNAME:America/Tijuana PST
END:STANDARD
BEGIN:STANDARD
DTSTART:20171105T010000
RDATE:20180311T030000
TZOFFSETFROM:-0700
TZOFFSETTO:-0800
TZNAME:America/Tijuana PST
END:STANDARD
BEGIN:STANDARD
DTSTART:20181104T010000
RDATE:20190310T030000
TZOFFSETFROM:-0700
TZOFFSETTO:-0800
TZNAME:America/Tijuana PST
END:STANDARD
BEGIN:STANDARD
DTSTART:20191103T010000
RDATE:20200308T030000
TZOFFSETFROM:-0700
TZOFFSETTO:-0800
TZNAME:America/Tijuana PST
END:STANDARD
BEGIN:STANDARD
DTSTART:20201101T010000
RDATE:20210314T030000
TZOFFSETFROM:-0700
TZOFFSETTO:-0800
TZNAME:America/Tijuana PST
END:STANDARD
BEGIN:STANDARD
DTSTART:20211107T010000
RDATE:20220313T030000
TZOFFSETFROM:-0700
TZOFFSETTO:-0800
TZNAME:America/Tijuana PST
END:STANDARD
BEGIN:STANDARD
DTSTART:20221106T010000
RDATE:20230312T030000
TZOFFSETFROM:-0700
TZOFFSETTO:-0800
TZNAME:America/Tijuana PST
END:STANDARD
BEGIN:STANDARD
DTSTART:20231105T010000
RDATE:20240310T030000
TZOFFSETFROM:-0700
TZOFFSETTO:-0800
TZNAME:America/Tijuana PST
END:STANDARD
BEGIN:STANDARD
DTSTART:20241103T010000
RDATE:20250309T030000
TZOFFSETFROM:-0700
TZOFFSETTO:-0800
TZNAME:America/Tijuana PST
END:STANDARD
BEGIN:STANDARD
DTSTART:20251102T010000
RDATE:20260308T030000
TZOFFSETFROM:-0700
TZOFFSETTO:-0800
TZNAME:America/Tijuana PST
END:STANDARD
BEGIN:STANDARD
DTSTART:20261101T010000
RDATE:20270314T030000
TZOFFSETFROM:-0700
TZOFFSETTO:-0800
TZNAME:America/Tijuana PST
END:STANDARD
BEGIN:STANDARD
DTSTART:20271107T010000
RDATE:20280312T030000
TZOFFSETFROM:-0700
TZOFFSETTO:-0800
TZNAME:America/Tijuana PST
END:STANDARD
BEGIN:DAYLIGHT
DTSTART:20150921T100000
RDATE:20151101T010000
TZOFFSETFROM:-0800
TZOFFSETTO:-0700
TZNAME:America/Tijuana PDT
END:DAYLIGHT
BEGIN:DAYLIGHT
DTSTART:20160313T030000
RDATE:20161106T010000
TZOFFSETFROM:-0800
TZOFFSETTO:-0700
TZNAME:America/Tijuana PDT
END:DAYLIGHT
BEGIN:DAYLIGHT
DTSTART:20170312T030000
RDATE:20171105T010000
TZOFFSETFROM:-0800
TZOFFSETTO:-0700
TZNAME:America/Tijuana PDT
END:DAYLIGHT
BEGIN:DAYLIGHT
DTSTART:20180311T030000
RDATE:20181104T010000
TZOFFSETFROM:-0800
TZOFFSETTO:-0700
TZNAME:America/Tijuana PDT
END:DAYLIGHT
BEGIN:DAYLIGHT
DTSTART:20190310T030000
RDATE:20191103T010000
TZOFFSETFROM:-0800
TZOFFSETTO:-0700
TZNAME:America/Tijuana PDT
END:DAYLIGHT
BEGIN:DAYLIGHT
DTSTART:20200308T030000
RDATE:20201101T010000
TZOFFSETFROM:-0800
TZOFFSETTO:-0700
TZNAME:America/Tijuana PDT
END:DAYLIGHT
BEGIN:DAYLIGHT
DTSTART:20210314T030000
RDATE:20211107T010000
TZOFFSETFROM:-0800
TZOFFSETTO:-0700
TZNAME:America/Tijuana PDT
END:DAYLIGHT
BEGIN:DAYLIGHT
DTSTART:20220313T030000
RDATE:20221106T010000
TZOFFSETFROM:-0800
TZOFFSETTO:-0700
TZNAME:America/Tijuana PDT
END:DAYLIGHT
BEGIN:DAYLIGHT
DTSTART:20230312T030000
RDATE:20231105T010000
TZOFFSETFROM:-0800
TZOFFSETTO:-0700
TZNAME:America/Tijuana PDT
END:DAYLIGHT
BEGIN:DAYLIGHT
DTSTART:20240310T030000
RDATE:20241103T010000
TZOFFSETFROM:-0800
TZOFFSETTO:-0700
TZNAME:America/Tijuana PDT
END:DAYLIGHT
BEGIN:DAYLIGHT
DTSTART:20250309T030000
RDATE:20251102T010000
TZOFFSETFROM:-0800
TZOFFSETTO:-0700
TZNAME:America/Tijuana PDT
END:DAYLIGHT
BEGIN:DAYLIGHT
DTSTART:20260308T030000
RDATE:20261101T010000
TZOFFSETFROM:-0800
TZOFFSETTO:-0700
TZNAME:America/Tijuana PDT
END:DAYLIGHT
BEGIN:DAYLIGHT
DTSTART:20270314T030000
RDATE:20271107T010000
TZOFFSETFROM:-0800
TZOFFSETTO:-0700
TZNAME:America/Tijuana PDT
END:DAYLIGHT
END:VTIMEZONE
BEGIN:VEVENT
UID:731c3dcd648ba2134fd06dce89e13db8
CATEGORIES:Nursery
CREATED:20160404T110241
SUMMARY:Nursery Workday
LOCATION:Hidden Villa on Moody Road west of Foothill College.  26870 Moody Road in L
 os Altos\, CA\, or follow the directions below
DESCRIPTION:Native Plant Nursery Propagation WorkdaysCome help propagate plants for our
  next plant sale by volunteering at one of our nursery work sessions, every
  Wednesday and Thursday.  Bring garden gloves, sunhat, clippers, and liquid
 s and your lunch if you like.  Other tools will be provided at the nursery.
   Knowledge of plants is not necessary; your willingness to help is all tha
 t's required.\nHours: Between the spring and fall plant sales, we work from
  10am to 1pm.  Between the fall and spring plant sales, we work from 11am t
 o 2pm.\nFor more information, contact Vivian Neou at This email address is 
 being protected from spambots. You need JavaScript enabled to view it.
				
 document.getElementById('cloak1e27b705ab517d83d00ddc51564ee970').innerHTML 
 = '';
				var prefix = '&#109;a' + 'i&#108;' + '&#116;o';
				var path = 'h
 r' + 'ef' + '=';
				var addy1e27b705ab517d83d00ddc51564ee970 = 't&#101;chc
 h&#97;&#105;r' + '&#64;';
				addy1e27b705ab517d83d00ddc51564ee970 = addy1e
 27b705ab517d83d00ddc51564ee970 + 'cnps-scv' + '&#46;' + '&#111;rg';
				var
  addy_text1e27b705ab517d83d00ddc51564ee970 = 't&#101;chch&#97;&#105;r' + '&
 #64;' + 'cnps-scv' + '&#46;' + '&#111;rg';document.getElementById('cloak1e2
 7b705ab517d83d00ddc51564ee970').innerHTML += '<a ' + path + '\'' + prefix +
  ':' + addy1e27b705ab517d83d00ddc51564ee970 + '\'>'+addy_text1e27b705ab517d
 83d00ddc51564ee970+'';
		.\n
X-ALT-DESC;FMTTYPE=text/html:<h3>Native Plant Nursery Propagation Workdays</h3><p>Come help propagate pl
 ants for our next plant sale by volunteering at one of our nursery work ses
 sions, every <strong>Wednesday and Thursday</strong>.  Bring garden gloves,
  sunhat, clippers, and liquids and your lunch if you like.  Other tools wil
 l be provided at the nursery.  Knowledge of plants is not necessary; your w
 illingness to help is all that's required.</p><p><strong>Hours:</strong> Be
 tween the spring and fall plant sales, we work from <strong>10am to 1pm. </
 strong> Between the fall and spring plant sales, we work from <strong>11am 
 to 2pm</strong>.</p><p>For more information, contact Vivian Neou at <span i
 d="cloak1e27b705ab517d83d00ddc51564ee970">This email address is being prote
 cted from spambots. You need JavaScript enabled to view it.</span><script t
 ype='text/javascript'>
				document.getElementById('cloak1e27b705ab517d83d0
 0ddc51564ee970').innerHTML = '';
				var prefix = '&#109;a' + 'i&#108;' + '
 &#116;o';
				var path = 'hr' + 'ef' + '=';
				var addy1e27b705ab517d83d00
 ddc51564ee970 = 't&#101;chch&#97;&#105;r' + '&#64;';
				addy1e27b705ab517d
 83d00ddc51564ee970 = addy1e27b705ab517d83d00ddc51564ee970 + 'cnps-scv' + '&
 #46;' + '&#111;rg';
				var addy_text1e27b705ab517d83d00ddc51564ee970 = 't&
 #101;chch&#97;&#105;r' + '&#64;' + 'cnps-scv' + '&#46;' + '&#111;rg';docume
 nt.getElementById('cloak1e27b705ab517d83d00ddc51564ee970').innerHTML += '<a
  ' + path + '\'' + prefix + ':' + addy1e27b705ab517d83d00ddc51564ee970 + '\
 '>'+addy_text1e27b705ab517d83d00ddc51564ee970+'<\/a>';
		</script>.</p>
CONTACT:Melanie Cross at (650) 847-1350 or This email address is being protected from spambots. You need JavaScript enabled to view it.
				document.getElementById('cloak183710be0af4ce05888fffd50f2b077f').innerHTML = '';
				var prefix = '&#109;a' + 'i&#108;' + '&#116;o';
				var path = 'hr' + 'ef' + '=';
				var addy183710be0af4ce05888fffd50f2b077f = 'm&#101;l&#97;n&#105;&#101;' + '&#64;';
				addy183710be0af4ce05888fffd50f2b077f = addy183710be0af4ce05888fffd50f2b077f + 'pcr&#111;ss' + '&#46;' + 'c&#111;m';
				var addy_text183710be0af4ce05888fffd50f2b077f = 'm&#101;l&#97;n&#105;&#101;' + '&#64;' + 'pcr&#111;ss' + '&#46;' + 'c&#111;m';document.getElementById('cloak183710be0af4ce05888fffd50f2b077f').innerHTML += '<a ' + path + '\'' + prefix + ':' + addy183710be0af4ce05888fffd50f2b077f + '\'>'+addy_text183710be0af4ce05888fffd50f2b077f+'';
		; or Ray Deutsch at (650) 365-6136 or This email address is being protected from spambots. You need JavaScript enabled to view it.
				document.getElementById('cloak458944e0a1b4f9f5f25a7f37ab81ac13').innerHTML = '';
				var prefix = '&#109;a' + 'i&#108;' + '&#116;o';
				var path = 'hr' + 'ef' + '=';
				var addy458944e0a1b4f9f5f25a7f37ab81ac13 = 'r&#97;y.d&#101;&#117;tsch' + '&#64;';
				addy458944e0a1b4f9f5f25a7f37ab81ac13 = addy458944e0a1b4f9f5f25a7f37ab81ac13 + 'y&#97;h&#111;&#111;' + '&#46;' + 'c&#97;';
				var addy_text458944e0a1b4f9f5f25a7f37ab81ac13 = 'r&#97;y.d&#101;&#117;tsch' + '&#64;' + 'y&#97;h&#111;&#111;' + '&#46;' + 'c&#97;';document.getElementById('cloak458944e0a1b4f9f5f25a7f37ab81ac13').innerHTML += '<a ' + path + '\'' + prefix + ':' + addy458944e0a1b4f9f5f25a7f37ab81ac13 + '\'>'+addy_text458944e0a1b4f9f5f25a7f37ab81ac13+'';
		
X-EXTRAINFO:Directions: Hidden Villa is located on Moody Road west of Foothill College.
   From Hwy. 280 in Los Altos Hills, take the Moody Road exit and head west.
   Two miles west of Foothill College, look for the Hidden Villa sign and dr
 iveway on the left.  Proceed over the bridge and park in the visitor center
  parking lot to your right.  The Nursery is at the greenhouse just beyond t
 he visitor center.
DTSTAMP:20260420T043415
DTSTART;TZID=America/Tijuana:20160921T100000
DTEND;TZID=America/Tijuana:20160921T130000
SEQUENCE:0
TRANSP:OPAQUE
END:VEVENT
END:VCALENDAR