BEGIN:VCALENDAR
VERSION:2.0
PRODID:-//jEvents 2.0 for Joomla//EN
CALSCALE:GREGORIAN
METHOD:PUBLISH
BEGIN:VTIMEZONE
TZID:America/Tijuana
BEGIN:STANDARD
DTSTART:20151214T110000
RDATE:20160313T030000
TZOFFSETFROM:-0700
TZOFFSETTO:-0800
TZNAME:America/Tijuana PST
END:STANDARD
BEGIN:STANDARD
DTSTART:20161106T010000
RDATE:20170312T030000
TZOFFSETFROM:-0700
TZOFFSETTO:-0800
TZNAME:America/Tijuana PST
END:STANDARD
BEGIN:STANDARD
DTSTART:20171105T010000
RDATE:20180311T030000
TZOFFSETFROM:-0700
TZOFFSETTO:-0800
TZNAME:America/Tijuana PST
END:STANDARD
BEGIN:STANDARD
DTSTART:20181104T010000
RDATE:20190310T030000
TZOFFSETFROM:-0700
TZOFFSETTO:-0800
TZNAME:America/Tijuana PST
END:STANDARD
BEGIN:STANDARD
DTSTART:20191103T010000
RDATE:20200308T030000
TZOFFSETFROM:-0700
TZOFFSETTO:-0800
TZNAME:America/Tijuana PST
END:STANDARD
BEGIN:STANDARD
DTSTART:20201101T010000
RDATE:20210314T030000
TZOFFSETFROM:-0700
TZOFFSETTO:-0800
TZNAME:America/Tijuana PST
END:STANDARD
BEGIN:STANDARD
DTSTART:20211107T010000
RDATE:20220313T030000
TZOFFSETFROM:-0700
TZOFFSETTO:-0800
TZNAME:America/Tijuana PST
END:STANDARD
BEGIN:STANDARD
DTSTART:20221106T010000
RDATE:20230312T030000
TZOFFSETFROM:-0700
TZOFFSETTO:-0800
TZNAME:America/Tijuana PST
END:STANDARD
BEGIN:STANDARD
DTSTART:20231105T010000
RDATE:20240310T030000
TZOFFSETFROM:-0700
TZOFFSETTO:-0800
TZNAME:America/Tijuana PST
END:STANDARD
BEGIN:STANDARD
DTSTART:20241103T010000
RDATE:20250309T030000
TZOFFSETFROM:-0700
TZOFFSETTO:-0800
TZNAME:America/Tijuana PST
END:STANDARD
BEGIN:STANDARD
DTSTART:20251102T010000
RDATE:20260308T030000
TZOFFSETFROM:-0700
TZOFFSETTO:-0800
TZNAME:America/Tijuana PST
END:STANDARD
BEGIN:STANDARD
DTSTART:20261101T010000
RDATE:20270314T030000
TZOFFSETFROM:-0700
TZOFFSETTO:-0800
TZNAME:America/Tijuana PST
END:STANDARD
BEGIN:STANDARD
DTSTART:20271107T010000
RDATE:20280312T030000
TZOFFSETFROM:-0700
TZOFFSETTO:-0800
TZNAME:America/Tijuana PST
END:STANDARD
BEGIN:DAYLIGHT
DTSTART:20160313T030000
RDATE:20161106T010000
TZOFFSETFROM:-0800
TZOFFSETTO:-0700
TZNAME:America/Tijuana PDT
END:DAYLIGHT
BEGIN:DAYLIGHT
DTSTART:20170312T030000
RDATE:20171105T010000
TZOFFSETFROM:-0800
TZOFFSETTO:-0700
TZNAME:America/Tijuana PDT
END:DAYLIGHT
BEGIN:DAYLIGHT
DTSTART:20180311T030000
RDATE:20181104T010000
TZOFFSETFROM:-0800
TZOFFSETTO:-0700
TZNAME:America/Tijuana PDT
END:DAYLIGHT
BEGIN:DAYLIGHT
DTSTART:20190310T030000
RDATE:20191103T010000
TZOFFSETFROM:-0800
TZOFFSETTO:-0700
TZNAME:America/Tijuana PDT
END:DAYLIGHT
BEGIN:DAYLIGHT
DTSTART:20200308T030000
RDATE:20201101T010000
TZOFFSETFROM:-0800
TZOFFSETTO:-0700
TZNAME:America/Tijuana PDT
END:DAYLIGHT
BEGIN:DAYLIGHT
DTSTART:20210314T030000
RDATE:20211107T010000
TZOFFSETFROM:-0800
TZOFFSETTO:-0700
TZNAME:America/Tijuana PDT
END:DAYLIGHT
BEGIN:DAYLIGHT
DTSTART:20220313T030000
RDATE:20221106T010000
TZOFFSETFROM:-0800
TZOFFSETTO:-0700
TZNAME:America/Tijuana PDT
END:DAYLIGHT
BEGIN:DAYLIGHT
DTSTART:20230312T030000
RDATE:20231105T010000
TZOFFSETFROM:-0800
TZOFFSETTO:-0700
TZNAME:America/Tijuana PDT
END:DAYLIGHT
BEGIN:DAYLIGHT
DTSTART:20240310T030000
RDATE:20241103T010000
TZOFFSETFROM:-0800
TZOFFSETTO:-0700
TZNAME:America/Tijuana PDT
END:DAYLIGHT
BEGIN:DAYLIGHT
DTSTART:20250309T030000
RDATE:20251102T010000
TZOFFSETFROM:-0800
TZOFFSETTO:-0700
TZNAME:America/Tijuana PDT
END:DAYLIGHT
BEGIN:DAYLIGHT
DTSTART:20260308T030000
RDATE:20261101T010000
TZOFFSETFROM:-0800
TZOFFSETTO:-0700
TZNAME:America/Tijuana PDT
END:DAYLIGHT
BEGIN:DAYLIGHT
DTSTART:20270314T030000
RDATE:20271107T010000
TZOFFSETFROM:-0800
TZOFFSETTO:-0700
TZNAME:America/Tijuana PDT
END:DAYLIGHT
END:VTIMEZONE
BEGIN:VEVENT
UID:47bc630b718e0c3f8a1fd08ff80be4c6
CATEGORIES:Nursery
CREATED:20161009T133834
SUMMARY:Nursery Workday
LOCATION:Hidden Villa on Moody Road west of Foothill College.  26870 Moody Road in L
 os Altos\, CA\, or follow the directions below
DESCRIPTION:Native Plant Nursery Propagation WorkdaysCome help propagate plants for our
  next plant sale by volunteering at one of our nursery work sessions, every
  Wednesday and Thursday.  Bring garden gloves, sunhat, clippers, and liquid
 s and your lunch if you like.  Other tools will be provided at the nursery.
   Knowledge of plants is not necessary; your willingness to help is all tha
 t's required.\nHours: Between the spring and fall plant sales, we work from
  10am to 1pm.  Between the fall and spring plant sales, we work from 11am t
 o 2pm.\nFor more information, contact Vivian Neou at This email address is 
 being protected from spambots. You need JavaScript enabled to view it.
				
 document.getElementById('cloak7d30ccda7ada7233903e6562db94824c').innerHTML 
 = '';
				var prefix = '&#109;a' + 'i&#108;' + '&#116;o';
				var path = 'h
 r' + 'ef' + '=';
				var addy7d30ccda7ada7233903e6562db94824c = 't&#101;chc
 h&#97;&#105;r' + '&#64;';
				addy7d30ccda7ada7233903e6562db94824c = addy7d
 30ccda7ada7233903e6562db94824c + 'cnps-scv' + '&#46;' + '&#111;rg';
				var
  addy_text7d30ccda7ada7233903e6562db94824c = 't&#101;chch&#97;&#105;r' + '&
 #64;' + 'cnps-scv' + '&#46;' + '&#111;rg';document.getElementById('cloak7d3
 0ccda7ada7233903e6562db94824c').innerHTML += '<a ' + path + '\'' + prefix +
  ':' + addy7d30ccda7ada7233903e6562db94824c + '\'>'+addy_text7d30ccda7ada72
 33903e6562db94824c+'';
		.\n
X-ALT-DESC;FMTTYPE=text/html:<h3>Native Plant Nursery Propagation Workdays</h3><p>Come help propagate pl
 ants for our next plant sale by volunteering at one of our nursery work ses
 sions, every <strong>Wednesday and Thursday</strong>.  Bring garden gloves,
  sunhat, clippers, and liquids and your lunch if you like.  Other tools wil
 l be provided at the nursery.  Knowledge of plants is not necessary; your w
 illingness to help is all that's required.</p><p><strong>Hours:</strong> Be
 tween the spring and fall plant sales, we work from <strong>10am to 1pm. </
 strong> Between the fall and spring plant sales, we work from <strong>11am 
 to 2pm</strong>.</p><p>For more information, contact Vivian Neou at <span i
 d="cloak7d30ccda7ada7233903e6562db94824c">This email address is being prote
 cted from spambots. You need JavaScript enabled to view it.</span><script t
 ype='text/javascript'>
				document.getElementById('cloak7d30ccda7ada723390
 3e6562db94824c').innerHTML = '';
				var prefix = '&#109;a' + 'i&#108;' + '
 &#116;o';
				var path = 'hr' + 'ef' + '=';
				var addy7d30ccda7ada7233903
 e6562db94824c = 't&#101;chch&#97;&#105;r' + '&#64;';
				addy7d30ccda7ada72
 33903e6562db94824c = addy7d30ccda7ada7233903e6562db94824c + 'cnps-scv' + '&
 #46;' + '&#111;rg';
				var addy_text7d30ccda7ada7233903e6562db94824c = 't&
 #101;chch&#97;&#105;r' + '&#64;' + 'cnps-scv' + '&#46;' + '&#111;rg';docume
 nt.getElementById('cloak7d30ccda7ada7233903e6562db94824c').innerHTML += '<a
  ' + path + '\'' + prefix + ':' + addy7d30ccda7ada7233903e6562db94824c + '\
 '>'+addy_text7d30ccda7ada7233903e6562db94824c+'<\/a>';
		</script>.</p>
CONTACT:Melanie Cross at (650) 847-1350 or This email address is being protected from spambots. You need JavaScript enabled to view it.
				document.getElementById('cloakfd190199ec5e7ba697d349cc8a8d73aa').innerHTML = '';
				var prefix = '&#109;a' + 'i&#108;' + '&#116;o';
				var path = 'hr' + 'ef' + '=';
				var addyfd190199ec5e7ba697d349cc8a8d73aa = 'm&#101;l&#97;n&#105;&#101;' + '&#64;';
				addyfd190199ec5e7ba697d349cc8a8d73aa = addyfd190199ec5e7ba697d349cc8a8d73aa + 'pcr&#111;ss' + '&#46;' + 'c&#111;m';
				var addy_textfd190199ec5e7ba697d349cc8a8d73aa = 'm&#101;l&#97;n&#105;&#101;' + '&#64;' + 'pcr&#111;ss' + '&#46;' + 'c&#111;m';document.getElementById('cloakfd190199ec5e7ba697d349cc8a8d73aa').innerHTML += '<a ' + path + '\'' + prefix + ':' + addyfd190199ec5e7ba697d349cc8a8d73aa + '\'>'+addy_textfd190199ec5e7ba697d349cc8a8d73aa+'';
		; or Ray Deutsch at (650) 365-6136 or This email address is being protected from spambots. You need JavaScript enabled to view it.
				document.getElementById('cloakda522fa0ab7a08e5ffe4b92e65646e92').innerHTML = '';
				var prefix = '&#109;a' + 'i&#108;' + '&#116;o';
				var path = 'hr' + 'ef' + '=';
				var addyda522fa0ab7a08e5ffe4b92e65646e92 = 'r&#97;y.d&#101;&#117;tsch' + '&#64;';
				addyda522fa0ab7a08e5ffe4b92e65646e92 = addyda522fa0ab7a08e5ffe4b92e65646e92 + 'y&#97;h&#111;&#111;' + '&#46;' + 'c&#97;';
				var addy_textda522fa0ab7a08e5ffe4b92e65646e92 = 'r&#97;y.d&#101;&#117;tsch' + '&#64;' + 'y&#97;h&#111;&#111;' + '&#46;' + 'c&#97;';document.getElementById('cloakda522fa0ab7a08e5ffe4b92e65646e92').innerHTML += '<a ' + path + '\'' + prefix + ':' + addyda522fa0ab7a08e5ffe4b92e65646e92 + '\'>'+addy_textda522fa0ab7a08e5ffe4b92e65646e92+'';
		
X-EXTRAINFO:Directions: Hidden Villa is located on Moody Road west of Foothill College.
   From Hwy. 280 in Los Altos Hills, take the Moody Road exit and head west.
   Two miles west of Foothill College, look for the Hidden Villa sign and dr
 iveway on the left.  Proceed over the bridge and park in the visitor center
  parking lot to your right.  The Nursery is at the greenhouse just beyond t
 he visitor center.
DTSTAMP:20260422T174723
DTSTART;TZID=America/Tijuana:20161214T110000
DTEND;TZID=America/Tijuana:20161214T140000
SEQUENCE:0
TRANSP:OPAQUE
END:VEVENT
END:VCALENDAR